Workbook
Name あ百番: #REF!
Name 春男: #REF!
Name 女追加: [1]競技者データ!$H$4:$U$153
Name 男追加: [1]競技者データ!$G$4:$U$153
Name 長柄駅伝: #REF!
Name 入力セル: #REF!
Name 入力セル: #REF!
Name 入力セル: #REF!

Sheet 競技csv
B1: 競技コード | C1: 種目コード | D1: 種別コード | E1: 性別コード | F1: 競技名 | G1: 競技名カナ | H1: 競技名正式名称 | I1: 競技名英字 | J1: 標準記録A | K1: 標準記録B | L1: 記録FLGA | M1: 記録FLGB | N1: 入力FLG | O1: 学年FLG | Q1: 中学競技 | R1: 高校競技
A2: =IF(F2="","",F2) -> 一般男子100m | B2: 1 | C2: 226 | D2: 2 | E2: 1 | F2: 一般男子100m | G2: ｲｯﾊﾟﾝﾀﾞﾝｼ100m | H2: 一般男子100m | I2: Men | L2: 0 | M2: 0 | N2: 1 | O2: 1年2年3年
A3: =IF(F3="","",F3) -> 一般男子400m | B3: 2 | C3: 4 | D3: 2 | E3: 1 | F3: 一般男子400m | G3: ｲｯﾊﾟﾝﾀﾞﾝｼ400m | H3: 一般男子400m | I3: Men | L3: 0 | M3: 0 | N3: 2 | O3: 1年2年3年 | Q3: 中学男子100m | R3: 一般男子100m
A4: =IF(F4="","",F4) -> 一般男子1500m | B4: 3 | C4: 7 | D4: 2 | E4: 1 | F4: 一般男子1500m | G4: ｲｯﾊﾟﾝﾀﾞﾝｼ1500m | H4: 一般男子1500m | I4: Men | L4: 0 | M4: 0 | N4: 2 | O4: 1年2年3年 | Q4: 中学男子400m | R4: 一般男子400m
A5: =IF(F5="","",F5) -> 一般男子4X100mR | B5: 4 | C5: 30 | D5: 2 | E5: 1 | F5: 一般男子4X100mR | G5: ｲｯﾊﾟﾝﾀﾞﾝｼ4X100mR | H5: 一般男子4X100mR | I5: Men | L5: 0 | M5: 0 | N5: 2 | O5: 1年2年3年 | Q5: 中学男子800m | R5: 一般男子1500m
A6: =IF(F6="","",F6) -> 一般男子走高跳 | B6: 5 | C6: 34 | D6: 2 | E6: 1 | F6: 一般男子走高跳 | G6: ｲｯﾊﾟﾝﾀﾞﾝｼﾊｼﾘﾀｶﾄﾋﾞ | H6: 一般男子走高跳 | I6: Men | L6: 0 | M6: 0 | N6: 1 | O6: 1年2年3年 | Q6: 中学男子1500m | R6: 一般男子走高跳
A7: =IF(F7="","",F7) -> 一般男子走幅跳 | B7: 6 | C7: 36 | D7: 2 | E7: 1 | F7: 一般男子走幅跳 | G7: ｲｯﾊﾟﾝﾀﾞﾝｼﾊｼﾘﾊﾊﾞﾄﾋﾞ | H7: 一般男子走幅跳 | I7: Men | L7: 0 | M7: 0 | N7: 1 | O7: 1年2年3年 | Q7: 中学男子走高跳 | R7: 一般男子走幅跳
A8: =IF(F8="","",F8) -> 一般男子砲丸投(6.0kg) | B8: 7 | C8: 42 | D8: 2 | E8: 1 | F8: 一般男子砲丸投(6.0kg) | G8: ｲｯﾊﾟﾝﾀﾞﾝｼﾎｳｶﾞﾝﾅｹﾞ(6.000kg) | H8: 一般男子砲丸投(6.000kg) | I8: Men | L8: 0 | M8: 0 | N8: 1 | O8: 1年2年3年 | Q8: 中学男子走幅跳 | R8: 一般男子砲丸投(6.0kg)
A9: =IF(F9="","",F9) -> 中学男子100m | B9: 8 | C9: 226 | D9: 15 | E9: 1 | F9: 中学男子100m | G9: ﾁｭｳｶﾞｸﾀﾞﾝｼ100m | H9: 中学男子100m | I9: Men | L9: 0 | M9: 0 | N9: 1 | O9: 1年2年3年 | Q9: 中学男子砲丸投(4.0kg) | R9: 一般女子100m
A10: =IF(F10="","",F10) -> 中学男子400m | B10: 9 | C10: 4 | D10: 15 | E10: 1 | F10: 中学男子400m | G10: ﾁｭｳｶﾞｸﾀﾞﾝｼ400m | H10: 中学男子400m | I10: Men | L10: 0 | M10: 0 | N10: 2 | O10: 1年2年3年 | Q10: 中学男子ジャベリックスロｰ | R10: 一般女子400m
A11: =IF(F11="","",F11) -> 中学男子800m | B11: 10 | C11: 227 | D11: 15 | E11: 1 | F11: 中学男子800m | G11: ﾁｭｳｶﾞｸﾀﾞﾝｼ800m | H11: 中学男子800m | I11: Men | L11: 0 | M11: 0 | N11: 2 | O11: 1年2年3年 | Q11: 中学女子100m | R11: 一般女子1500m
A12: =IF(F12="","",F12) -> 中学男子1500m | B12: 11 | C12: 7 | D12: 15 | E12: 1 | F12: 中学男子1500m | G12: ﾁｭｳｶﾞｸﾀﾞﾝｼ1500m | H12: 中学男子1500m | I12: Men | L12: 0 | M12: 0 | N12: 2 | O12: 1年2年3年 | Q12: 中学女子800m | R12: 一般女子走高跳
A13: =IF(F13="","",F13) -> 中学男子4X100mR | B13: 12 | C13: 30 | D13: 15 | E13: 1 | F13: 中学男子4X100mR | G13: ﾁｭｳｶﾞｸﾀﾞﾝｼ4X100mR | H13: 中学男子4X100mR | I13: Men | L13: 0 | M13: 0 | N13: 2 | O13: 1年2年3年 | Q13: 中学女子1500m | R13: 一般女子走幅跳
A14: =IF(F14="","",F14) -> 中学男子走高跳 | B14: 13 | C14: 34 | D14: 15 | E14: 1 | F14: 中学男子走高跳 | G14: ﾁｭｳｶﾞｸﾀﾞﾝｼﾊｼﾘﾀｶﾄﾋﾞ | H14: 中学男子走高跳 | I14: Men | L14: 0 | M14: 0 | N14: 1 | O14: 1年2年3年 | Q14: 中学女子走高跳 | R14: 一般女子砲丸投
A15: =IF(F15="","",F15) -> 中学男子走幅跳 | B15: 14 | C15: 36 | D15: 15 | E15: 1 | F15: 中学男子走幅跳 | G15: ﾁｭｳｶﾞｸﾀﾞﾝｼﾊｼﾘﾊﾊﾞﾄﾋﾞ | H15: 中学男子走幅跳 | I15: Men | L15: 0 | M15: 0 | N15: 1 | O15: 1年2年3年 | Q15: 中学女子走幅跳
A16: =IF(F16="","",F16) -> 中学男子砲丸投(4.0kg) | B16: 15 | C16: 40 | D16: 15 | E16: 1 | F16: 中学男子砲丸投(4.0kg) | G16: ﾁｭｳｶﾞｸﾀﾞﾝｼﾎｳｶﾞﾝﾅｹﾞ(5.000kg) | H16: 中学男子砲丸投(4.000kg) | I16: Men | L16: 0 | M16: 0 | N16: 1 | O16: 1年2年3年 | Q16: 中学女子砲丸投
A17: =IF(F17="","",F17) -> 中学男子ジャベリックスロｰ | B17: 16 | C17: 72 | D17: 15 | E17: 1 | F17: 中学男子ジャベリックスロｰ | G17: ﾁｭｳｶﾞｸﾀﾞﾝｼｼﾞｬﾍﾞﾘｯｸｽﾛｰ | H17: 中学男子ジャベリックスロｰ | I17: Men | L17: 0 | M17: 0 | N17: 1 | O17: 1年2年3年 | Q17: 中学女子ジャベリックスロｰ
A18: =IF(F18="","",F18) -> 小学男子100m | B18: 17 | C18: 226 | D18: 20 | E18: 1 | F18: 小学男子100m | G18: ｼｮｳｶﾞｸﾀﾞﾝｼ100m | H18: 小学男子100m | I18: Men | L18: 0 | M18: 0 | N18: 1 | O18: 1年2年3年
A19: =IF(F19="","",F19) -> 小学男子1000m | B19: 18 | C19: 6 | D19: 20 | E19: 1 | F19: 小学男子1000m | G19: ｼｮｳｶﾞｸﾀﾞﾝｼ1000m | H19: 小学男子1000m | I19: Men | L19: 0 | M19: 0 | N19: 2 | O19: 1年2年3年
A20: =IF(F20="","",F20) -> 小学男子走幅跳 | B20: 19 | C20: 36 | D20: 20 | E20: 1 | F20: 小学男子走幅跳 | G20: ｼｮｳｶﾞｸﾀﾞﾝｼﾊｼﾘﾊﾊﾞﾄﾋﾞ | H20: 小学男子走幅跳 | I20: Men | L20: 0 | M20: 0 | N20: 1 | O20: 1年2年3年
A21: =IF(F21="","",F21) -> 一般女子100m | B21: 20 | C21: 226 | D21: 2 | E21: 2 | F21: 一般女子100m | G21: ｲｯﾊﾟﾝｼﾞｮｼ100m | H21: 一般女子100m | I21: Women | L21: 0 | M21: 0 | N21: 1 | O21: 1年2年3年
A22: =IF(F22="","",F22) -> 一般女子400m | B22: 21 | C22: 4 | D22: 2 | E22: 2 | F22: 一般女子400m | G22: ｲｯﾊﾟﾝｼﾞｮｼ400m | H22: 一般女子400m | I22: Women | L22: 0 | M22: 0 | N22: 2 | O22: 1年2年3年
A23: =IF(F23="","",F23) -> 一般女子1500m | B23: 22 | C23: 7 | D23: 2 | E23: 2 | F23: 一般女子1500m | G23: ｲｯﾊﾟﾝｼﾞｮｼ1500m | H23: 一般女子1500m | I23: Women | L23: 0 | M23: 0 | N23: 2 | O23: 1年2年3年
A24: =IF(F24="","",F24) -> 一般女子4X100mR | B24: 23 | C24: 30 | D24: 2 | E24: 2 | F24: 一般女子4X100mR | G24: ｲｯﾊﾟﾝｼﾞｮｼ4X100mR | H24: 一般女子4X100mR | I24: Women | L24: 0 | M24: 0 | N24: 2 | O24: 1年2年3年
A25: =IF(F25="","",F25) -> 一般女子走高跳 | B25: 24 | C25: 34 | D25: 2 | E25: 2 | F25: 一般女子走高跳 | G25: ｲｯﾊﾟﾝｼﾞｮｼﾊｼﾘﾀｶﾄﾋﾞ | H25: 一般女子走高跳 | I25: Women | L25: 0 | M25: 0 | N25: 1 | O25: 1年2年3年
A26: =IF(F26="","",F26) -> 一般女子走幅跳 | B26: 25 | C26: 36 | D26: 2 | E26: 2 | F26: 一般女子走幅跳 | G26: ｲｯﾊﾟﾝｼﾞｮｼﾊｼﾘﾊﾊﾞﾄﾋﾞ | H26: 一般女子走幅跳 | I26: Women | L26: 0 | M26: 0 | N26: 1 | O26: 1年2年3年
A27: =IF(F27="","",F27) -> 一般女子砲丸投 | B27: 26 | C27: 40 | D27: 2 | E27: 2 | F27: 一般女子砲丸投 | G27: ｲｯﾊﾟﾝｼﾞｮｼﾎｳｶﾞﾝﾅｹﾞ(4.000kg) | H27: 一般女子砲丸投(4.000kg) | I27: Women | L27: 0 | M27: 0 | N27: 1 | O27: 1年2年3年
A28: =IF(F28="","",F28) -> 中学女子100m | B28: 27 | C28: 226 | D28: 15 | E28: 2 | F28: 中学女子100m | G28: ﾁｭｳｶﾞｸｼﾞｮｼ100m | H28: 中学女子100m | I28: Women | L28: 0 | M28: 0 | N28: 1 | O28: 1年2年3年
A29: =IF(F29="","",F29) -> 中学女子800m | B29: 28 | C29: 227 | D29: 15 | E29: 2 | F29: 中学女子800m | G29: ﾁｭｳｶﾞｸｼﾞｮｼ800m | H29: 中学女子800m | I29: Women | L29: 0 | M29: 0 | N29: 2 | O29: 1年2年3年
... A38: =IF(F38="","",F38) -> 小学女子走幅跳 | B38: 37 | C38: 36 | D38: 20 | E38: 2 | F38: 小学女子走幅跳 | G38: ｼｮｳｶﾞｸｼﾞｮｼﾊｼﾘﾊﾊﾞﾄﾋﾞ | H38: 小学女子走幅跳 | I38: Women | L38: 0 | M38: 0 | N38: 1 | O38: 1年2年3年
A39: =IF(F39="","",F39)
A40: =IF(F40="","",F40)
A41: =IF(F41="","",F41)
A42: =IF(F42="","",F42)
A43: =IF(F43="","",F43)
A44: =IF(F44="","",F44)
A45: =IF(F45="","",F45)
A46: =IF(F46="","",F46)
A47: =IF(F47="","",F47)
A48: =IF(F48="","",F48)
A49: =IF(F49="","",F49)
A50: =IF(F50="","",F50)

Sheet 所属csv
B1: 所属コード | C1: 所属地コード | D1: 所属名 | E1: 所属名カナ | F1: 所属名略称 | G1: 所属名正式名称 | H1: 所属名英字
A2: =IF(F2="","",F2) | B2: =_xlfn.IFS(高校選手データ貼り付け!B1="","",TRUE,高校選手データ貼り付け!B1) | C2: =_xlfn.IFS(B2="","",TRUE,12) | D2: =_xlfn.IFS(高校選手データ貼り付け!P4="","",TRUE,高校選手データ貼り付け!P4&"高") | E2: =_xlfn.IFS(高校選手データ貼り付け!R4="","",TRUE,高校選手データ貼り付け!R4) | F2: =_xlfn.IFS(D2="","",TRUE,D2) | G2: =_xlfn.IFS(高校選手データ貼り付け!G4="","",TRUE,高校選手データ貼り付け!G4)
A3: =IF(F3="","",F3) -> 浦安中 | B3: 1 | C3: 12 | D3: 浦安中 | E3: ｳﾗﾔｽ | F3: 浦安中 | G3: 浦安中学校
A4: =IF(F4="","",F4) -> 下貝塚中 | B4: 2 | C4: 12 | D4: 下貝塚中 | E4: ｼﾓｶｲﾂﾞｶ | F4: 下貝塚中 | G4: 下貝塚中学校
A5: =IF(F5="","",F5) -> 高洲中 | B5: 3 | C5: 12 | D5: 高洲中 | E5: ﾀｶｽ | F5: 高洲中 | G5: 高洲中学校
A6: =IF(F6="","",F6) -> 高谷中 | B6: 4 | C6: 12 | D6: 高谷中 | E6: ｺｳﾔ | F6: 高谷中 | G6: 高谷中学校
A7: =IF(F7="","",F7) -> 市川中 | B7: 5 | C7: 12 | D7: 市川中 | E7: ｲﾁｶﾜ | F7: 市川中 | G7: 市川中学校
A8: =IF(F8="","",F8) -> 市川五中 | B8: 6 | C8: 12 | D8: 市川五中 | E8: ｲﾁｶﾜｺﾞ | F8: 市川五中 | G8: 市川第五中学校
A9: =IF(F9="","",F9) -> 市川四中 | B9: 8 | C9: 12 | D9: 市川四中 | E9: ｲﾁｶﾜﾖﾝ | F9: 市川四中 | G9: 市川第四中学校
A10: =IF(F10="","",F10) -> 市川二中 | B10: 9 | C10: 12 | D10: 市川二中 | E10: ｲﾁｶﾜﾆ | F10: 市川二中 | G10: 市川第二中学校
A11: =IF(F11="","",F11) -> 市川八中 | B11: 10 | C11: 12 | D11: 市川八中 | E11: ｲﾁｶﾜﾊﾁ | F11: 市川八中 | G11: 市川第八中学校
A12: =IF(F12="","",F12) -> 市川六中 | B12: 11 | C12: 12 | D12: 市川六中 | E12: ｲﾁｶﾜﾛｸ | F12: 市川六中 | G12: 市川第六中学校
A13: =IF(F13="","",F13) -> 昭和学院中 | B13: 12 | C13: 12 | D13: 昭和学院中 | E13: ｼｮｳﾜｶﾞｸｲﾝ | F13: 昭和学院中 | G13: 昭和学院中学校
A14: =IF(F14="","",F14) -> 大洲中 | B14: 13 | C14: 12 | D14: 大洲中 | E14: ｵｵｽﾞ | F14: 大洲中 | G14: 大洲中学校
... A28: =IF(F28="","",F28) -> 国府台女子中 | B28: 30 | C28: 12 | D28: 国府台女子中 | E28: ｺｳﾉﾀﾞｲｼﾞｮｼ | F28: 国府台女子中 | G28: 国府台女子学院中学部
A30: =IF(F30="","",F30)
A31: =IF(F31="","",F31)
A32: =IF(F32="","",F32)
A33: =IF(F33="","",F33)
A34: =IF(F34="","",F34)
A35: =IF(F35="","",F35)
A36: =IF(F36="","",F36)
A37: =IF(F37="","",F37)
A38: =IF(F38="","",F38)
A39: =IF(F39="","",F39)
A40: =IF(F40="","",F40)
A41: =IF(F41="","",F41)
... A50: =IF(F50="","",F50)

Sheet 高校男選手データ
A1: ナンバー | B1: 姓 | C1: 名 | D1: 支部 | E1: 所属 | F1: 学年 | G1: 登録日 | H1: 備考 | I1: 備考２ | J1: ﾌﾘｶﾞﾅ(姓) | K1: ﾌﾘｶﾞﾅ(名) | L1: FAMILY NAME | M1: Firstname | N1: Birthday | O1: 国籍
A2: {=_xlfn.IFS(高校選手データ貼り付け!B10="","",TRUE,高校選手データ貼り付け!B10)} | B2: {=_xlfn.IFS(A2="","",COUNTIF(高校選手データ貼り付け!D11," ")>0,LEFT(高校選手データ貼り付け!D11,FIND(" ",高校選手データ貼り付け!D11)-1),TRUE,LEFT(高校選手データ貼り付け!D11,FIND(" ",高校選手データ貼り付け!D11)-1))} | C2: {=_xlfn.IFS(A2="","",COUNTIF(高校選手データ貼り付け!D11," ")>0,RIGHT(高校選手データ貼り付け!D11,LEN(高校選手データ貼り付け!D11)-FIND(" ",高校選手データ貼り付け!D11)),TRUE,RIGHT(高校選手データ貼り付け!D11,LEN(高校選手データ貼り付け!D11)-FIND(" ",高校選手データ貼り付け!D11)))} | E2: {=_xlfn.IFS(A2="","",TRUE,高校選手データ貼り付け!$P$4&"高")} | F2: {=_xlfn.IFS(A2="","",TRUE,高校選手データ貼り付け!K10)} | J2: {=_xlfn.IFS(A2="","",COUNTIF(高校選手データ貼り付け!D10," ")>0,ASC(LEFT(高校選手データ貼り付け!D10,FIND(" ",高校選手データ貼り付け!D10)-1)),TRUE,ASC(LEFT(高校選手データ貼り付け!D10,FIND(" ",高校選手データ貼り付け!D10)-1)))} | K2: {=_xlfn.IFS(A2="","",COUNTIF(高校選手データ貼り付け!D10," ")>0,ASC(RIGHT(高校選手データ貼り付け!D10,LEN(高校選手データ貼り付け!D10)-FIND(" ",高校選手データ貼り付け!D10))),TRUE,ASC(RIGHT(高校選手データ貼り付け!D10,LEN(高校選手データ貼り付け!D10)-FIND(" ",高校選手データ貼り付け!D10))))} | N2: {=_xlfn.IFS(A2="","",TRUE,高校選手データ貼り付け!F10&"."&TEXT(高校選手データ貼り付け!H10,"00")&"."&TEXT(高校選手データ貼り付け!J10,"00"))} | O2: {=_xlfn.IFS(A2="","",TRUE,"JPN")} | P2: =LEFT(B2,FIND(" ",B2)-1) -> #VALUE! | Q2: =RIGHT(B2,LEN(B2)-FIND(" ",B2)) -> #VALUE! | R2: =ASC(LEFT(J2,FIND(" ",J2)-1)) -> #VALUE! | S2: =ASC(RIGHT(J2,LEN(J2)-FIND(" ",J2))) -> #VALUE! | T2: =LEFT(O2,FIND(" ",O2)-1) -> #VALUE! | U2: =E2&"高" -> 高
A3: {=_xlfn.IFS(高校選手データ貼り付け!B11="","",TRUE,高校選手データ貼り付け!B11)} | B3: {=_xlfn.IFS(A3="","",COUNTIF(高校選手データ貼り付け!D12," ")>0,LEFT(高校選手データ貼り付け!D12,FIND(" ",高校選手データ貼り付け!D12)-1),TRUE,LEFT(高校選手データ貼り付け!D12,FIND(" ",高校選手データ貼り付け!D12)-1))} | C3: {=_xlfn.IFS(A3="","",COUNTIF(高校選手データ貼り付け!D12," ")>0,RIGHT(高校選手データ貼り付け!D12,LEN(高校選手データ貼り付け!D12)-FIND(" ",高校選手データ貼り付け!D12)),TRUE,RIGHT(高校選手データ貼り付け!D12,LEN(高校選手データ貼り付け!D12)-FIND(" ",高校選手データ貼り付け!D12)))} | E3: {=_xlfn.IFS(A3="","",TRUE,高校選手データ貼り付け!$P$4&"高")} | F3: {=_xlfn.IFS(A3="","",TRUE,高校選手データ貼り付け!K11)} | J3: {=_xlfn.IFS(A3="","",COUNTIF(高校選手データ貼り付け!D11," ")>0,ASC(LEFT(高校選手データ貼り付け!D11,FIND(" ",高校選手データ貼り付け!D11)-1)),TRUE,ASC(LEFT(高校選手データ貼り付け!D11,FIND(" ",高校選手データ貼り付け!D11)-1)))} | K3: {=_xlfn.IFS(A3="","",COUNTIF(高校選手データ貼り付け!D11," ")>0,ASC(RIGHT(高校選手データ貼り付け!D11,LEN(高校選手データ貼り付け!D11)-FIND(" ",高校選手データ貼り付け!D11))),TRUE,ASC(RIGHT(高校選手データ貼り付け!D11,LEN(高校選手データ貼り付け!D11)-FIND(" ",高校選手データ貼り付け!D11))))} | N3: {=_xlfn.IFS(A3="","",TRUE,高校選手データ貼り付け!F11&"."&TEXT(高校選手データ貼り付け!H11,"00")&"."&TEXT(高校選手データ貼り付け!J11,"00"))} | O3: {=_xlfn.IFS(A3="","",TRUE,"JPN")} | P3: =LEFT(B3,FIND(" ",B3)-1) -> #VALUE! | Q3: =RIGHT(B3,LEN(B3)-FIND(" ",B3)) -> #VALUE! | R3: =ASC(LEFT(J3,FIND(" ",J3)-1)) -> #VALUE! | S3: =ASC(RIGHT(J3,LEN(J3)-FIND(" ",J3))) -> #VALUE! | T3: =LEFT(O3,FIND(" ",O3)-1) -> #VALUE! | U3: =E3&"高" -> 高
A4: {=_xlfn.IFS(高校選手データ貼り付け!B12="","",TRUE,高校選手データ貼り付け!B12)} | B4: {=_xlfn.IFS(A4="","",COUNTIF(高校選手データ貼り付け!D13," ")>0,LEFT(高校選手データ貼り付け!D13,FIND(" ",高校選手データ貼り付け!D13)-1),TRUE,LEFT(高校選手データ貼り付け!D13,FIND(" ",高校選手データ貼り付け!D13)-1))} | C4: {=_xlfn.IFS(A4="","",COUNTIF(高校選手データ貼り付け!D13," ")>0,RIGHT(高校選手データ貼り付け!D13,LEN(高校選手データ貼り付け!D13)-FIND(" ",高校選手データ貼り付け!D13)),TRUE,RIGHT(高校選手データ貼り付け!D13,LEN(高校選手データ貼り付け!D13)-FIND(" ",高校選手データ貼り付け!D13)))} | E4: {=_xlfn.IFS(A4="","",TRUE,高校選手データ貼り付け!$P$4&"高")} | F4: {=_xlfn.IFS(A4="","",TRUE,高校選手データ貼り付け!K12)} | J4: {=_xlfn.IFS(A4="","",COUNTIF(高校選手データ貼り付け!D12," ")>0,ASC(LEFT(高校選手データ貼り付け!D12,FIND(" ",高校選手データ貼り付け!D12)-1)),TRUE,ASC(LEFT(高校選手データ貼り付け!D12,FIND(" ",高校選手データ貼り付け!D12)-1)))} | K4: {=_xlfn.IFS(A4="","",COUNTIF(高校選手データ貼り付け!D12," ")>0,ASC(RIGHT(高校選手データ貼り付け!D12,LEN(高校選手データ貼り付け!D12)-FIND(" ",高校選手データ貼り付け!D12))),TRUE,ASC(RIGHT(高校選手データ貼り付け!D12,LEN(高校選手データ貼り付け!D12)-FIND(" ",高校選手データ貼り付け!D12))))} | N4: {=_xlfn.IFS(A4="","",TRUE,高校選手データ貼り付け!F12&"."&TEXT(高校選手データ貼り付け!H12,"00")&"."&TEXT(高校選手データ貼り付け!J12,"00"))} | O4: {=_xlfn.IFS(A4="","",TRUE,"JPN")} | P4: =LEFT(B4,FIND(" ",B4)-1) -> #VALUE! | Q4: =RIGHT(B4,LEN(B4)-FIND(" ",B4)) -> #VALUE! | R4: =ASC(LEFT(J4,FIND(" ",J4)-1)) -> #VALUE! | S4: =ASC(RIGHT(J4,LEN(J4)-FIND(" ",J4))) -> #VALUE! | T4: =LEFT(O4,FIND(" ",O4)-1) -> #VALUE! | U4: =E4&"高" -> 高
A5: {=_xlfn.IFS(高校選手データ貼り付け!B13="","",TRUE,高校選手データ貼り付け!B13)} | B5: {=_xlfn.IFS(A5="","",COUNTIF(高校選手データ貼り付け!D14," ")>0,LEFT(高校選手データ貼り付け!D14,FIND(" ",高校選手データ貼り付け!D14)-1),TRUE,LEFT(高校選手データ貼り付け!D14,FIND(" ",高校選手データ貼り付け!D14)-1))} | C5: {=_xlfn.IFS(A5="","",COUNTIF(高校選手データ貼り付け!D14," ")>0,RIGHT(高校選手データ貼り付け!D14,LEN(高校選手データ貼り付け!D14)-FIND(" ",高校選手データ貼り付け!D14)),TRUE,RIGHT(高校選手データ貼り付け!D14,LEN(高校選手データ貼り付け!D14)-FIND(" ",高校選手データ貼り付け!D14)))} | E5: {=_xlfn.IFS(A5="","",TRUE,高校選手データ貼り付け!$P$4&"高")} | F5: {=_xlfn.IFS(A5="","",TRUE,高校選手データ貼り付け!K13)} | J5: {=_xlfn.IFS(A5="","",COUNTIF(高校選手データ貼り付け!D13," ")>0,ASC(LEFT(高校選手データ貼り付け!D13,FIND(" ",高校選手データ貼り付け!D13)-1)),TRUE,ASC(LEFT(高校選手データ貼り付け!D13,FIND(" ",高校選手データ貼り付け!D13)-1)))} | K5: {=_xlfn.IFS(A5="","",COUNTIF(高校選手データ貼り付け!D13," ")>0,ASC(RIGHT(高校選手データ貼り付け!D13,LEN(高校選手データ貼り付け!D13)-FIND(" ",高校選手データ貼り付け!D13))),TRUE,ASC(RIGHT(高校選手データ貼り付け!D13,LEN(高校選手データ貼り付け!D13)-FIND(" ",高校選手データ貼り付け!D13))))} | N5: {=_xlfn.IFS(A5="","",TRUE,高校選手データ貼り付け!F13&"."&TEXT(高校選手データ貼り付け!H13,"00")&"."&TEXT(高校選手データ貼り付け!J13,"00"))} | O5: {=_xlfn.IFS(A5="","",TRUE,"JPN")} | P5: =LEFT(B5,FIND(" ",B5)-1) -> #VALUE! | Q5: =RIGHT(B5,LEN(B5)-FIND(" ",B5)) -> #VALUE! | R5: =ASC(LEFT(J5,FIND(" ",J5)-1)) -> #VALUE! | S5: =ASC(RIGHT(J5,LEN(J5)-FIND(" ",J5))) -> #VALUE! | T5: =LEFT(O5,FIND(" ",O5)-1) -> #VALUE! | U5: =E5&"高" -> 高
A6: {=_xlfn.IFS(高校選手データ貼り付け!B14="","",TRUE,高校選手データ貼り付け!B14)} | B6: {=_xlfn.IFS(A6="","",COUNTIF(高校選手データ貼り付け!D15," ")>0,LEFT(高校選手データ貼り付け!D15,FIND(" ",高校選手データ貼り付け!D15)-1),TRUE,LEFT(高校選手データ貼り付け!D15,FIND(" ",高校選手データ貼り付け!D15)-1))} | C6: {=_xlfn.IFS(A6="","",COUNTIF(高校選手データ貼り付け!D15," ")>0,RIGHT(高校選手データ貼り付け!D15,LEN(高校選手データ貼り付け!D15)-FIND(" ",高校選手データ貼り付け!D15)),TRUE,RIGHT(高校選手データ貼り付け!D15,LEN(高校選手データ貼り付け!D15)-FIND(" ",高校選手データ貼り付け!D15)))} | E6: {=_xlfn.IFS(A6="","",TRUE,高校選手データ貼り付け!$P$4&"高")} | F6: {=_xlfn.IFS(A6="","",TRUE,高校選手データ貼り付け!K14)} | J6: {=_xlfn.IFS(A6="","",COUNTIF(高校選手データ貼り付け!D14," ")>0,ASC(LEFT(高校選手データ貼り付け!D14,FIND(" ",高校選手データ貼り付け!D14)-1)),TRUE,ASC(LEFT(高校選手データ貼り付け!D14,FIND(" ",高校選手データ貼り付け!D14)-1)))} | K6: {=_xlfn.IFS(A6="","",COUNTIF(高校選手データ貼り付け!D14," ")>0,ASC(RIGHT(高校選手データ貼り付け!D14,LEN(高校選手データ貼り付け!D14)-FIND(" ",高校選手データ貼り付け!D14))),TRUE,ASC(RIGHT(高校選手データ貼り付け!D14,LEN(高校選手データ貼り付け!D14)-FIND(" ",高校選手データ貼り付け!D14))))} | N6: {=_xlfn.IFS(A6="","",TRUE,高校選手データ貼り付け!F14&"."&TEXT(高校選手データ貼り付け!H14,"00")&"."&TEXT(高校選手データ貼り付け!J14,"00"))} | O6: {=_xlfn.IFS(A6="","",TRUE,"JPN")} | P6: =LEFT(B6,FIND(" ",B6)-1) -> #VALUE! | Q6: =RIGHT(B6,LEN(B6)-FIND(" ",B6)) -> #VALUE! | R6: =ASC(LEFT(J6,FIND(" ",J6)-1)) -> #VALUE! | S6: =ASC(RIGHT(J6,LEN(J6)-FIND(" ",J6))) -> #VALUE! | T6: =LEFT(O6,FIND(" ",O6)-1) -> #VALUE! | U6: =E6&"高" -> 高
A7: {=_xlfn.IFS(高校選手データ貼り付け!B15="","",TRUE,高校選手データ貼り付け!B15)} | B7: {=_xlfn.IFS(A7="","",COUNTIF(高校選手データ貼り付け!D16," ")>0,LEFT(高校選手データ貼り付け!D16,FIND(" ",高校選手データ貼り付け!D16)-1),TRUE,LEFT(高校選手データ貼り付け!D16,FIND(" ",高校選手データ貼り付け!D16)-1))} | C7: {=_xlfn.IFS(A7="","",COUNTIF(高校選手データ貼り付け!D16," ")>0,RIGHT(高校選手データ貼り付け!D16,LEN(高校選手データ貼り付け!D16)-FIND(" ",高校選手データ貼り付け!D16)),TRUE,RIGHT(高校選手データ貼り付け!D16,LEN(高校選手データ貼り付け!D16)-FIND(" ",高校選手データ貼り付け!D16)))} | E7: {=_xlfn.IFS(A7="","",TRUE,高校選手データ貼り付け!$P$4&"高")} | F7: {=_xlfn.IFS(A7="","",TRUE,高校選手データ貼り付け!K15)} | J7: {=_xlfn.IFS(A7="","",COUNTIF(高校選手データ貼り付け!D15," ")>0,ASC(LEFT(高校選手データ貼り付け!D15,FIND(" ",高校選手データ貼り付け!D15)-1)),TRUE,ASC(LEFT(高校選手データ貼り付け!D15,FIND(" ",高校選手データ貼り付け!D15)-1)))} | K7: {=_xlfn.IFS(A7="","",COUNTIF(高校選手データ貼り付け!D15," ")>0,ASC(RIGHT(高校選手データ貼り付け!D15,LEN(高校選手データ貼り付け!D15)-FIND(" ",高校選手データ貼り付け!D15))),TRUE,ASC(RIGHT(高校選手データ貼り付け!D15,LEN(高校選手データ貼り付け!D15)-FIND(" ",高校選手データ貼り付け!D15))))} | N7: {=_xlfn.IFS(A7="","",TRUE,高校選手データ貼り付け!F15&"."&TEXT(高校選手データ貼り付け!H15,"00")&"."&TEXT(高校選手データ貼り付け!J15,"00"))} | O7: {=_xlfn.IFS(A7="","",TRUE,"JPN")} | P7: =LEFT(B7,FIND(" ",B7)-1) -> #VALUE! | Q7: =RIGHT(B7,LEN(B7)-FIND(" ",B7)) -> #VALUE! | R7: =ASC(LEFT(J7,FIND(" ",J7)-1)) -> #VALUE! | S7: =ASC(RIGHT(J7,LEN(J7)-FIND(" ",J7))) -> #VALUE! | T7: =LEFT(O7,FIND(" ",O7)-1) -> #VALUE! | U7: =E7&"高" -> 高
A8: {=_xlfn.IFS(高校選手データ貼り付け!B16="","",TRUE,高校選手データ貼り付け!B16)} | B8: {=_xlfn.IFS(A8="","",COUNTIF(高校選手データ貼り付け!D17," ")>0,LEFT(高校選手データ貼り付け!D17,FIND(" ",高校選手データ貼り付け!D17)-1),TRUE,LEFT(高校選手データ貼り付け!D17,FIND(" ",高校選手データ貼り付け!D17)-1))} | C8: {=_xlfn.IFS(A8="","",COUNTIF(高校選手データ貼り付け!D17," ")>0,RIGHT(高校選手データ貼り付け!D17,LEN(高校選手データ貼り付け!D17)-FIND(" ",高校選手データ貼り付け!D17)),TRUE,RIGHT(高校選手データ貼り付け!D17,LEN(高校選手データ貼り付け!D17)-FIND(" ",高校選手データ貼り付け!D17)))} | E8: {=_xlfn.IFS(A8="","",TRUE,高校選手データ貼り付け!$P$4&"高")} | F8: {=_xlfn.IFS(A8="","",TRUE,高校選手データ貼り付け!K16)} | J8: {=_xlfn.IFS(A8="","",COUNTIF(高校選手データ貼り付け!D16," ")>0,ASC(LEFT(高校選手データ貼り付け!D16,FIND(" ",高校選手データ貼り付け!D16)-1)),TRUE,ASC(LEFT(高校選手データ貼り付け!D16,FIND(" ",高校選手データ貼り付け!D16)-1)))} | K8: {=_xlfn.IFS(A8="","",COUNTIF(高校選手データ貼り付け!D16," ")>0,ASC(RIGHT(高校選手データ貼り付け!D16,LEN(高校選手データ貼り付け!D16)-FIND(" ",高校選手データ貼り付け!D16))),TRUE,ASC(RIGHT(高校選手データ貼り付け!D16,LEN(高校選手データ貼り付け!D16)-FIND(" ",高校選手データ貼り付け!D16))))} | N8: {=_xlfn.IFS(A8="","",TRUE,高校選手データ貼り付け!F16&"."&TEXT(高校選手データ貼り付け!H16,"00")&"."&TEXT(高校選手データ貼り付け!J16,"00"))} | O8: {=_xlfn.IFS(A8="","",TRUE,"JPN")} | P8: =LEFT(B8,FIND(" ",B8)-1) -> #VALUE! | Q8: =RIGHT(B8,LEN(B8)-FIND(" ",B8)) -> #VALUE! | R8: =ASC(LEFT(J8,FIND(" ",J8)-1)) -> #VALUE! | S8: =ASC(RIGHT(J8,LEN(J8)-FIND(" ",J8))) -> #VALUE! | T8: =LEFT(O8,FIND(" ",O8)-1) -> #VALUE! | U8: =E8&"高" -> 高
A9: {=_xlfn.IFS(高校選手データ貼り付け!B17="","",TRUE,高校選手データ貼り付け!B17)} | B9: {=_xlfn.IFS(A9="","",COUNTIF(高校選手データ貼り付け!D18," ")>0,LEFT(高校選手データ貼り付け!D18,FIND(" ",高校選手データ貼り付け!D18)-1),TRUE,LEFT(高校選手データ貼り付け!D18,FIND(" ",高校選手データ貼り付け!D18)-1))} | C9: {=_xlfn.IFS(A9="","",COUNTIF(高校選手データ貼り付け!D18," ")>0,RIGHT(高校選手データ貼り付け!D18,LEN(高校選手データ貼り付け!D18)-FIND(" ",高校選手データ貼り付け!D18)),TRUE,RIGHT(高校選手データ貼り付け!D18,LEN(高校選手データ貼り付け!D18)-FIND(" ",高校選手データ貼り付け!D18)))} | E9: {=_xlfn.IFS(A9="","",TRUE,高校選手データ貼り付け!$P$4&"高")} | F9: {=_xlfn.IFS(A9="","",TRUE,高校選手データ貼り付け!K17)} | J9: {=_xlfn.IFS(A9="","",COUNTIF(高校選手データ貼り付け!D17," ")>0,ASC(LEFT(高校選手データ貼り付け!D17,FIND(" ",高校選手データ貼り付け!D17)-1)),TRUE,ASC(LEFT(高校選手データ貼り付け!D17,FIND(" ",高校選手データ貼り付け!D17)-1)))} | K9: {=_xlfn.IFS(A9="","",COUNTIF(高校選手データ貼り付け!D17," ")>0,ASC(RIGHT(高校選手データ貼り付け!D17,LEN(高校選手データ貼り付け!D17)-FIND(" ",高校選手データ貼り付け!D17))),TRUE,ASC(RIGHT(高校選手データ貼り付け!D17,LEN(高校選手データ貼り付け!D17)-FIND(" ",高校選手データ貼り付け!D17))))} | N9: {=_xlfn.IFS(A9="","",TRUE,高校選手データ貼り付け!F17&"."&TEXT(高校選手データ貼り付け!H17,"00")&"."&TEXT(高校選手データ貼り付け!J17,"00"))} | O9: {=_xlfn.IFS(A9="","",TRUE,"JPN")} | P9: =LEFT(B9,FIND(" ",B9)-1) -> #VALUE! | Q9: =RIGHT(B9,LEN(B9)-FIND(" ",B9)) -> #VALUE! | R9: =ASC(LEFT(J9,FIND(" ",J9)-1)) -> #VALUE! | S9: =ASC(RIGHT(J9,LEN(J9)-FIND(" ",J9))) -> #VALUE! | T9: =LEFT(O9,FIND(" ",O9)-1) -> #VALUE! | U9: =E9&"高" -> 高
A10: {=_xlfn.IFS(高校選手データ貼り付け!B18="","",TRUE,高校選手データ貼り付け!B18)} | B10: {=_xlfn.IFS(A10="","",COUNTIF(高校選手データ貼り付け!D19," ")>0,LEFT(高校選手データ貼り付け!D19,FIND(" ",高校選手データ貼り付け!D19)-1),TRUE,LEFT(高校選手データ貼り付け!D19,FIND(" ",高校選手データ貼り付け!D19)-1))} | C10: {=_xlfn.IFS(A10="","",COUNTIF(高校選手データ貼り付け!D19," ")>0,RIGHT(高校選手データ貼り付け!D19,LEN(高校選手データ貼り付け!D19)-FIND(" ",高校選手データ貼り付け!D19)),TRUE,RIGHT(高校選手データ貼り付け!D19,LEN(高校選手データ貼り付け!D19)-FIND(" ",高校選手データ貼り付け!D19)))} | E10: {=_xlfn.IFS(A10="","",TRUE,高校選手データ貼り付け!$P$4&"高")} | F10: {=_xlfn.IFS(A10="","",TRUE,高校選手データ貼り付け!K18)} | J10: {=_xlfn.IFS(A10="","",COUNTIF(高校選手データ貼り付け!D18," ")>0,ASC(LEFT(高校選手データ貼り付け!D18,FIND(" ",高校選手データ貼り付け!D18)-1)),TRUE,ASC(LEFT(高校選手データ貼り付け!D18,FIND(" ",高校選手データ貼り付け!D18)-1)))} | K10: {=_xlfn.IFS(A10="","",COUNTIF(高校選手データ貼り付け!D18," ")>0,ASC(RIGHT(高校選手データ貼り付け!D18,LEN(高校選手データ貼り付け!D18)-FIND(" ",高校選手データ貼り付け!D18))),TRUE,ASC(RIGHT(高校選手データ貼り付け!D18,LEN(高校選手データ貼り付け!D18)-FIND(" ",高校選手データ貼り付け!D18))))} | N10: {=_xlfn.IFS(A10="","",TRUE,高校選手データ貼り付け!F18&"."&TEXT(高校選手データ貼り付け!H18,"00")&"."&TEXT(高校選手データ貼り付け!J18,"00"))} | O10: {=_xlfn.IFS(A10="","",TRUE,"JPN")} | P10: =LEFT(B10,FIND(" ",B10)-1) -> #VALUE! | Q10: =RIGHT(B10,LEN(B10)-FIND(" ",B10)) -> #VALUE! | R10: =ASC(LEFT(J10,FIND(" ",J10)-1)) -> #VALUE! | S10: =ASC(RIGHT(J10,LEN(J10)-FIND(" ",J10))) -> #VALUE! | T10: =LEFT(O10,FIND(" ",O10)-1) -> #VALUE! | U10: =E10&"高" -> 高
A11: {=_xlfn.IFS(高校選手データ貼り付け!B19="","",TRUE,高校選手データ貼り付け!B19)} | B11: {=_xlfn.IFS(A11="","",COUNTIF(高校選手データ貼り付け!D20," ")>0,LEFT(高校選手データ貼り付け!D20,FIND(" ",高校選手データ貼り付け!D20)-1),TRUE,LEFT(高校選手データ貼り付け!D20,FIND(" ",高校選手データ貼り付け!D20)-1))} | C11: {=_xlfn.IFS(A11="","",COUNTIF(高校選手データ貼り付け!D20," ")>0,RIGHT(高校選手データ貼り付け!D20,LEN(高校選手データ貼り付け!D20)-FIND(" ",高校選手データ貼り付け!D20)),TRUE,RIGHT(高校選手データ貼り付け!D20,LEN(高校選手データ貼り付け!D20)-FIND(" ",高校選手データ貼り付け!D20)))} | E11: {=_xlfn.IFS(A11="","",TRUE,高校選手データ貼り付け!$P$4&"高")} | F11: {=_xlfn.IFS(A11="","",TRUE,高校選手データ貼り付け!K19)} | J11: {=_xlfn.IFS(A11="","",COUNTIF(高校選手データ貼り付け!D19," ")>0,ASC(LEFT(高校選手データ貼り付け!D19,FIND(" ",高校選手データ貼り付け!D19)-1)),TRUE,ASC(LEFT(高校選手データ貼り付け!D19,FIND(" ",高校選手データ貼り付け!D19)-1)))} | K11: {=_xlfn.IFS(A11="","",COUNTIF(高校選手データ貼り付け!D19," ")>0,ASC(RIGHT(高校選手データ貼り付け!D19,LEN(高校選手データ貼り付け!D19)-FIND(" ",高校選手データ貼り付け!D19))),TRUE,ASC(RIGHT(高校選手データ貼り付け!D19,LEN(高校選手データ貼り付け!D19)-FIND(" ",高校選手データ貼り付け!D19))))} | N11: {=_xlfn.IFS(A11="","",TRUE,高校選手データ貼り付け!F19&"."&TEXT(高校選手データ貼り付け!H19,"00")&"."&TEXT(高校選手データ貼り付け!J19,"00"))} | O11: {=_xlfn.IFS(A11="","",TRUE,"JPN")} | P11: =LEFT(B11,FIND(" ",B11)-1) -> #VALUE! | Q11: =RIGHT(B11,LEN(B11)-FIND(" ",B11)) -> #VALUE! | R11: =ASC(LEFT(J11,FIND(" ",J11)-1)) -> #VALUE! | S11: =ASC(RIGHT(J11,LEN(J11)-FIND(" ",J11))) -> #VALUE! | T11: =LEFT(O11,FIND(" ",O11)-1) -> #VALUE! | U11: =E11&"高" -> 高
A12: {=_xlfn.IFS(高校選手データ貼り付け!B20="","",TRUE,高校選手データ貼り付け!B20)} | B12: {=_xlfn.IFS(A12="","",COUNTIF(高校選手データ貼り付け!D21," ")>0,LEFT(高校選手データ貼り付け!D21,FIND(" ",高校選手データ貼り付け!D21)-1),TRUE,LEFT(高校選手データ貼り付け!D21,FIND(" ",高校選手データ貼り付け!D21)-1))} | C12: {=_xlfn.IFS(A12="","",COUNTIF(高校選手データ貼り付け!D21," ")>0,RIGHT(高校選手データ貼り付け!D21,LEN(高校選手データ貼り付け!D21)-FIND(" ",高校選手データ貼り付け!D21)),TRUE,RIGHT(高校選手データ貼り付け!D21,LEN(高校選手データ貼り付け!D21)-FIND(" ",高校選手データ貼り付け!D21)))} | E12: {=_xlfn.IFS(A12="","",TRUE,高校選手データ貼り付け!$P$4&"高")} | F12: {=_xlfn.IFS(A12="","",TRUE,高校選手データ貼り付け!K20)} | J12: {=_xlfn.IFS(A12="","",COUNTIF(高校選手データ貼り付け!D20," ")>0,ASC(LEFT(高校選手データ貼り付け!D20,FIND(" ",高校選手データ貼り付け!D20)-1)),TRUE,ASC(LEFT(高校選手データ貼り付け!D20,FIND(" ",高校選手データ貼り付け!D20)-1)))} | K12: {=_xlfn.IFS(A12="","",COUNTIF(高校選手データ貼り付け!D20," ")>0,ASC(RIGHT(高校選手データ貼り付け!D20,LEN(高校選手データ貼り付け!D20)-FIND(" ",高校選手データ貼り付け!D20))),TRUE,ASC(RIGHT(高校選手データ貼り付け!D20,LEN(高校選手データ貼り付け!D20)-FIND(" ",高校選手データ貼り付け!D20))))} | N12: {=_xlfn.IFS(A12="","",TRUE,高校選手データ貼り付け!F20&"."&TEXT(高校選手データ貼り付け!H20,"00")&"."&TEXT(高校選手データ貼り付け!J20,"00"))} | O12: {=_xlfn.IFS(A12="","",TRUE,"JPN")} | P12: =LEFT(B12,FIND(" ",B12)-1) -> #VALUE! | Q12: =RIGHT(B12,LEN(B12)-FIND(" ",B12)) -> #VALUE! | R12: =ASC(LEFT(J12,FIND(" ",J12)-1)) -> #VALUE! | S12: =ASC(RIGHT(J12,LEN(J12)-FIND(" ",J12))) -> #VALUE! | T12: =LEFT(O12,FIND(" ",O12)-1) -> #VALUE! | U12: =E12&"高" -> 高
A13: {=_xlfn.IFS(高校選手データ貼り付け!B21="","",TRUE,高校選手データ貼り付け!B21)} | B13: {=_xlfn.IFS(A13="","",COUNTIF(高校選手データ貼り付け!D22," ")>0,LEFT(高校選手データ貼り付け!D22,FIND(" ",高校選手データ貼り付け!D22)-1),TRUE,LEFT(高校選手データ貼り付け!D22,FIND(" ",高校選手データ貼り付け!D22)-1))} | C13: {=_xlfn.IFS(A13="","",COUNTIF(高校選手データ貼り付け!D22," ")>0,RIGHT(高校選手データ貼り付け!D22,LEN(高校選手データ貼り付け!D22)-FIND(" ",高校選手データ貼り付け!D22)),TRUE,RIGHT(高校選手データ貼り付け!D22,LEN(高校選手データ貼り付け!D22)-FIND(" ",高校選手データ貼り付け!D22)))} | E13: {=_xlfn.IFS(A13="","",TRUE,高校選手データ貼り付け!$P$4&"高")} | F13: {=_xlfn.IFS(A13="","",TRUE,高校選手データ貼り付け!K21)} | J13: {=_xlfn.IFS(A13="","",COUNTIF(高校選手データ貼り付け!D21," ")>0,ASC(LEFT(高校選手データ貼り付け!D21,FIND(" ",高校選手データ貼り付け!D21)-1)),TRUE,ASC(LEFT(高校選手データ貼り付け!D21,FIND(" ",高校選手データ貼り付け!D21)-1)))} | K13: {=_xlfn.IFS(A13="","",COUNTIF(高校選手データ貼り付け!D21," ")>0,ASC(RIGHT(高校選手データ貼り付け!D21,LEN(高校選手データ貼り付け!D21)-FIND(" ",高校選手データ貼り付け!D21))),TRUE,ASC(RIGHT(高校選手データ貼り付け!D21,LEN(高校選手データ貼り付け!D21)-FIND(" ",高校選手データ貼り付け!D21))))} | N13: {=_xlfn.IFS(A13="","",TRUE,高校選手データ貼り付け!F21&"."&TEXT(高校選手データ貼り付け!H21,"00")&"."&TEXT(高校選手データ貼り付け!J21,"00"))} | O13: {=_xlfn.IFS(A13="","",TRUE,"JPN")} | P13: =LEFT(B13,FIND(" ",B13)-1) -> #VALUE! | Q13: =RIGHT(B13,LEN(B13)-FIND(" ",B13)) -> #VALUE! | R13: =ASC(LEFT(J13,FIND(" ",J13)-1)) -> #VALUE! | S13: =ASC(RIGHT(J13,LEN(J13)-FIND(" ",J13))) -> #VALUE! | T13: =LEFT(O13,FIND(" ",O13)-1) -> #VALUE! | U13: =E13&"高" -> 高
... A211: {=_xlfn.IFS(高校選手データ貼り付け!B219="","",TRUE,高校選手データ貼り付け!B219)} | B211: {=_xlfn.IFS(A211="","",COUNTIF(高校選手データ貼り付け!D220," ")>0,LEFT(高校選手データ貼り付け!D220,FIND(" ",高校選手データ貼り付け!D220)-1),TRUE,LEFT(高校選手データ貼り付け!D220,FIND(" ",高校選手データ貼り付け!D220)-1))} | C211: {=_xlfn.IFS(A211="","",COUNTIF(高校選手データ貼り付け!D220," ")>0,RIGHT(高校選手データ貼り付け!D220,LEN(高校選手データ貼り付け!D220)-FIND(" ",高校選手データ貼り付け!D220)),TRUE,RIGHT(高校選手データ貼り付け!D220,LEN(高校選手データ貼り付け!D220)-FIND(" ",高校選手データ貼り付け!D220)))} | E211: {=_xlfn.IFS(A211="","",TRUE,高校選手データ貼り付け!$P$4&"高")} | F211: {=_xlfn.IFS(A211="","",TRUE,高校選手データ貼り付け!K219)} | J211: {=_xlfn.IFS(A211="","",COUNTIF(高校選手データ貼り付け!D219," ")>0,ASC(LEFT(高校選手データ貼り付け!D219,FIND(" ",高校選手データ貼り付け!D219)-1)),TRUE,ASC(LEFT(高校選手データ貼り付け!D219,FIND(" ",高校選手データ貼り付け!D219)-1)))} | K211: {=_xlfn.IFS(A211="","",COUNTIF(高校選手データ貼り付け!D219," ")>0,ASC(RIGHT(高校選手データ貼り付け!D219,LEN(高校選手データ貼り付け!D219)-FIND(" ",高校選手データ貼り付け!D219))),TRUE,ASC(RIGHT(高校選手データ貼り付け!D219,LEN(高校選手データ貼り付け!D219)-FIND(" ",高校選手データ貼り付け!D219))))} | N211: {=_xlfn.IFS(A211="","",TRUE,高校選手データ貼り付け!F219&"."&TEXT(高校選手データ貼り付け!H219,"00")&"."&TEXT(高校選手データ貼り付け!J219,"00"))} | O211: {=_xlfn.IFS(A211="","",TRUE,"JPN")} | P211: =LEFT(B211,FIND(" ",B211)-1) -> #VALUE! | Q211: =RIGHT(B211,LEN(B211)-FIND(" ",B211)) -> #VALUE! | R211: =ASC(LEFT(J211,FIND(" ",J211)-1)) -> #VALUE! | S211: =ASC(RIGHT(J211,LEN(J211)-FIND(" ",J211))) -> #VALUE! | T211: =LEFT(O211,FIND(" ",O211)-1) -> #VALUE! | U211: =E211&"高" -> 高

Sheet 高校女選手データ
A1: ナンバー | B1: 姓 | C1: 名 | D1: 支部 | E1: 所属 | F1: 学年 | G1: 登録日 | H1: 備考 | I1: 備考２ | J1: ﾌﾘｶﾞﾅ(姓) | K1: ﾌﾘｶﾞﾅ(名) | L1: FAMILY NAME | M1: Firstname | N1: Birthday | O1: 国籍
A2: {=_xlfn.IFS(高校選手データ貼り付け!N10="","",TRUE,高校選手データ貼り付け!N10)} | B2: {=_xlfn.IFS(A2="","",COUNTIF(高校選手データ貼り付け!P11," ")>0,LEFT(高校選手データ貼り付け!P11,FIND(" ",高校選手データ貼り付け!P11)-1),TRUE,LEFT(高校選手データ貼り付け!P11,FIND(" ",高校選手データ貼り付け!P11)-1))} | C2: {=_xlfn.IFS(A2="","",COUNTIF(高校選手データ貼り付け!P11," ")>0,RIGHT(高校選手データ貼り付け!P11,LEN(高校選手データ貼り付け!P11)-FIND(" ",高校選手データ貼り付け!P11)),TRUE,RIGHT(高校選手データ貼り付け!P11,LEN(高校選手データ貼り付け!P11)-FIND(" ",高校選手データ貼り付け!P11)))} | E2: {=_xlfn.IFS(A2="","",TRUE,高校選手データ貼り付け!$P$4&"高")} | F2: {=_xlfn.IFS(A2="","",TRUE,高校選手データ貼り付け!W10)} | J2: {=_xlfn.IFS(A2="","",COUNTIF(高校選手データ貼り付け!P10," ")>0,ASC(LEFT(高校選手データ貼り付け!P10,FIND(" ",高校選手データ貼り付け!P10)-1)),TRUE,ASC(LEFT(高校選手データ貼り付け!P10,FIND(" ",高校選手データ貼り付け!P10)-1)))} | K2: {=_xlfn.IFS(A2="","",COUNTIF(高校選手データ貼り付け!P10," ")>0,ASC(RIGHT(高校選手データ貼り付け!P10,LEN(高校選手データ貼り付け!P10)-FIND(" ",高校選手データ貼り付け!P10))),TRUE,ASC(RIGHT(高校選手データ貼り付け!P10,LEN(高校選手データ貼り付け!P10)-FIND(" ",高校選手データ貼り付け!P10))))} | N2: {=_xlfn.IFS(A2="","",TRUE,高校選手データ貼り付け!R10&"."&TEXT(高校選手データ貼り付け!T10,"00")&"."&TEXT(高校選手データ貼り付け!V10,"00"))} | O2: {=_xlfn.IFS(A2="","",TRUE,"JPN")} | P2: =LEFT(B2,FIND(" ",B2)-1) -> #VALUE! | Q2: =RIGHT(B2,LEN(B2)-FIND(" ",B2)) -> #VALUE! | R2: =ASC(LEFT(J2,FIND(" ",J2)-1)) -> #VALUE! | S2: =ASC(RIGHT(J2,LEN(J2)-FIND(" ",J2))) -> #VALUE! | T2: =LEFT(O2,FIND(" ",O2)-1) -> #VALUE! | U2: =E2&"高" -> 高
A3: {=_xlfn.IFS(高校選手データ貼り付け!N11="","",TRUE,高校選手データ貼り付け!N11)} | B3: {=_xlfn.IFS(A3="","",COUNTIF(高校選手データ貼り付け!P12," ")>0,LEFT(高校選手データ貼り付け!P12,FIND(" ",高校選手データ貼り付け!P12)-1),TRUE,LEFT(高校選手データ貼り付け!P12,FIND(" ",高校選手データ貼り付け!P12)-1))} | C3: {=_xlfn.IFS(A3="","",COUNTIF(高校選手データ貼り付け!P12," ")>0,RIGHT(高校選手データ貼り付け!P12,LEN(高校選手データ貼り付け!P12)-FIND(" ",高校選手データ貼り付け!P12)),TRUE,RIGHT(高校選手データ貼り付け!P12,LEN(高校選手データ貼り付け!P12)-FIND(" ",高校選手データ貼り付け!P12)))} | E3: {=_xlfn.IFS(A3="","",TRUE,高校選手データ貼り付け!$P$4&"高")} | F3: {=_xlfn.IFS(A3="","",TRUE,高校選手データ貼り付け!W11)} | J3: {=_xlfn.IFS(A3="","",COUNTIF(高校選手データ貼り付け!P11," ")>0,ASC(LEFT(高校選手データ貼り付け!P11,FIND(" ",高校選手データ貼り付け!P11)-1)),TRUE,ASC(LEFT(高校選手データ貼り付け!P11,FIND(" ",高校選手データ貼り付け!P11)-1)))} | K3: {=_xlfn.IFS(A3="","",COUNTIF(高校選手データ貼り付け!P11," ")>0,ASC(RIGHT(高校選手データ貼り付け!P11,LEN(高校選手データ貼り付け!P11)-FIND(" ",高校選手データ貼り付け!P11))),TRUE,ASC(RIGHT(高校選手データ貼り付け!P11,LEN(高校選手データ貼り付け!P11)-FIND(" ",高校選手データ貼り付け!P11))))} | N3: {=_xlfn.IFS(A3="","",TRUE,高校選手データ貼り付け!R11&"."&TEXT(高校選手データ貼り付け!T11,"00")&"."&TEXT(高校選手データ貼り付け!V11,"00"))} | O3: {=_xlfn.IFS(A3="","",TRUE,"JPN")} | P3: =LEFT(B3,FIND(" ",B3)-1) -> #VALUE! | Q3: =RIGHT(B3,LEN(B3)-FIND(" ",B3)) -> #VALUE! | R3: =ASC(LEFT(J3,FIND(" ",J3)-1)) -> #VALUE! | S3: =ASC(RIGHT(J3,LEN(J3)-FIND(" ",J3))) -> #VALUE! | T3: =LEFT(O3,FIND(" ",O3)-1) -> #VALUE! | U3: =E3&"高" -> 高
A4: {=_xlfn.IFS(高校選手データ貼り付け!N12="","",TRUE,高校選手データ貼り付け!N12)} | B4: {=_xlfn.IFS(A4="","",COUNTIF(高校選手データ貼り付け!P13," ")>0,LEFT(高校選手データ貼り付け!P13,FIND(" ",高校選手データ貼り付け!P13)-1),TRUE,LEFT(高校選手データ貼り付け!P13,FIND(" ",高校選手データ貼り付け!P13)-1))} | C4: {=_xlfn.IFS(A4="","",COUNTIF(高校選手データ貼り付け!P13," ")>0,RIGHT(高校選手データ貼り付け!P13,LEN(高校選手データ貼り付け!P13)-FIND(" ",高校選手データ貼り付け!P13)),TRUE,RIGHT(高校選手データ貼り付け!P13,LEN(高校選手データ貼り付け!P13)-FIND(" ",高校選手データ貼り付け!P13)))} | E4: {=_xlfn.IFS(A4="","",TRUE,高校選手データ貼り付け!$P$4&"高")} | F4: {=_xlfn.IFS(A4="","",TRUE,高校選手データ貼り付け!W12)} | J4: {=_xlfn.IFS(A4="","",COUNTIF(高校選手データ貼り付け!P12," ")>0,ASC(LEFT(高校選手データ貼り付け!P12,FIND(" ",高校選手データ貼り付け!P12)-1)),TRUE,ASC(LEFT(高校選手データ貼り付け!P12,FIND(" ",高校選手データ貼り付け!P12)-1)))} | K4: {=_xlfn.IFS(A4="","",COUNTIF(高校選手データ貼り付け!P12," ")>0,ASC(RIGHT(高校選手データ貼り付け!P12,LEN(高校選手データ貼り付け!P12)-FIND(" ",高校選手データ貼り付け!P12))),TRUE,ASC(RIGHT(高校選手データ貼り付け!P12,LEN(高校選手データ貼り付け!P12)-FIND(" ",高校選手データ貼り付け!P12))))} | N4: {=_xlfn.IFS(A4="","",TRUE,高校選手データ貼り付け!R12&"."&TEXT(高校選手データ貼り付け!T12,"00")&"."&TEXT(高校選手データ貼り付け!V12,"00"))} | O4: {=_xlfn.IFS(A4="","",TRUE,"JPN")} | P4: =LEFT(B4,FIND(" ",B4)-1) -> #VALUE! | Q4: =RIGHT(B4,LEN(B4)-FIND(" ",B4)) -> #VALUE! | R4: =ASC(LEFT(J4,FIND(" ",J4)-1)) -> #VALUE! | S4: =ASC(RIGHT(J4,LEN(J4)-FIND(" ",J4))) -> #VALUE! | T4: =LEFT(O4,FIND(" ",O4)-1) -> #VALUE! | U4: =E4&"高" -> 高
A5: {=_xlfn.IFS(高校選手データ貼り付け!N13="","",TRUE,高校選手データ貼り付け!N13)} | B5: {=_xlfn.IFS(A5="","",COUNTIF(高校選手データ貼り付け!P14," ")>0,LEFT(高校選手データ貼り付け!P14,FIND(" ",高校選手データ貼り付け!P14)-1),TRUE,LEFT(高校選手データ貼り付け!P14,FIND(" ",高校選手データ貼り付け!P14)-1))} | C5: {=_xlfn.IFS(A5="","",COUNTIF(高校選手データ貼り付け!P14," ")>0,RIGHT(高校選手データ貼り付け!P14,LEN(高校選手データ貼り付け!P14)-FIND(" ",高校選手データ貼り付け!P14)),TRUE,RIGHT(高校選手データ貼り付け!P14,LEN(高校選手データ貼り付け!P14)-FIND(" ",高校選手データ貼り付け!P14)))} | E5: {=_xlfn.IFS(A5="","",TRUE,高校選手データ貼り付け!$P$4&"高")} | F5: {=_xlfn.IFS(A5="","",TRUE,高校選手データ貼り付け!W13)} | J5: {=_xlfn.IFS(A5="","",COUNTIF(高校選手データ貼り付け!P13," ")>0,ASC(LEFT(高校選手データ貼り付け!P13,FIND(" ",高校選手データ貼り付け!P13)-1)),TRUE,ASC(LEFT(高校選手データ貼り付け!P13,FIND(" ",高校選手データ貼り付け!P13)-1)))} | K5: {=_xlfn.IFS(A5="","",COUNTIF(高校選手データ貼り付け!P13," ")>0,ASC(RIGHT(高校選手データ貼り付け!P13,LEN(高校選手データ貼り付け!P13)-FIND(" ",高校選手データ貼り付け!P13))),TRUE,ASC(RIGHT(高校選手データ貼り付け!P13,LEN(高校選手データ貼り付け!P13)-FIND(" ",高校選手データ貼り付け!P13))))} | N5: {=_xlfn.IFS(A5="","",TRUE,高校選手データ貼り付け!R13&"."&TEXT(高校選手データ貼り付け!T13,"00")&"."&TEXT(高校選手データ貼り付け!V13,"00"))} | O5: {=_xlfn.IFS(A5="","",TRUE,"JPN")} | P5: =LEFT(B5,FIND(" ",B5)-1) -> #VALUE! | Q5: =RIGHT(B5,LEN(B5)-FIND(" ",B5)) -> #VALUE! | R5: =ASC(LEFT(J5,FIND(" ",J5)-1)) -> #VALUE! | S5: =ASC(RIGHT(J5,LEN(J5)-FIND(" ",J5))) -> #VALUE! | T5: =LEFT(O5,FIND(" ",O5)-1) -> #VALUE! | U5: =E5&"高" -> 高
A6: {=_xlfn.IFS(高校選手データ貼り付け!N14="","",TRUE,高校選手データ貼り付け!N14)} | B6: {=_xlfn.IFS(A6="","",COUNTIF(高校選手データ貼り付け!P15," ")>0,LEFT(高校選手データ貼り付け!P15,FIND(" ",高校選手データ貼り付け!P15)-1),TRUE,LEFT(高校選手データ貼り付け!P15,FIND(" ",高校選手データ貼り付け!P15)-1))} | C6: {=_xlfn.IFS(A6="","",COUNTIF(高校選手データ貼り付け!P15," ")>0,RIGHT(高校選手データ貼り付け!P15,LEN(高校選手データ貼り付け!P15)-FIND(" ",高校選手データ貼り付け!P15)),TRUE,RIGHT(高校選手データ貼り付け!P15,LEN(高校選手データ貼り付け!P15)-FIND(" ",高校選手データ貼り付け!P15)))} | E6: {=_xlfn.IFS(A6="","",TRUE,高校選手データ貼り付け!$P$4&"高")} | F6: {=_xlfn.IFS(A6="","",TRUE,高校選手データ貼り付け!W14)} | J6: {=_xlfn.IFS(A6="","",COUNTIF(高校選手データ貼り付け!P14," ")>0,ASC(LEFT(高校選手データ貼り付け!P14,FIND(" ",高校選手データ貼り付け!P14)-1)),TRUE,ASC(LEFT(高校選手データ貼り付け!P14,FIND(" ",高校選手データ貼り付け!P14)-1)))} | K6: {=_xlfn.IFS(A6="","",COUNTIF(高校選手データ貼り付け!P14," ")>0,ASC(RIGHT(高校選手データ貼り付け!P14,LEN(高校選手データ貼り付け!P14)-FIND(" ",高校選手データ貼り付け!P14))),TRUE,ASC(RIGHT(高校選手データ貼り付け!P14,LEN(高校選手データ貼り付け!P14)-FIND(" ",高校選手データ貼り付け!P14))))} | N6: {=_xlfn.IFS(A6="","",TRUE,高校選手データ貼り付け!R14&"."&TEXT(高校選手データ貼り付け!T14,"00")&"."&TEXT(高校選手データ貼り付け!V14,"00"))} | O6: {=_xlfn.IFS(A6="","",TRUE,"JPN")} | P6: =LEFT(B6,FIND(" ",B6)-1) -> #VALUE! | Q6: =RIGHT(B6,LEN(B6)-FIND(" ",B6)) -> #VALUE! | R6: =ASC(LEFT(J6,FIND(" ",J6)-1)) -> #VALUE! | S6: =ASC(RIGHT(J6,LEN(J6)-FIND(" ",J6))) -> #VALUE! | T6: =LEFT(O6,FIND(" ",O6)-1) -> #VALUE! | U6: =E6&"高" -> 高
A7: {=_xlfn.IFS(高校選手データ貼り付け!N15="","",TRUE,高校選手データ貼り付け!N15)} | B7: {=_xlfn.IFS(A7="","",COUNTIF(高校選手データ貼り付け!P16," ")>0,LEFT(高校選手データ貼り付け!P16,FIND(" ",高校選手データ貼り付け!P16)-1),TRUE,LEFT(高校選手データ貼り付け!P16,FIND(" ",高校選手データ貼り付け!P16)-1))} | C7: {=_xlfn.IFS(A7="","",COUNTIF(高校選手データ貼り付け!P16," ")>0,RIGHT(高校選手データ貼り付け!P16,LEN(高校選手データ貼り付け!P16)-FIND(" ",高校選手データ貼り付け!P16)),TRUE,RIGHT(高校選手データ貼り付け!P16,LEN(高校選手データ貼り付け!P16)-FIND(" ",高校選手データ貼り付け!P16)))} | E7: {=_xlfn.IFS(A7="","",TRUE,高校選手データ貼り付け!$P$4&"高")} | F7: {=_xlfn.IFS(A7="","",TRUE,高校選手データ貼り付け!W15)} | J7: {=_xlfn.IFS(A7="","",COUNTIF(高校選手データ貼り付け!P15," ")>0,ASC(LEFT(高校選手データ貼り付け!P15,FIND(" ",高校選手データ貼り付け!P15)-1)),TRUE,ASC(LEFT(高校選手データ貼り付け!P15,FIND(" ",高校選手データ貼り付け!P15)-1)))} | K7: {=_xlfn.IFS(A7="","",COUNTIF(高校選手データ貼り付け!P15," ")>0,ASC(RIGHT(高校選手データ貼り付け!P15,LEN(高校選手データ貼り付け!P15)-FIND(" ",高校選手データ貼り付け!P15))),TRUE,ASC(RIGHT(高校選手データ貼り付け!P15,LEN(高校選手データ貼り付け!P15)-FIND(" ",高校選手データ貼り付け!P15))))} | N7: {=_xlfn.IFS(A7="","",TRUE,高校選手データ貼り付け!R15&"."&TEXT(高校選手データ貼り付け!T15,"00")&"."&TEXT(高校選手データ貼り付け!V15,"00"))} | O7: {=_xlfn.IFS(A7="","",TRUE,"JPN")} | P7: =LEFT(B7,FIND(" ",B7)-1) -> #VALUE! | Q7: =RIGHT(B7,LEN(B7)-FIND(" ",B7)) -> #VALUE! | R7: =ASC(LEFT(J7,FIND(" ",J7)-1)) -> #VALUE! | S7: =ASC(RIGHT(J7,LEN(J7)-FIND(" ",J7))) -> #VALUE! | T7: =LEFT(O7,FIND(" ",O7)-1) -> #VALUE! | U7: =E7&"高" -> 高
A8: {=_xlfn.IFS(高校選手データ貼り付け!N16="","",TRUE,高校選手データ貼り付け!N16)} | B8: {=_xlfn.IFS(A8="","",COUNTIF(高校選手データ貼り付け!P17," ")>0,LEFT(高校選手データ貼り付け!P17,FIND(" ",高校選手データ貼り付け!P17)-1),TRUE,LEFT(高校選手データ貼り付け!P17,FIND(" ",高校選手データ貼り付け!P17)-1))} | C8: {=_xlfn.IFS(A8="","",COUNTIF(高校選手データ貼り付け!P17," ")>0,RIGHT(高校選手データ貼り付け!P17,LEN(高校選手データ貼り付け!P17)-FIND(" ",高校選手データ貼り付け!P17)),TRUE,RIGHT(高校選手データ貼り付け!P17,LEN(高校選手データ貼り付け!P17)-FIND(" ",高校選手データ貼り付け!P17)))} | E8: {=_xlfn.IFS(A8="","",TRUE,高校選手データ貼り付け!$P$4&"高")} | F8: {=_xlfn.IFS(A8="","",TRUE,高校選手データ貼り付け!W16)} | J8: {=_xlfn.IFS(A8="","",COUNTIF(高校選手データ貼り付け!P16," ")>0,ASC(LEFT(高校選手データ貼り付け!P16,FIND(" ",高校選手データ貼り付け!P16)-1)),TRUE,ASC(LEFT(高校選手データ貼り付け!P16,FIND(" ",高校選手データ貼り付け!P16)-1)))} | K8: {=_xlfn.IFS(A8="","",COUNTIF(高校選手データ貼り付け!P16," ")>0,ASC(RIGHT(高校選手データ貼り付け!P16,LEN(高校選手データ貼り付け!P16)-FIND(" ",高校選手データ貼り付け!P16))),TRUE,ASC(RIGHT(高校選手データ貼り付け!P16,LEN(高校選手データ貼り付け!P16)-FIND(" ",高校選手データ貼り付け!P16))))} | N8: {=_xlfn.IFS(A8="","",TRUE,高校選手データ貼り付け!R16&"."&TEXT(高校選手データ貼り付け!T16,"00")&"."&TEXT(高校選手データ貼り付け!V16,"00"))} | O8: {=_xlfn.IFS(A8="","",TRUE,"JPN")} | P8: =LEFT(B8,FIND(" ",B8)-1) -> #VALUE! | Q8: =RIGHT(B8,LEN(B8)-FIND(" ",B8)) -> #VALUE! | R8: =ASC(LEFT(J8,FIND(" ",J8)-1)) -> #VALUE! | S8: =ASC(RIGHT(J8,LEN(J8)-FIND(" ",J8))) -> #VALUE! | T8: =LEFT(O8,FIND(" ",O8)-1) -> #VALUE! | U8: =E8&"高" -> 高
A9: {=_xlfn.IFS(高校選手データ貼り付け!N17="","",TRUE,高校選手データ貼り付け!N17)} | B9: {=_xlfn.IFS(A9="","",COUNTIF(高校選手データ貼り付け!P18," ")>0,LEFT(高校選手データ貼り付け!P18,FIND(" ",高校選手データ貼り付け!P18)-1),TRUE,LEFT(高校選手データ貼り付け!P18,FIND(" ",高校選手データ貼り付け!P18)-1))} | C9: {=_xlfn.IFS(A9="","",COUNTIF(高校選手データ貼り付け!P18," ")>0,RIGHT(高校選手データ貼り付け!P18,LEN(高校選手データ貼り付け!P18)-FIND(" ",高校選手データ貼り付け!P18)),TRUE,RIGHT(高校選手データ貼り付け!P18,LEN(高校選手データ貼り付け!P18)-FIND(" ",高校選手データ貼り付け!P18)))} | E9: {=_xlfn.IFS(A9="","",TRUE,高校選手データ貼り付け!$P$4&"高")} | F9: {=_xlfn.IFS(A9="","",TRUE,高校選手データ貼り付け!W17)} | J9: {=_xlfn.IFS(A9="","",COUNTIF(高校選手データ貼り付け!P17," ")>0,ASC(LEFT(高校選手データ貼り付け!P17,FIND(" ",高校選手データ貼り付け!P17)-1)),TRUE,ASC(LEFT(高校選手データ貼り付け!P17,FIND(" ",高校選手データ貼り付け!P17)-1)))} | K9: {=_xlfn.IFS(A9="","",COUNTIF(高校選手データ貼り付け!P17," ")>0,ASC(RIGHT(高校選手データ貼り付け!P17,LEN(高校選手データ貼り付け!P17)-FIND(" ",高校選手データ貼り付け!P17))),TRUE,ASC(RIGHT(高校選手データ貼り付け!P17,LEN(高校選手データ貼り付け!P17)-FIND(" ",高校選手データ貼り付け!P17))))} | N9: {=_xlfn.IFS(A9="","",TRUE,高校選手データ貼り付け!R17&"."&TEXT(高校選手データ貼り付け!T17,"00")&"."&TEXT(高校選手データ貼り付け!V17,"00"))} | O9: {=_xlfn.IFS(A9="","",TRUE,"JPN")} | P9: =LEFT(B9,FIND(" ",B9)-1) -> #VALUE! | Q9: =RIGHT(B9,LEN(B9)-FIND(" ",B9)) -> #VALUE! | R9: =ASC(LEFT(J9,FIND(" ",J9)-1)) -> #VALUE! | S9: =ASC(RIGHT(J9,LEN(J9)-FIND(" ",J9))) -> #VALUE! | T9: =LEFT(O9,FIND(" ",O9)-1) -> #VALUE! | U9: =E9&"高" -> 高
A10: {=_xlfn.IFS(高校選手データ貼り付け!N18="","",TRUE,高校選手データ貼り付け!N18)} | B10: {=_xlfn.IFS(A10="","",COUNTIF(高校選手データ貼り付け!P19," ")>0,LEFT(高校選手データ貼り付け!P19,FIND(" ",高校選手データ貼り付け!P19)-1),TRUE,LEFT(高校選手データ貼り付け!P19,FIND(" ",高校選手データ貼り付け!P19)-1))} | C10: {=_xlfn.IFS(A10="","",COUNTIF(高校選手データ貼り付け!P19," ")>0,RIGHT(高校選手データ貼り付け!P19,LEN(高校選手データ貼り付け!P19)-FIND(" ",高校選手データ貼り付け!P19)),TRUE,RIGHT(高校選手データ貼り付け!P19,LEN(高校選手データ貼り付け!P19)-FIND(" ",高校選手データ貼り付け!P19)))} | E10: {=_xlfn.IFS(A10="","",TRUE,高校選手データ貼り付け!$P$4&"高")} | F10: {=_xlfn.IFS(A10="","",TRUE,高校選手データ貼り付け!W18)} | J10: {=_xlfn.IFS(A10="","",COUNTIF(高校選手データ貼り付け!P18," ")>0,ASC(LEFT(高校選手データ貼り付け!P18,FIND(" ",高校選手データ貼り付け!P18)-1)),TRUE,ASC(LEFT(高校選手データ貼り付け!P18,FIND(" ",高校選手データ貼り付け!P18)-1)))} | K10: {=_xlfn.IFS(A10="","",COUNTIF(高校選手データ貼り付け!P18," ")>0,ASC(RIGHT(高校選手データ貼り付け!P18,LEN(高校選手データ貼り付け!P18)-FIND(" ",高校選手データ貼り付け!P18))),TRUE,ASC(RIGHT(高校選手データ貼り付け!P18,LEN(高校選手データ貼り付け!P18)-FIND(" ",高校選手データ貼り付け!P18))))} | N10: {=_xlfn.IFS(A10="","",TRUE,高校選手データ貼り付け!R18&"."&TEXT(高校選手データ貼り付け!T18,"00")&"."&TEXT(高校選手データ貼り付け!V18,"00"))} | O10: {=_xlfn.IFS(A10="","",TRUE,"JPN")} | P10: =LEFT(B10,FIND(" ",B10)-1) -> #VALUE! | Q10: =RIGHT(B10,LEN(B10)-FIND(" ",B10)) -> #VALUE! | R10: =ASC(LEFT(J10,FIND(" ",J10)-1)) -> #VALUE! | S10: =ASC(RIGHT(J10,LEN(J10)-FIND(" ",J10))) -> #VALUE! | T10: =LEFT(O10,FIND(" ",O10)-1) -> #VALUE! | U10: =E10&"高" -> 高
A11: {=_xlfn.IFS(高校選手データ貼り付け!N19="","",TRUE,高校選手データ貼り付け!N19)} | B11: {=_xlfn.IFS(A11="","",COUNTIF(高校選手データ貼り付け!P20," ")>0,LEFT(高校選手データ貼り付け!P20,FIND(" ",高校選手データ貼り付け!P20)-1),TRUE,LEFT(高校選手データ貼り付け!P20,FIND(" ",高校選手データ貼り付け!P20)-1))} | C11: {=_xlfn.IFS(A11="","",COUNTIF(高校選手データ貼り付け!P20," ")>0,RIGHT(高校選手データ貼り付け!P20,LEN(高校選手データ貼り付け!P20)-FIND(" ",高校選手データ貼り付け!P20)),TRUE,RIGHT(高校選手データ貼り付け!P20,LEN(高校選手データ貼り付け!P20)-FIND(" ",高校選手データ貼り付け!P20)))} | E11: {=_xlfn.IFS(A11="","",TRUE,高校選手データ貼り付け!$P$4&"高")} | F11: {=_xlfn.IFS(A11="","",TRUE,高校選手データ貼り付け!W19)} | J11: {=_xlfn.IFS(A11="","",COUNTIF(高校選手データ貼り付け!P19," ")>0,ASC(LEFT(高校選手データ貼り付け!P19,FIND(" ",高校選手データ貼り付け!P19)-1)),TRUE,ASC(LEFT(高校選手データ貼り付け!P19,FIND(" ",高校選手データ貼り付け!P19)-1)))} | K11: {=_xlfn.IFS(A11="","",COUNTIF(高校選手データ貼り付け!P19," ")>0,ASC(RIGHT(高校選手データ貼り付け!P19,LEN(高校選手データ貼り付け!P19)-FIND(" ",高校選手データ貼り付け!P19))),TRUE,ASC(RIGHT(高校選手データ貼り付け!P19,LEN(高校選手データ貼り付け!P19)-FIND(" ",高校選手データ貼り付け!P19))))} | N11: {=_xlfn.IFS(A11="","",TRUE,高校選手データ貼り付け!R19&"."&TEXT(高校選手データ貼り付け!T19,"00")&"."&TEXT(高校選手データ貼り付け!V19,"00"))} | O11: {=_xlfn.IFS(A11="","",TRUE,"JPN")} | P11: =LEFT(B11,FIND(" ",B11)-1) -> #VALUE! | Q11: =RIGHT(B11,LEN(B11)-FIND(" ",B11)) -> #VALUE! | R11: =ASC(LEFT(J11,FIND(" ",J11)-1)) -> #VALUE! | S11: =ASC(RIGHT(J11,LEN(J11)-FIND(" ",J11))) -> #VALUE! | T11: =LEFT(O11,FIND(" ",O11)-1) -> #VALUE! | U11: =E11&"高" -> 高
A12: {=_xlfn.IFS(高校選手データ貼り付け!N20="","",TRUE,高校選手データ貼り付け!N20)} | B12: {=_xlfn.IFS(A12="","",COUNTIF(高校選手データ貼り付け!P21," ")>0,LEFT(高校選手データ貼り付け!P21,FIND(" ",高校選手データ貼り付け!P21)-1),TRUE,LEFT(高校選手データ貼り付け!P21,FIND(" ",高校選手データ貼り付け!P21)-1))} | C12: {=_xlfn.IFS(A12="","",COUNTIF(高校選手データ貼り付け!P21," ")>0,RIGHT(高校選手データ貼り付け!P21,LEN(高校選手データ貼り付け!P21)-FIND(" ",高校選手データ貼り付け!P21)),TRUE,RIGHT(高校選手データ貼り付け!P21,LEN(高校選手データ貼り付け!P21)-FIND(" ",高校選手データ貼り付け!P21)))} | E12: {=_xlfn.IFS(A12="","",TRUE,高校選手データ貼り付け!$P$4&"高")} | F12: {=_xlfn.IFS(A12="","",TRUE,高校選手データ貼り付け!W20)} | J12: {=_xlfn.IFS(A12="","",COUNTIF(高校選手データ貼り付け!P20," ")>0,ASC(LEFT(高校選手データ貼り付け!P20,FIND(" ",高校選手データ貼り付け!P20)-1)),TRUE,ASC(LEFT(高校選手データ貼り付け!P20,FIND(" ",高校選手データ貼り付け!P20)-1)))} | K12: {=_xlfn.IFS(A12="","",COUNTIF(高校選手データ貼り付け!P20," ")>0,ASC(RIGHT(高校選手データ貼り付け!P20,LEN(高校選手データ貼り付け!P20)-FIND(" ",高校選手データ貼り付け!P20))),TRUE,ASC(RIGHT(高校選手データ貼り付け!P20,LEN(高校選手データ貼り付け!P20)-FIND(" ",高校選手データ貼り付け!P20))))} | N12: {=_xlfn.IFS(A12="","",TRUE,高校選手データ貼り付け!R20&"."&TEXT(高校選手データ貼り付け!T20,"00")&"."&TEXT(高校選手データ貼り付け!V20,"00"))} | O12: {=_xlfn.IFS(A12="","",TRUE,"JPN")} | P12: =LEFT(B12,FIND(" ",B12)-1) -> #VALUE! | Q12: =RIGHT(B12,LEN(B12)-FIND(" ",B12)) -> #VALUE! | R12: =ASC(LEFT(J12,FIND(" ",J12)-1)) -> #VALUE! | S12: =ASC(RIGHT(J12,LEN(J12)-FIND(" ",J12))) -> #VALUE! | T12: =LEFT(O12,FIND(" ",O12)-1) -> #VALUE! | U12: =E12&"高" -> 高
A13: {=_xlfn.IFS(高校選手データ貼り付け!N21="","",TRUE,高校選手データ貼り付け!N21)} | B13: {=_xlfn.IFS(A13="","",COUNTIF(高校選手データ貼り付け!P22," ")>0,LEFT(高校選手データ貼り付け!P22,FIND(" ",高校選手データ貼り付け!P22)-1),TRUE,LEFT(高校選手データ貼り付け!P22,FIND(" ",高校選手データ貼り付け!P22)-1))} | C13: {=_xlfn.IFS(A13="","",COUNTIF(高校選手データ貼り付け!P22," ")>0,RIGHT(高校選手データ貼り付け!P22,LEN(高校選手データ貼り付け!P22)-FIND(" ",高校選手データ貼り付け!P22)),TRUE,RIGHT(高校選手データ貼り付け!P22,LEN(高校選手データ貼り付け!P22)-FIND(" ",高校選手データ貼り付け!P22)))} | E13: {=_xlfn.IFS(A13="","",TRUE,高校選手データ貼り付け!$P$4&"高")} | F13: {=_xlfn.IFS(A13="","",TRUE,高校選手データ貼り付け!W21)} | J13: {=_xlfn.IFS(A13="","",COUNTIF(高校選手データ貼り付け!P21," ")>0,ASC(LEFT(高校選手データ貼り付け!P21,FIND(" ",高校選手データ貼り付け!P21)-1)),TRUE,ASC(LEFT(高校選手データ貼り付け!P21,FIND(" ",高校選手データ貼り付け!P21)-1)))} | K13: {=_xlfn.IFS(A13="","",COUNTIF(高校選手データ貼り付け!P21," ")>0,ASC(RIGHT(高校選手データ貼り付け!P21,LEN(高校選手データ貼り付け!P21)-FIND(" ",高校選手データ貼り付け!P21))),TRUE,ASC(RIGHT(高校選手データ貼り付け!P21,LEN(高校選手データ貼り付け!P21)-FIND(" ",高校選手データ貼り付け!P21))))} | N13: {=_xlfn.IFS(A13="","",TRUE,高校選手データ貼り付け!R21&"."&TEXT(高校選手データ貼り付け!T21,"00")&"."&TEXT(高校選手データ貼り付け!V21,"00"))} | O13: {=_xlfn.IFS(A13="","",TRUE,"JPN")} | P13: =LEFT(B13,FIND(" ",B13)-1) -> #VALUE! | Q13: =RIGHT(B13,LEN(B13)-FIND(" ",B13)) -> #VALUE! | R13: =ASC(LEFT(J13,FIND(" ",J13)-1)) -> #VALUE! | S13: =ASC(RIGHT(J13,LEN(J13)-FIND(" ",J13))) -> #VALUE! | T13: =LEFT(O13,FIND(" ",O13)-1) -> #VALUE! | U13: =E13&"高" -> 高
... A177: {=_xlfn.IFS(高校選手データ貼り付け!N185="","",TRUE,高校選手データ貼り付け!N185)} | B177: {=_xlfn.IFS(A177="","",COUNTIF(高校選手データ貼り付け!P186," ")>0,LEFT(高校選手データ貼り付け!P186,FIND(" ",高校選手データ貼り付け!P186)-1),TRUE,LEFT(高校選手データ貼り付け!P186,FIND(" ",高校選手データ貼り付け!P186)-1))} | C177: {=_xlfn.IFS(A177="","",COUNTIF(高校選手データ貼り付け!P186," ")>0,RIGHT(高校選手データ貼り付け!P186,LEN(高校選手データ貼り付け!P186)-FIND(" ",高校選手データ貼り付け!P186)),TRUE,RIGHT(高校選手データ貼り付け!P186,LEN(高校選手データ貼り付け!P186)-FIND(" ",高校選手データ貼り付け!P186)))} | E177: {=_xlfn.IFS(A177="","",TRUE,高校選手データ貼り付け!$P$4&"高")} | F177: {=_xlfn.IFS(A177="","",TRUE,高校選手データ貼り付け!W185)} | J177: {=_xlfn.IFS(A177="","",COUNTIF(高校選手データ貼り付け!P185," ")>0,ASC(LEFT(高校選手データ貼り付け!P185,FIND(" ",高校選手データ貼り付け!P185)-1)),TRUE,ASC(LEFT(高校選手データ貼り付け!P185,FIND(" ",高校選手データ貼り付け!P185)-1)))} | K177: {=_xlfn.IFS(A177="","",COUNTIF(高校選手データ貼り付け!P185," ")>0,ASC(RIGHT(高校選手データ貼り付け!P185,LEN(高校選手データ貼り付け!P185)-FIND(" ",高校選手データ貼り付け!P185))),TRUE,ASC(RIGHT(高校選手データ貼り付け!P185,LEN(高校選手データ貼り付け!P185)-FIND(" ",高校選手データ貼り付け!P185))))} | N177: {=_xlfn.IFS(A177="","",TRUE,高校選手データ貼り付け!R185&"."&TEXT(高校選手データ貼り付け!T185,"00")&"."&TEXT(高校選手データ貼り付け!V185,"00"))} | O177: {=_xlfn.IFS(A177="","",TRUE,"JPN")} | P177: =LEFT(B177,FIND(" ",B177)-1) -> #VALUE! | Q177: =RIGHT(B177,LEN(B177)-FIND(" ",B177)) -> #VALUE! | R177: =ASC(LEFT(J177,FIND(" ",J177)-1)) -> #VALUE! | S177: =ASC(RIGHT(J177,LEN(J177)-FIND(" ",J177))) -> #VALUE! | T177: =LEFT(O177,FIND(" ",O177)-1) -> #VALUE! | U177: =E177&"高" -> 高

Sheet 中学男選手データ
A1: ナンバー | B1: 姓 | C1: 名 | D1: 支部 | E1: 所属 | F1: 学年 | G1: 登録日 | H1: 備考 | I1: 備考２ | J1: ﾌﾘｶﾞﾅ(姓) | K1: ﾌﾘｶﾞﾅ(名) | L1: FAMILY NAME | M1: Firstname | N1: Birthday | O1: 国籍

Sheet 中学女選手データ
A1: ナンバー | B1: 姓 | C1: 名 | D1: 支部 | E1: 所属 | F1: 学年 | G1: 登録日 | H1: 備考 | I1: 備考２ | J1: ﾌﾘｶﾞﾅ(姓) | K1: ﾌﾘｶﾞﾅ(名) | L1: FAMILY NAME | M1: Firstname | N1: Birthday | O1: 国籍

Sheet 高校選手データ貼り付け
E1: 2024 | F1: 4 | G1: 1
A2: 申請年月日 | E2: 加盟団体名 | O2: 区分
A3: 団体コード | E3: ﾌﾘｶﾞﾅ | O3: ｺｳｺｳ | P3: 略称 | R3: 略称ﾌﾘｶﾞﾅ
A4: 学校長 | E4: 学校名 | O4: 高校 | Q4: 高
A5: 顧問 | E5: 所在地 | G5: 〒 | Q5: ℡
Q6: Fax
B7: ＜男子＞ | N7: ＜女子＞
A8: 番号 | B8: 登録番号 | C8: Hepburn | D8: フリガナ | E8: 性別 | F8: 生年月日（西暦） | K8: 学年 | M8: 番号 | N8: 登録番号 | O8: Hepburn | P8: フリガナ | Q8: 性別 | R8: 生年月日（西暦） | W8: 学年
D9: 氏 名 | P9: 氏 名
A10: 1 | M10: 1
A12: 2 | M12: 2
A14: 3 | M14: 3
A16: 4 | M16: 4
A18: 5 | M18: 5
A20: 6 | M20: 6
A22: 7 | M22: 7
A24: 8 | M24: 8
A26: 9 | M26: 9
A28: 10 | M28: 10 | S28: ・ | U28: ・
A30: 11 | M30: 11 | S30: ・ | U30: ・
A32: 12 | M32: 12 | S32: ・ | U32: ・
A34: 13 | M34: 13 | S34: ・ | U34: ・
A36: 14 | M36: 14 | S36: ・ | U36: ・
A38: 15 | M38: 15 | S38: ・ | U38: ・
A40: 16 | M40: 16 | S40: ・ | U40: ・
A42: 17 | M42: 17 | S42: ・ | U42: ・
A44: 18 | G44: ・ | I44: ・ | M44: 18 | S44: ・ | U44: ・
A46: 19 | G46: ・ | I46: ・ | M46: 19 | S46: ・ | U46: ・
A48: 20 | G48: ・ | I48: ・ | M48: 20 | S48: ・ | U48: ・
A50: 21 | G50: ・ | I50: ・ | M50: 21 | S50: ・ | U50: ・
A52: 22 | G52: ・ | I52: ・ | M52: 22 | S52: ・ | U52: ・
A54: 23 | G54: ・ | I54: ・ | M54: 23 | S54: ・ | U54: ・
A56: 24 | G56: ・ | I56: ・ | M56: 24 | S56: ・ | U56: ・
A58: 25 | G58: ・ | I58: ・ | M58: 25 | S58: ・ | U58: ・
A60: 26 | G60: ・ | I60: ・ | M60: 26 | S60: ・ | U60: ・
A62: 27 | G62: ・ | I62: ・ | M62: 27 | S62: ・ | U62: ・
A64: 28 | G64: ・ | I64: ・ | M64: 28 | S64: ・ | U64: ・
A66: 29 | G66: ・ | I66: ・ | M66: 29 | S66: ・ | U66: ・
... A218: 105 | G218: ・ | I218: ・ | M218: 105 | S218: ・ | U218: ・

Sheet 中学一覧表
A1: 性別 | C1: ="第"&DBCS(YEAR(TODAY())-1949)&"回 市川市民体育大会 申込一覧表（中学校）" -> 第７７回 市川市民体育大会 申込一覧表（中学校） | X1: 男Ａ | Y1: 男Ｂ | Z1: 男Ｃ | AA1: 女Ａ | AB1: 女Ｂ | AC1: 女Ｃ
C2: 性別 | D2: ナンバー | E2: 氏名 | F2: 学年 | G2: 種目１ | H2: 入力FLG | I2: 学年FLG | J2: 分 | K2: 秒/m | L2: 以下/cm | M2: 種目２ | N2: 入力FLG | O2: 学年FLG | P2: 分 | Q2: 秒/m | R2: 以下/cm | S2: リレー | T2: 分 | U2: 秒 | V2: 以下 | W2: チーム名
A3: 男 | B3: 1 | E3: =IF(ISERROR(VLOOKUP($D3,INDIRECT("中学"&$C3&"選手データ!A:Z"),MATCH("姓",INDIRECT("中学"&$C3&"選手データ!1:1"),0),0)),"",VLOOKUP($D3,INDIRECT("中学"&$C3&"選手データ!A:Z"),MATCH("姓",INDIRECT("中学"&$C3&"選手データ!1:1"),0),0)&" "&VLOOKUP($D3,INDIRECT("中学"&$C3&"選手データ!A:Z"),MATCH("名",INDIRECT("中学"&$C3&"選手データ!1:1"),0),0)) | F3: =IF(ISERROR(VLOOKUP($D3,INDIRECT("中学"&$C3&"選手データ!A:Z"),MATCH(F$2,INDIRECT("中学"&$C3&"選手データ!1:1"),0),0)),"",VLOOKUP($D3,INDIRECT("中学"&$C3&"選手データ!A:Z"),MATCH(F$2,INDIRECT("中学"&$C3&"選手データ!1:1"),0),0)) | H3: =IF(G3="","",VLOOKUP(G3,競技csv!$F:$O,MATCH(H$2,競技csv!$1:$1,0)-MATCH("競技名",競技csv!$1:$1,0)+1,0)) | I3: =IF(G3="","",VLOOKUP(G3,競技csv!$F:$O,MATCH(I$2,競技csv!$1:$1,0)-MATCH("競技名",競技csv!$1:$1,0)+1,0)) | N3: =IF(M3="","",VLOOKUP(M3,競技csv!$F:$O,MATCH(N$2,競技csv!$1:$1,0)-MATCH("競技名",競技csv!$1:$1,0)+1,0)) | O3: =IF(M3="","",VLOOKUP(M3,競技csv!$F:$O,MATCH(O$2,競技csv!$1:$1,0)-MATCH("競技名",競技csv!$1:$1,0)+1,0)) | T3: =IF($S3="","",IF(VLOOKUP($C3&$S3,$P$65:$S$70,MATCH(T$2,$P$64:$S$64,0),0)=0,"",VLOOKUP($C3&$S3,$P$65:$S$70,MATCH(T$2,$P$64:$S$64,0),0))) | U3: =IF($S3="","",VLOOKUP($C3&$S3,$P$65:$S$70,MATCH(U$2,$P$64:$S$64,0),0)) | V3: =IF($S3="","",VLOOKUP($C3&$S3,$P$65:$S$70,MATCH(V$2,$P$64:$S$64,0),0)) | W3: =IF(S3="","",C3&S3) | X3: =IF($W3=X$1,X2+1,X2) -> 0 | Y3: =IF($W3=Y$1,Y2+1,Y2) -> 0 | Z3: =IF($W3=Z$1,Z2+1,Z2) -> 0 | AA3: =IF($W3=AA$1,AA2+1,AA2) -> 0 | AB3: =IF($W3=AB$1,AB2+1,AB2) -> 0 | AC3: =IF($W3=AC$1,AC2+1,AC2) -> 0 | AD3: {=IF(W3="","",INDIRECT(ADDRESS(ROW(),MATCH(W3,$1:$1,0))))}
A4: 女 | B4: 2 | E4: =IF(ISERROR(VLOOKUP($D4,INDIRECT("中学"&$C4&"選手データ!A:Z"),MATCH("姓",INDIRECT("中学"&$C4&"選手データ!1:1"),0),0)),"",VLOOKUP($D4,INDIRECT("中学"&$C4&"選手データ!A:Z"),MATCH("姓",INDIRECT("中学"&$C4&"選手データ!1:1"),0),0)&" "&VLOOKUP($D4,INDIRECT("中学"&$C4&"選手データ!A:Z"),MATCH("名",INDIRECT("中学"&$C4&"選手データ!1:1"),0),0)) | F4: =IF(ISERROR(VLOOKUP($D4,INDIRECT("中学"&$C4&"選手データ!A:Z"),MATCH(F$2,INDIRECT("中学"&$C4&"選手データ!1:1"),0),0)),"",VLOOKUP($D4,INDIRECT("中学"&$C4&"選手データ!A:Z"),MATCH(F$2,INDIRECT("中学"&$C4&"選手データ!1:1"),0),0)) | H4: =IF(G4="","",VLOOKUP(G4,競技csv!$F:$O,MATCH(H$2,競技csv!$1:$1,0)-MATCH("競技名",競技csv!$1:$1,0)+1,0)) | I4: =IF(G4="","",VLOOKUP(G4,競技csv!$F:$O,MATCH(I$2,競技csv!$1:$1,0)-MATCH("競技名",競技csv!$1:$1,0)+1,0)) | N4: =IF(M4="","",VLOOKUP(M4,競技csv!$F:$O,MATCH(N$2,競技csv!$1:$1,0)-MATCH("競技名",競技csv!$1:$1,0)+1,0)) | O4: =IF(M4="","",VLOOKUP(M4,競技csv!$F:$O,MATCH(O$2,競技csv!$1:$1,0)-MATCH("競技名",競技csv!$1:$1,0)+1,0)) | T4: =IF($S4="","",IF(VLOOKUP($C4&$S4,$P$65:$S$70,MATCH(T$2,$P$64:$S$64,0),0)=0,"",VLOOKUP($C4&$S4,$P$65:$S$70,MATCH(T$2,$P$64:$S$64,0),0))) | U4: =IF($S4="","",VLOOKUP($C4&$S4,$P$65:$S$70,MATCH(U$2,$P$64:$S$64,0),0)) | V4: =IF($S4="","",VLOOKUP($C4&$S4,$P$65:$S$70,MATCH(V$2,$P$64:$S$64,0),0)) | W4: =IF(S4="","",C4&S4) | X4: =IF($W4=X$1,X3+1,X3) -> 0 | Y4: =IF($W4=Y$1,Y3+1,Y3) -> 0 | Z4: =IF($W4=Z$1,Z3+1,Z3) -> 0 | AA4: =IF($W4=AA$1,AA3+1,AA3) -> 0 | AB4: =IF($W4=AB$1,AB3+1,AB3) -> 0 | AC4: =IF($W4=AC$1,AC3+1,AC3) -> 0 | AD4: {=IF(W4="","",INDIRECT(ADDRESS(ROW(),MATCH(W4,$1:$1,0))))}
A5: リレー | E5: =IF(ISERROR(VLOOKUP($D5,INDIRECT("中学"&$C5&"選手データ!A:Z"),MATCH("姓",INDIRECT("中学"&$C5&"選手データ!1:1"),0),0)),"",VLOOKUP($D5,INDIRECT("中学"&$C5&"選手データ!A:Z"),MATCH("姓",INDIRECT("中学"&$C5&"選手データ!1:1"),0),0)&" "&VLOOKUP($D5,INDIRECT("中学"&$C5&"選手データ!A:Z"),MATCH("名",INDIRECT("中学"&$C5&"選手データ!1:1"),0),0)) | F5: =IF(ISERROR(VLOOKUP($D5,INDIRECT("中学"&$C5&"選手データ!A:Z"),MATCH(F$2,INDIRECT("中学"&$C5&"選手データ!1:1"),0),0)),"",VLOOKUP($D5,INDIRECT("中学"&$C5&"選手データ!A:Z"),MATCH(F$2,INDIRECT("中学"&$C5&"選手データ!1:1"),0),0)) | H5: =IF(G5="","",VLOOKUP(G5,競技csv!$F:$O,MATCH(H$2,競技csv!$1:$1,0)-MATCH("競技名",競技csv!$1:$1,0)+1,0)) | I5: =IF(G5="","",VLOOKUP(G5,競技csv!$F:$O,MATCH(I$2,競技csv!$1:$1,0)-MATCH("競技名",競技csv!$1:$1,0)+1,0)) | N5: =IF(M5="","",VLOOKUP(M5,競技csv!$F:$O,MATCH(N$2,競技csv!$1:$1,0)-MATCH("競技名",競技csv!$1:$1,0)+1,0)) | O5: =IF(M5="","",VLOOKUP(M5,競技csv!$F:$O,MATCH(O$2,競技csv!$1:$1,0)-MATCH("競技名",競技csv!$1:$1,0)+1,0)) | T5: =IF($S5="","",IF(VLOOKUP($C5&$S5,$P$65:$S$70,MATCH(T$2,$P$64:$S$64,0),0)=0,"",VLOOKUP($C5&$S5,$P$65:$S$70,MATCH(T$2,$P$64:$S$64,0),0))) | U5: =IF($S5="","",VLOOKUP($C5&$S5,$P$65:$S$70,MATCH(U$2,$P$64:$S$64,0),0)) | V5: =IF($S5="","",VLOOKUP($C5&$S5,$P$65:$S$70,MATCH(V$2,$P$64:$S$64,0),0)) | W5: =IF(S5="","",C5&S5) | X5: =IF($W5=X$1,X4+1,X4) -> 0 | Y5: =IF($W5=Y$1,Y4+1,Y4) -> 0 | Z5: =IF($W5=Z$1,Z4+1,Z4) -> 0 | AA5: =IF($W5=AA$1,AA4+1,AA4) -> 0 | AB5: =IF($W5=AB$1,AB4+1,AB4) -> 0 | AC5: =IF($W5=AC$1,AC4+1,AC4) -> 0 | AD5: {=IF(W5="","",INDIRECT(ADDRESS(ROW(),MATCH(W5,$1:$1,0))))}
E6: =IF(ISERROR(VLOOKUP($D6,INDIRECT("中学"&$C6&"選手データ!A:Z"),MATCH("姓",INDIRECT("中学"&$C6&"選手データ!1:1"),0),0)),"",VLOOKUP($D6,INDIRECT("中学"&$C6&"選手データ!A:Z"),MATCH("姓",INDIRECT("中学"&$C6&"選手データ!1:1"),0),0)&" "&VLOOKUP($D6,INDIRECT("中学"&$C6&"選手データ!A:Z"),MATCH("名",INDIRECT("中学"&$C6&"選手データ!1:1"),0),0)) | F6: =IF(ISERROR(VLOOKUP($D6,INDIRECT("中学"&$C6&"選手データ!A:Z"),MATCH(F$2,INDIRECT("中学"&$C6&"選手データ!1:1"),0),0)),"",VLOOKUP($D6,INDIRECT("中学"&$C6&"選手データ!A:Z"),MATCH(F$2,INDIRECT("中学"&$C6&"選手データ!1:1"),0),0)) | H6: =IF(G6="","",VLOOKUP(G6,競技csv!$F:$O,MATCH(H$2,競技csv!$1:$1,0)-MATCH("競技名",競技csv!$1:$1,0)+1,0)) | I6: =IF(G6="","",VLOOKUP(G6,競技csv!$F:$O,MATCH(I$2,競技csv!$1:$1,0)-MATCH("競技名",競技csv!$1:$1,0)+1,0)) | N6: =IF(M6="","",VLOOKUP(M6,競技csv!$F:$O,MATCH(N$2,競技csv!$1:$1,0)-MATCH("競技名",競技csv!$1:$1,0)+1,0)) | O6: =IF(M6="","",VLOOKUP(M6,競技csv!$F:$O,MATCH(O$2,競技csv!$1:$1,0)-MATCH("競技名",競技csv!$1:$1,0)+1,0)) | T6: =IF($S6="","",IF(VLOOKUP($C6&$S6,$P$65:$S$70,MATCH(T$2,$P$64:$S$64,0),0)=0,"",VLOOKUP($C6&$S6,$P$65:$S$70,MATCH(T$2,$P$64:$S$64,0),0))) | U6: =IF($S6="","",VLOOKUP($C6&$S6,$P$65:$S$70,MATCH(U$2,$P$64:$S$64,0),0)) | V6: =IF($S6="","",VLOOKUP($C6&$S6,$P$65:$S$70,MATCH(V$2,$P$64:$S$64,0),0)) | W6: =IF(S6="","",C6&S6) | X6: =IF($W6=X$1,X5+1,X5) -> 0 | Y6: =IF($W6=Y$1,Y5+1,Y5) -> 0 | Z6: =IF($W6=Z$1,Z5+1,Z5) -> 0 | AA6: =IF($W6=AA$1,AA5+1,AA5) -> 0 | AB6: =IF($W6=AB$1,AB5+1,AB5) -> 0 | AC6: =IF($W6=AC$1,AC5+1,AC5) -> 0 | AD6: {=IF(W6="","",INDIRECT(ADDRESS(ROW(),MATCH(W6,$1:$1,0))))}
A7: Ａ | B7: 0 | E7: =IF(ISERROR(VLOOKUP($D7,INDIRECT("中学"&$C7&"選手データ!A:Z"),MATCH("姓",INDIRECT("中学"&$C7&"選手データ!1:1"),0),0)),"",VLOOKUP($D7,INDIRECT("中学"&$C7&"選手データ!A:Z"),MATCH("姓",INDIRECT("中学"&$C7&"選手データ!1:1"),0),0)&" "&VLOOKUP($D7,INDIRECT("中学"&$C7&"選手データ!A:Z"),MATCH("名",INDIRECT("中学"&$C7&"選手データ!1:1"),0),0)) | F7: =IF(ISERROR(VLOOKUP($D7,INDIRECT("中学"&$C7&"選手データ!A:Z"),MATCH(F$2,INDIRECT("中学"&$C7&"選手データ!1:1"),0),0)),"",VLOOKUP($D7,INDIRECT("中学"&$C7&"選手データ!A:Z"),MATCH(F$2,INDIRECT("中学"&$C7&"選手データ!1:1"),0),0)) | H7: =IF(G7="","",VLOOKUP(G7,競技csv!$F:$O,MATCH(H$2,競技csv!$1:$1,0)-MATCH("競技名",競技csv!$1:$1,0)+1,0)) | I7: =IF(G7="","",VLOOKUP(G7,競技csv!$F:$O,MATCH(I$2,競技csv!$1:$1,0)-MATCH("競技名",競技csv!$1:$1,0)+1,0)) | N7: =IF(M7="","",VLOOKUP(M7,競技csv!$F:$O,MATCH(N$2,競技csv!$1:$1,0)-MATCH("競技名",競技csv!$1:$1,0)+1,0)) | O7: =IF(M7="","",VLOOKUP(M7,競技csv!$F:$O,MATCH(O$2,競技csv!$1:$1,0)-MATCH("競技名",競技csv!$1:$1,0)+1,0)) | T7: =IF($S7="","",IF(VLOOKUP($C7&$S7,$P$65:$S$70,MATCH(T$2,$P$64:$S$64,0),0)=0,"",VLOOKUP($C7&$S7,$P$65:$S$70,MATCH(T$2,$P$64:$S$64,0),0))) | U7: =IF($S7="","",VLOOKUP($C7&$S7,$P$65:$S$70,MATCH(U$2,$P$64:$S$64,0),0)) | V7: =IF($S7="","",VLOOKUP($C7&$S7,$P$65:$S$70,MATCH(V$2,$P$64:$S$64,0),0)) | W7: =IF(S7="","",C7&S7) | X7: =IF($W7=X$1,X6+1,X6) -> 0 | Y7: =IF($W7=Y$1,Y6+1,Y6) -> 0 | Z7: =IF($W7=Z$1,Z6+1,Z6) -> 0 | AA7: =IF($W7=AA$1,AA6+1,AA6) -> 0 | AB7: =IF($W7=AB$1,AB6+1,AB6) -> 0 | AC7: =IF($W7=AC$1,AC6+1,AC6) -> 0 | AD7: {=IF(W7="","",INDIRECT(ADDRESS(ROW(),MATCH(W7,$1:$1,0))))}
A8: Ｂ | B8: 100 | E8: =IF(ISERROR(VLOOKUP($D8,INDIRECT("中学"&$C8&"選手データ!A:Z"),MATCH("姓",INDIRECT("中学"&$C8&"選手データ!1:1"),0),0)),"",VLOOKUP($D8,INDIRECT("中学"&$C8&"選手データ!A:Z"),MATCH("姓",INDIRECT("中学"&$C8&"選手データ!1:1"),0),0)&" "&VLOOKUP($D8,INDIRECT("中学"&$C8&"選手データ!A:Z"),MATCH("名",INDIRECT("中学"&$C8&"選手データ!1:1"),0),0)) | F8: =IF(ISERROR(VLOOKUP($D8,INDIRECT("中学"&$C8&"選手データ!A:Z"),MATCH(F$2,INDIRECT("中学"&$C8&"選手データ!1:1"),0),0)),"",VLOOKUP($D8,INDIRECT("中学"&$C8&"選手データ!A:Z"),MATCH(F$2,INDIRECT("中学"&$C8&"選手データ!1:1"),0),0)) | H8: =IF(G8="","",VLOOKUP(G8,競技csv!$F:$O,MATCH(H$2,競技csv!$1:$1,0)-MATCH("競技名",競技csv!$1:$1,0)+1,0)) | I8: =IF(G8="","",VLOOKUP(G8,競技csv!$F:$O,MATCH(I$2,競技csv!$1:$1,0)-MATCH("競技名",競技csv!$1:$1,0)+1,0)) | N8: =IF(M8="","",VLOOKUP(M8,競技csv!$F:$O,MATCH(N$2,競技csv!$1:$1,0)-MATCH("競技名",競技csv!$1:$1,0)+1,0)) | O8: =IF(M8="","",VLOOKUP(M8,競技csv!$F:$O,MATCH(O$2,競技csv!$1:$1,0)-MATCH("競技名",競技csv!$1:$1,0)+1,0)) | T8: =IF($S8="","",IF(VLOOKUP($C8&$S8,$P$65:$S$70,MATCH(T$2,$P$64:$S$64,0),0)=0,"",VLOOKUP($C8&$S8,$P$65:$S$70,MATCH(T$2,$P$64:$S$64,0),0))) | U8: =IF($S8="","",VLOOKUP($C8&$S8,$P$65:$S$70,MATCH(U$2,$P$64:$S$64,0),0)) | V8: =IF($S8="","",VLOOKUP($C8&$S8,$P$65:$S$70,MATCH(V$2,$P$64:$S$64,0),0)) | W8: =IF(S8="","",C8&S8) | X8: =IF($W8=X$1,X7+1,X7) -> 0 | Y8: =IF($W8=Y$1,Y7+1,Y7) -> 0 | Z8: =IF($W8=Z$1,Z7+1,Z7) -> 0 | AA8: =IF($W8=AA$1,AA7+1,AA7) -> 0 | AB8: =IF($W8=AB$1,AB7+1,AB7) -> 0 | AC8: =IF($W8=AC$1,AC7+1,AC7) -> 0 | AD8: {=IF(W8="","",INDIRECT(ADDRESS(ROW(),MATCH(W8,$1:$1,0))))}
A9: Ｃ | B9: 200 | E9: =IF(ISERROR(VLOOKUP($D9,INDIRECT("中学"&$C9&"選手データ!A:Z"),MATCH("姓",INDIRECT("中学"&$C9&"選手データ!1:1"),0),0)),"",VLOOKUP($D9,INDIRECT("中学"&$C9&"選手データ!A:Z"),MATCH("姓",INDIRECT("中学"&$C9&"選手データ!1:1"),0),0)&" "&VLOOKUP($D9,INDIRECT("中学"&$C9&"選手データ!A:Z"),MATCH("名",INDIRECT("中学"&$C9&"選手データ!1:1"),0),0)) | F9: =IF(ISERROR(VLOOKUP($D9,INDIRECT("中学"&$C9&"選手データ!A:Z"),MATCH(F$2,INDIRECT("中学"&$C9&"選手データ!1:1"),0),0)),"",VLOOKUP($D9,INDIRECT("中学"&$C9&"選手データ!A:Z"),MATCH(F$2,INDIRECT("中学"&$C9&"選手データ!1:1"),0),0)) | H9: =IF(G9="","",VLOOKUP(G9,競技csv!$F:$O,MATCH(H$2,競技csv!$1:$1,0)-MATCH("競技名",競技csv!$1:$1,0)+1,0)) | I9: =IF(G9="","",VLOOKUP(G9,競技csv!$F:$O,MATCH(I$2,競技csv!$1:$1,0)-MATCH("競技名",競技csv!$1:$1,0)+1,0)) | N9: =IF(M9="","",VLOOKUP(M9,競技csv!$F:$O,MATCH(N$2,競技csv!$1:$1,0)-MATCH("競技名",競技csv!$1:$1,0)+1,0)) | O9: =IF(M9="","",VLOOKUP(M9,競技csv!$F:$O,MATCH(O$2,競技csv!$1:$1,0)-MATCH("競技名",競技csv!$1:$1,0)+1,0)) | T9: =IF($S9="","",IF(VLOOKUP($C9&$S9,$P$65:$S$70,MATCH(T$2,$P$64:$S$64,0),0)=0,"",VLOOKUP($C9&$S9,$P$65:$S$70,MATCH(T$2,$P$64:$S$64,0),0))) | U9: =IF($S9="","",VLOOKUP($C9&$S9,$P$65:$S$70,MATCH(U$2,$P$64:$S$64,0),0)) | V9: =IF($S9="","",VLOOKUP($C9&$S9,$P$65:$S$70,MATCH(V$2,$P$64:$S$64,0),0)) | W9: =IF(S9="","",C9&S9) | X9: =IF($W9=X$1,X8+1,X8) -> 0 | Y9: =IF($W9=Y$1,Y8+1,Y8) -> 0 | Z9: =IF($W9=Z$1,Z8+1,Z8) -> 0 | AA9: =IF($W9=AA$1,AA8+1,AA8) -> 0 | AB9: =IF($W9=AB$1,AB8+1,AB8) -> 0 | AC9: =IF($W9=AC$1,AC8+1,AC8) -> 0 | AD9: {=IF(W9="","",INDIRECT(ADDRESS(ROW(),MATCH(W9,$1:$1,0))))}
E10: =IF(ISERROR(VLOOKUP($D10,INDIRECT("中学"&$C10&"選手データ!A:Z"),MATCH("姓",INDIRECT("中学"&$C10&"選手データ!1:1"),0),0)),"",VLOOKUP($D10,INDIRECT("中学"&$C10&"選手データ!A:Z"),MATCH("姓",INDIRECT("中学"&$C10&"選手データ!1:1"),0),0)&" "&VLOOKUP($D10,INDIRECT("中学"&$C10&"選手データ!A:Z"),MATCH("名",INDIRECT("中学"&$C10&"選手データ!1:1"),0),0)) | F10: =IF(ISERROR(VLOOKUP($D10,INDIRECT("中学"&$C10&"選手データ!A:Z"),MATCH(F$2,INDIRECT("中学"&$C10&"選手データ!1:1"),0),0)),"",VLOOKUP($D10,INDIRECT("中学"&$C10&"選手データ!A:Z"),MATCH(F$2,INDIRECT("中学"&$C10&"選手データ!1:1"),0),0)) | H10: =IF(G10="","",VLOOKUP(G10,競技csv!$F:$O,MATCH(H$2,競技csv!$1:$1,0)-MATCH("競技名",競技csv!$1:$1,0)+1,0)) | I10: =IF(G10="","",VLOOKUP(G10,競技csv!$F:$O,MATCH(I$2,競技csv!$1:$1,0)-MATCH("競技名",競技csv!$1:$1,0)+1,0)) | N10: =IF(M10="","",VLOOKUP(M10,競技csv!$F:$O,MATCH(N$2,競技csv!$1:$1,0)-MATCH("競技名",競技csv!$1:$1,0)+1,0)) | O10: =IF(M10="","",VLOOKUP(M10,競技csv!$F:$O,MATCH(O$2,競技csv!$1:$1,0)-MATCH("競技名",競技csv!$1:$1,0)+1,0)) | T10: =IF($S10="","",IF(VLOOKUP($C10&$S10,$P$65:$S$70,MATCH(T$2,$P$64:$S$64,0),0)=0,"",VLOOKUP($C10&$S10,$P$65:$S$70,MATCH(T$2,$P$64:$S$64,0),0))) | U10: =IF($S10="","",VLOOKUP($C10&$S10,$P$65:$S$70,MATCH(U$2,$P$64:$S$64,0),0)) | V10: =IF($S10="","",VLOOKUP($C10&$S10,$P$65:$S$70,MATCH(V$2,$P$64:$S$64,0),0)) | W10: =IF(S10="","",C10&S10) | X10: =IF($W10=X$1,X9+1,X9) -> 0 | Y10: =IF($W10=Y$1,Y9+1,Y9) -> 0 | Z10: =IF($W10=Z$1,Z9+1,Z9) -> 0 | AA10: =IF($W10=AA$1,AA9+1,AA9) -> 0 | AB10: =IF($W10=AB$1,AB9+1,AB9) -> 0 | AC10: =IF($W10=AC$1,AC9+1,AC9) -> 0 | AD10: {=IF(W10="","",INDIRECT(ADDRESS(ROW(),MATCH(W10,$1:$1,0))))}
E11: =IF(ISERROR(VLOOKUP($D11,INDIRECT("中学"&$C11&"選手データ!A:Z"),MATCH("姓",INDIRECT("中学"&$C11&"選手データ!1:1"),0),0)),"",VLOOKUP($D11,INDIRECT("中学"&$C11&"選手データ!A:Z"),MATCH("姓",INDIRECT("中学"&$C11&"選手データ!1:1"),0),0)&" "&VLOOKUP($D11,INDIRECT("中学"&$C11&"選手データ!A:Z"),MATCH("名",INDIRECT("中学"&$C11&"選手データ!1:1"),0),0)) | F11: =IF(ISERROR(VLOOKUP($D11,INDIRECT("中学"&$C11&"選手データ!A:Z"),MATCH(F$2,INDIRECT("中学"&$C11&"選手データ!1:1"),0),0)),"",VLOOKUP($D11,INDIRECT("中学"&$C11&"選手データ!A:Z"),MATCH(F$2,INDIRECT("中学"&$C11&"選手データ!1:1"),0),0)) | H11: =IF(G11="","",VLOOKUP(G11,競技csv!$F:$O,MATCH(H$2,競技csv!$1:$1,0)-MATCH("競技名",競技csv!$1:$1,0)+1,0)) | I11: =IF(G11="","",VLOOKUP(G11,競技csv!$F:$O,MATCH(I$2,競技csv!$1:$1,0)-MATCH("競技名",競技csv!$1:$1,0)+1,0)) | N11: =IF(M11="","",VLOOKUP(M11,競技csv!$F:$O,MATCH(N$2,競技csv!$1:$1,0)-MATCH("競技名",競技csv!$1:$1,0)+1,0)) | O11: =IF(M11="","",VLOOKUP(M11,競技csv!$F:$O,MATCH(O$2,競技csv!$1:$1,0)-MATCH("競技名",競技csv!$1:$1,0)+1,0)) | T11: =IF($S11="","",IF(VLOOKUP($C11&$S11,$P$65:$S$70,MATCH(T$2,$P$64:$S$64,0),0)=0,"",VLOOKUP($C11&$S11,$P$65:$S$70,MATCH(T$2,$P$64:$S$64,0),0))) | U11: =IF($S11="","",VLOOKUP($C11&$S11,$P$65:$S$70,MATCH(U$2,$P$64:$S$64,0),0)) | V11: =IF($S11="","",VLOOKUP($C11&$S11,$P$65:$S$70,MATCH(V$2,$P$64:$S$64,0),0)) | W11: =IF(S11="","",C11&S11) | X11: =IF($W11=X$1,X10+1,X10) -> 0 | Y11: =IF($W11=Y$1,Y10+1,Y10) -> 0 | Z11: =IF($W11=Z$1,Z10+1,Z10) -> 0 | AA11: =IF($W11=AA$1,AA10+1,AA10) -> 0 | AB11: =IF($W11=AB$1,AB10+1,AB10) -> 0 | AC11: =IF($W11=AC$1,AC10+1,AC10) -> 0 | AD11: {=IF(W11="","",INDIRECT(ADDRESS(ROW(),MATCH(W11,$1:$1,0))))}
E12: =IF(ISERROR(VLOOKUP($D12,INDIRECT("中学"&$C12&"選手データ!A:Z"),MATCH("姓",INDIRECT("中学"&$C12&"選手データ!1:1"),0),0)),"",VLOOKUP($D12,INDIRECT("中学"&$C12&"選手データ!A:Z"),MATCH("姓",INDIRECT("中学"&$C12&"選手データ!1:1"),0),0)&" "&VLOOKUP($D12,INDIRECT("中学"&$C12&"選手データ!A:Z"),MATCH("名",INDIRECT("中学"&$C12&"選手データ!1:1"),0),0)) | F12: =IF(ISERROR(VLOOKUP($D12,INDIRECT("中学"&$C12&"選手データ!A:Z"),MATCH(F$2,INDIRECT("中学"&$C12&"選手データ!1:1"),0),0)),"",VLOOKUP($D12,INDIRECT("中学"&$C12&"選手データ!A:Z"),MATCH(F$2,INDIRECT("中学"&$C12&"選手データ!1:1"),0),0)) | H12: =IF(G12="","",VLOOKUP(G12,競技csv!$F:$O,MATCH(H$2,競技csv!$1:$1,0)-MATCH("競技名",競技csv!$1:$1,0)+1,0)) | I12: =IF(G12="","",VLOOKUP(G12,競技csv!$F:$O,MATCH(I$2,競技csv!$1:$1,0)-MATCH("競技名",競技csv!$1:$1,0)+1,0)) | N12: =IF(M12="","",VLOOKUP(M12,競技csv!$F:$O,MATCH(N$2,競技csv!$1:$1,0)-MATCH("競技名",競技csv!$1:$1,0)+1,0)) | O12: =IF(M12="","",VLOOKUP(M12,競技csv!$F:$O,MATCH(O$2,競技csv!$1:$1,0)-MATCH("競技名",競技csv!$1:$1,0)+1,0)) | T12: =IF($S12="","",IF(VLOOKUP($C12&$S12,$P$65:$S$70,MATCH(T$2,$P$64:$S$64,0),0)=0,"",VLOOKUP($C12&$S12,$P$65:$S$70,MATCH(T$2,$P$64:$S$64,0),0))) | U12: =IF($S12="","",VLOOKUP($C12&$S12,$P$65:$S$70,MATCH(U$2,$P$64:$S$64,0),0)) | V12: =IF($S12="","",VLOOKUP($C12&$S12,$P$65:$S$70,MATCH(V$2,$P$64:$S$64,0),0)) | W12: =IF(S12="","",C12&S12) | X12: =IF($W12=X$1,X11+1,X11) -> 0 | Y12: =IF($W12=Y$1,Y11+1,Y11) -> 0 | Z12: =IF($W12=Z$1,Z11+1,Z11) -> 0 | AA12: =IF($W12=AA$1,AA11+1,AA11) -> 0 | AB12: =IF($W12=AB$1,AB11+1,AB11) -> 0 | AC12: =IF($W12=AC$1,AC11+1,AC11) -> 0 | AD12: {=IF(W12="","",INDIRECT(ADDRESS(ROW(),MATCH(W12,$1:$1,0))))}
E13: =IF(ISERROR(VLOOKUP($D13,INDIRECT("中学"&$C13&"選手データ!A:Z"),MATCH("姓",INDIRECT("中学"&$C13&"選手データ!1:1"),0),0)),"",VLOOKUP($D13,INDIRECT("中学"&$C13&"選手データ!A:Z"),MATCH("姓",INDIRECT("中学"&$C13&"選手データ!1:1"),0),0)&" "&VLOOKUP($D13,INDIRECT("中学"&$C13&"選手データ!A:Z"),MATCH("名",INDIRECT("中学"&$C13&"選手データ!1:1"),0),0)) | F13: =IF(ISERROR(VLOOKUP($D13,INDIRECT("中学"&$C13&"選手データ!A:Z"),MATCH(F$2,INDIRECT("中学"&$C13&"選手データ!1:1"),0),0)),"",VLOOKUP($D13,INDIRECT("中学"&$C13&"選手データ!A:Z"),MATCH(F$2,INDIRECT("中学"&$C13&"選手データ!1:1"),0),0)) | H13: =IF(G13="","",VLOOKUP(G13,競技csv!$F:$O,MATCH(H$2,競技csv!$1:$1,0)-MATCH("競技名",競技csv!$1:$1,0)+1,0)) | I13: =IF(G13="","",VLOOKUP(G13,競技csv!$F:$O,MATCH(I$2,競技csv!$1:$1,0)-MATCH("競技名",競技csv!$1:$1,0)+1,0)) | N13: =IF(M13="","",VLOOKUP(M13,競技csv!$F:$O,MATCH(N$2,競技csv!$1:$1,0)-MATCH("競技名",競技csv!$1:$1,0)+1,0)) | O13: =IF(M13="","",VLOOKUP(M13,競技csv!$F:$O,MATCH(O$2,競技csv!$1:$1,0)-MATCH("競技名",競技csv!$1:$1,0)+1,0)) | T13: =IF($S13="","",IF(VLOOKUP($C13&$S13,$P$65:$S$70,MATCH(T$2,$P$64:$S$64,0),0)=0,"",VLOOKUP($C13&$S13,$P$65:$S$70,MATCH(T$2,$P$64:$S$64,0),0))) | U13: =IF($S13="","",VLOOKUP($C13&$S13,$P$65:$S$70,MATCH(U$2,$P$64:$S$64,0),0)) | V13: =IF($S13="","",VLOOKUP($C13&$S13,$P$65:$S$70,MATCH(V$2,$P$64:$S$64,0),0)) | W13: =IF(S13="","",C13&S13) | X13: =IF($W13=X$1,X12+1,X12) -> 0 | Y13: =IF($W13=Y$1,Y12+1,Y12) -> 0 | Z13: =IF($W13=Z$1,Z12+1,Z12) -> 0 | AA13: =IF($W13=AA$1,AA12+1,AA12) -> 0 | AB13: =IF($W13=AB$1,AB12+1,AB12) -> 0 | AC13: =IF($W13=AC$1,AC12+1,AC12) -> 0 | AD13: {=IF(W13="","",INDIRECT(ADDRESS(ROW(),MATCH(W13,$1:$1,0))))}
E14: =IF(ISERROR(VLOOKUP($D14,INDIRECT("中学"&$C14&"選手データ!A:Z"),MATCH("姓",INDIRECT("中学"&$C14&"選手データ!1:1"),0),0)),"",VLOOKUP($D14,INDIRECT("中学"&$C14&"選手データ!A:Z"),MATCH("姓",INDIRECT("中学"&$C14&"選手データ!1:1"),0),0)&" "&VLOOKUP($D14,INDIRECT("中学"&$C14&"選手データ!A:Z"),MATCH("名",INDIRECT("中学"&$C14&"選手データ!1:1"),0),0)) | F14: =IF(ISERROR(VLOOKUP($D14,INDIRECT("中学"&$C14&"選手データ!A:Z"),MATCH(F$2,INDIRECT("中学"&$C14&"選手データ!1:1"),0),0)),"",VLOOKUP($D14,INDIRECT("中学"&$C14&"選手データ!A:Z"),MATCH(F$2,INDIRECT("中学"&$C14&"選手データ!1:1"),0),0)) | H14: =IF(G14="","",VLOOKUP(G14,競技csv!$F:$O,MATCH(H$2,競技csv!$1:$1,0)-MATCH("競技名",競技csv!$1:$1,0)+1,0)) | I14: =IF(G14="","",VLOOKUP(G14,競技csv!$F:$O,MATCH(I$2,競技csv!$1:$1,0)-MATCH("競技名",競技csv!$1:$1,0)+1,0)) | N14: =IF(M14="","",VLOOKUP(M14,競技csv!$F:$O,MATCH(N$2,競技csv!$1:$1,0)-MATCH("競技名",競技csv!$1:$1,0)+1,0)) | O14: =IF(M14="","",VLOOKUP(M14,競技csv!$F:$O,MATCH(O$2,競技csv!$1:$1,0)-MATCH("競技名",競技csv!$1:$1,0)+1,0)) | T14: =IF($S14="","",IF(VLOOKUP($C14&$S14,$P$65:$S$70,MATCH(T$2,$P$64:$S$64,0),0)=0,"",VLOOKUP($C14&$S14,$P$65:$S$70,MATCH(T$2,$P$64:$S$64,0),0))) | U14: =IF($S14="","",VLOOKUP($C14&$S14,$P$65:$S$70,MATCH(U$2,$P$64:$S$64,0),0)) | V14: =IF($S14="","",VLOOKUP($C14&$S14,$P$65:$S$70,MATCH(V$2,$P$64:$S$64,0),0)) | W14: =IF(S14="","",C14&S14) | X14: =IF($W14=X$1,X13+1,X13) -> 0 | Y14: =IF($W14=Y$1,Y13+1,Y13) -> 0 | Z14: =IF($W14=Z$1,Z13+1,Z13) -> 0 | AA14: =IF($W14=AA$1,AA13+1,AA13) -> 0 | AB14: =IF($W14=AB$1,AB13+1,AB13) -> 0 | AC14: =IF($W14=AC$1,AC13+1,AC13) -> 0 | AD14: {=IF(W14="","",INDIRECT(ADDRESS(ROW(),MATCH(W14,$1:$1,0))))}
E15: =IF(ISERROR(VLOOKUP($D15,INDIRECT("中学"&$C15&"選手データ!A:Z"),MATCH("姓",INDIRECT("中学"&$C15&"選手データ!1:1"),0),0)),"",VLOOKUP($D15,INDIRECT("中学"&$C15&"選手データ!A:Z"),MATCH("姓",INDIRECT("中学"&$C15&"選手データ!1:1"),0),0)&" "&VLOOKUP($D15,INDIRECT("中学"&$C15&"選手データ!A:Z"),MATCH("名",INDIRECT("中学"&$C15&"選手データ!1:1"),0),0)) | F15: =IF(ISERROR(VLOOKUP($D15,INDIRECT("中学"&$C15&"選手データ!A:Z"),MATCH(F$2,INDIRECT("中学"&$C15&"選手データ!1:1"),0),0)),"",VLOOKUP($D15,INDIRECT("中学"&$C15&"選手データ!A:Z"),MATCH(F$2,INDIRECT("中学"&$C15&"選手データ!1:1"),0),0)) | H15: =IF(G15="","",VLOOKUP(G15,競技csv!$F:$O,MATCH(H$2,競技csv!$1:$1,0)-MATCH("競技名",競技csv!$1:$1,0)+1,0)) | I15: =IF(G15="","",VLOOKUP(G15,競技csv!$F:$O,MATCH(I$2,競技csv!$1:$1,0)-MATCH("競技名",競技csv!$1:$1,0)+1,0)) | N15: =IF(M15="","",VLOOKUP(M15,競技csv!$F:$O,MATCH(N$2,競技csv!$1:$1,0)-MATCH("競技名",競技csv!$1:$1,0)+1,0)) | O15: =IF(M15="","",VLOOKUP(M15,競技csv!$F:$O,MATCH(O$2,競技csv!$1:$1,0)-MATCH("競技名",競技csv!$1:$1,0)+1,0)) | T15: =IF($S15="","",IF(VLOOKUP($C15&$S15,$P$65:$S$70,MATCH(T$2,$P$64:$S$64,0),0)=0,"",VLOOKUP($C15&$S15,$P$65:$S$70,MATCH(T$2,$P$64:$S$64,0),0))) | U15: =IF($S15="","",VLOOKUP($C15&$S15,$P$65:$S$70,MATCH(U$2,$P$64:$S$64,0),0)) | V15: =IF($S15="","",VLOOKUP($C15&$S15,$P$65:$S$70,MATCH(V$2,$P$64:$S$64,0),0)) | W15: =IF(S15="","",C15&S15) | X15: =IF($W15=X$1,X14+1,X14) -> 0 | Y15: =IF($W15=Y$1,Y14+1,Y14) -> 0 | Z15: =IF($W15=Z$1,Z14+1,Z14) -> 0 | AA15: =IF($W15=AA$1,AA14+1,AA14) -> 0 | AB15: =IF($W15=AB$1,AB14+1,AB14) -> 0 | AC15: =IF($W15=AC$1,AC14+1,AC14) -> 0 | AD15: {=IF(W15="","",INDIRECT(ADDRESS(ROW(),MATCH(W15,$1:$1,0))))}
E16: =IF(ISERROR(VLOOKUP($D16,INDIRECT("中学"&$C16&"選手データ!A:Z"),MATCH("姓",INDIRECT("中学"&$C16&"選手データ!1:1"),0),0)),"",VLOOKUP($D16,INDIRECT("中学"&$C16&"選手データ!A:Z"),MATCH("姓",INDIRECT("中学"&$C16&"選手データ!1:1"),0),0)&" "&VLOOKUP($D16,INDIRECT("中学"&$C16&"選手データ!A:Z"),MATCH("名",INDIRECT("中学"&$C16&"選手データ!1:1"),0),0)) | F16: =IF(ISERROR(VLOOKUP($D16,INDIRECT("中学"&$C16&"選手データ!A:Z"),MATCH(F$2,INDIRECT("中学"&$C16&"選手データ!1:1"),0),0)),"",VLOOKUP($D16,INDIRECT("中学"&$C16&"選手データ!A:Z"),MATCH(F$2,INDIRECT("中学"&$C16&"選手データ!1:1"),0),0)) | H16: =IF(G16="","",VLOOKUP(G16,競技csv!$F:$O,MATCH(H$2,競技csv!$1:$1,0)-MATCH("競技名",競技csv!$1:$1,0)+1,0)) | I16: =IF(G16="","",VLOOKUP(G16,競技csv!$F:$O,MATCH(I$2,競技csv!$1:$1,0)-MATCH("競技名",競技csv!$1:$1,0)+1,0)) | N16: =IF(M16="","",VLOOKUP(M16,競技csv!$F:$O,MATCH(N$2,競技csv!$1:$1,0)-MATCH("競技名",競技csv!$1:$1,0)+1,0)) | O16: =IF(M16="","",VLOOKUP(M16,競技csv!$F:$O,MATCH(O$2,競技csv!$1:$1,0)-MATCH("競技名",競技csv!$1:$1,0)+1,0)) | T16: =IF($S16="","",IF(VLOOKUP($C16&$S16,$P$65:$S$70,MATCH(T$2,$P$64:$S$64,0),0)=0,"",VLOOKUP($C16&$S16,$P$65:$S$70,MATCH(T$2,$P$64:$S$64,0),0))) | U16: =IF($S16="","",VLOOKUP($C16&$S16,$P$65:$S$70,MATCH(U$2,$P$64:$S$64,0),0)) | V16: =IF($S16="","",VLOOKUP($C16&$S16,$P$65:$S$70,MATCH(V$2,$P$64:$S$64,0),0)) | W16: =IF(S16="","",C16&S16) | X16: =IF($W16=X$1,X15+1,X15) -> 0 | Y16: =IF($W16=Y$1,Y15+1,Y15) -> 0 | Z16: =IF($W16=Z$1,Z15+1,Z15) -> 0 | AA16: =IF($W16=AA$1,AA15+1,AA15) -> 0 | AB16: =IF($W16=AB$1,AB15+1,AB15) -> 0 | AC16: =IF($W16=AC$1,AC15+1,AC15) -> 0 | AD16: {=IF(W16="","",INDIRECT(ADDRESS(ROW(),MATCH(W16,$1:$1,0))))}
E17: =IF(ISERROR(VLOOKUP($D17,INDIRECT("中学"&$C17&"選手データ!A:Z"),MATCH("姓",INDIRECT("中学"&$C17&"選手データ!1:1"),0),0)),"",VLOOKUP($D17,INDIRECT("中学"&$C17&"選手データ!A:Z"),MATCH("姓",INDIRECT("中学"&$C17&"選手データ!1:1"),0),0)&" "&VLOOKUP($D17,INDIRECT("中学"&$C17&"選手データ!A:Z"),MATCH("名",INDIRECT("中学"&$C17&"選手データ!1:1"),0),0)) | F17: =IF(ISERROR(VLOOKUP($D17,INDIRECT("中学"&$C17&"選手データ!A:Z"),MATCH(F$2,INDIRECT("中学"&$C17&"選手データ!1:1"),0),0)),"",VLOOKUP($D17,INDIRECT("中学"&$C17&"選手データ!A:Z"),MATCH(F$2,INDIRECT("中学"&$C17&"選手データ!1:1"),0),0)) | H17: =IF(G17="","",VLOOKUP(G17,競技csv!$F:$O,MATCH(H$2,競技csv!$1:$1,0)-MATCH("競技名",競技csv!$1:$1,0)+1,0)) | I17: =IF(G17="","",VLOOKUP(G17,競技csv!$F:$O,MATCH(I$2,競技csv!$1:$1,0)-MATCH("競技名",競技csv!$1:$1,0)+1,0)) | N17: =IF(M17="","",VLOOKUP(M17,競技csv!$F:$O,MATCH(N$2,競技csv!$1:$1,0)-MATCH("競技名",競技csv!$1:$1,0)+1,0)) | O17: =IF(M17="","",VLOOKUP(M17,競技csv!$F:$O,MATCH(O$2,競技csv!$1:$1,0)-MATCH("競技名",競技csv!$1:$1,0)+1,0)) | T17: =IF($S17="","",IF(VLOOKUP($C17&$S17,$P$65:$S$70,MATCH(T$2,$P$64:$S$64,0),0)=0,"",VLOOKUP($C17&$S17,$P$65:$S$70,MATCH(T$2,$P$64:$S$64,0),0))) | U17: =IF($S17="","",VLOOKUP($C17&$S17,$P$65:$S$70,MATCH(U$2,$P$64:$S$64,0),0)) | V17: =IF($S17="","",VLOOKUP($C17&$S17,$P$65:$S$70,MATCH(V$2,$P$64:$S$64,0),0)) | W17: =IF(S17="","",C17&S17) | X17: =IF($W17=X$1,X16+1,X16) -> 0 | Y17: =IF($W17=Y$1,Y16+1,Y16) -> 0 | Z17: =IF($W17=Z$1,Z16+1,Z16) -> 0 | AA17: =IF($W17=AA$1,AA16+1,AA16) -> 0 | AB17: =IF($W17=AB$1,AB16+1,AB16) -> 0 | AC17: =IF($W17=AC$1,AC16+1,AC16) -> 0 | AD17: {=IF(W17="","",INDIRECT(ADDRESS(ROW(),MATCH(W17,$1:$1,0))))}
E18: =IF(ISERROR(VLOOKUP($D18,INDIRECT("中学"&$C18&"選手データ!A:Z"),MATCH("姓",INDIRECT("中学"&$C18&"選手データ!1:1"),0),0)),"",VLOOKUP($D18,INDIRECT("中学"&$C18&"選手データ!A:Z"),MATCH("姓",INDIRECT("中学"&$C18&"選手データ!1:1"),0),0)&" "&VLOOKUP($D18,INDIRECT("中学"&$C18&"選手データ!A:Z"),MATCH("名",INDIRECT("中学"&$C18&"選手データ!1:1"),0),0)) | F18: =IF(ISERROR(VLOOKUP($D18,INDIRECT("中学"&$C18&"選手データ!A:Z"),MATCH(F$2,INDIRECT("中学"&$C18&"選手データ!1:1"),0),0)),"",VLOOKUP($D18,INDIRECT("中学"&$C18&"選手データ!A:Z"),MATCH(F$2,INDIRECT("中学"&$C18&"選手データ!1:1"),0),0)) | H18: =IF(G18="","",VLOOKUP(G18,競技csv!$F:$O,MATCH(H$2,競技csv!$1:$1,0)-MATCH("競技名",競技csv!$1:$1,0)+1,0)) | I18: =IF(G18="","",VLOOKUP(G18,競技csv!$F:$O,MATCH(I$2,競技csv!$1:$1,0)-MATCH("競技名",競技csv!$1:$1,0)+1,0)) | N18: =IF(M18="","",VLOOKUP(M18,競技csv!$F:$O,MATCH(N$2,競技csv!$1:$1,0)-MATCH("競技名",競技csv!$1:$1,0)+1,0)) | O18: =IF(M18="","",VLOOKUP(M18,競技csv!$F:$O,MATCH(O$2,競技csv!$1:$1,0)-MATCH("競技名",競技csv!$1:$1,0)+1,0)) | T18: =IF($S18="","",IF(VLOOKUP($C18&$S18,$P$65:$S$70,MATCH(T$2,$P$64:$S$64,0),0)=0,"",VLOOKUP($C18&$S18,$P$65:$S$70,MATCH(T$2,$P$64:$S$64,0),0))) | U18: =IF($S18="","",VLOOKUP($C18&$S18,$P$65:$S$70,MATCH(U$2,$P$64:$S$64,0),0)) | V18: =IF($S18="","",VLOOKUP($C18&$S18,$P$65:$S$70,MATCH(V$2,$P$64:$S$64,0),0)) | W18: =IF(S18="","",C18&S18) | X18: =IF($W18=X$1,X17+1,X17) -> 0 | Y18: =IF($W18=Y$1,Y17+1,Y17) -> 0 | Z18: =IF($W18=Z$1,Z17+1,Z17) -> 0 | AA18: =IF($W18=AA$1,AA17+1,AA17) -> 0 | AB18: =IF($W18=AB$1,AB17+1,AB17) -> 0 | AC18: =IF($W18=AC$1,AC17+1,AC17) -> 0 | AD18: {=IF(W18="","",INDIRECT(ADDRESS(ROW(),MATCH(W18,$1:$1,0))))}
E19: =IF(ISERROR(VLOOKUP($D19,INDIRECT("中学"&$C19&"選手データ!A:Z"),MATCH("姓",INDIRECT("中学"&$C19&"選手データ!1:1"),0),0)),"",VLOOKUP($D19,INDIRECT("中学"&$C19&"選手データ!A:Z"),MATCH("姓",INDIRECT("中学"&$C19&"選手データ!1:1"),0),0)&" "&VLOOKUP($D19,INDIRECT("中学"&$C19&"選手データ!A:Z"),MATCH("名",INDIRECT("中学"&$C19&"選手データ!1:1"),0),0)) | F19: =IF(ISERROR(VLOOKUP($D19,INDIRECT("中学"&$C19&"選手データ!A:Z"),MATCH(F$2,INDIRECT("中学"&$C19&"選手データ!1:1"),0),0)),"",VLOOKUP($D19,INDIRECT("中学"&$C19&"選手データ!A:Z"),MATCH(F$2,INDIRECT("中学"&$C19&"選手データ!1:1"),0),0)) | H19: =IF(G19="","",VLOOKUP(G19,競技csv!$F:$O,MATCH(H$2,競技csv!$1:$1,0)-MATCH("競技名",競技csv!$1:$1,0)+1,0)) | I19: =IF(G19="","",VLOOKUP(G19,競技csv!$F:$O,MATCH(I$2,競技csv!$1:$1,0)-MATCH("競技名",競技csv!$1:$1,0)+1,0)) | N19: =IF(M19="","",VLOOKUP(M19,競技csv!$F:$O,MATCH(N$2,競技csv!$1:$1,0)-MATCH("競技名",競技csv!$1:$1,0)+1,0)) | O19: =IF(M19="","",VLOOKUP(M19,競技csv!$F:$O,MATCH(O$2,競技csv!$1:$1,0)-MATCH("競技名",競技csv!$1:$1,0)+1,0)) | T19: =IF($S19="","",IF(VLOOKUP($C19&$S19,$P$65:$S$70,MATCH(T$2,$P$64:$S$64,0),0)=0,"",VLOOKUP($C19&$S19,$P$65:$S$70,MATCH(T$2,$P$64:$S$64,0),0))) | U19: =IF($S19="","",VLOOKUP($C19&$S19,$P$65:$S$70,MATCH(U$2,$P$64:$S$64,0),0)) | V19: =IF($S19="","",VLOOKUP($C19&$S19,$P$65:$S$70,MATCH(V$2,$P$64:$S$64,0),0)) | W19: =IF(S19="","",C19&S19) | X19: =IF($W19=X$1,X18+1,X18) -> 0 | Y19: =IF($W19=Y$1,Y18+1,Y18) -> 0 | Z19: =IF($W19=Z$1,Z18+1,Z18) -> 0 | AA19: =IF($W19=AA$1,AA18+1,AA18) -> 0 | AB19: =IF($W19=AB$1,AB18+1,AB18) -> 0 | AC19: =IF($W19=AC$1,AC18+1,AC18) -> 0 | AD19: {=IF(W19="","",INDIRECT(ADDRESS(ROW(),MATCH(W19,$1:$1,0))))}
E20: =IF(ISERROR(VLOOKUP($D20,INDIRECT("中学"&$C20&"選手データ!A:Z"),MATCH("姓",INDIRECT("中学"&$C20&"選手データ!1:1"),0),0)),"",VLOOKUP($D20,INDIRECT("中学"&$C20&"選手データ!A:Z"),MATCH("姓",INDIRECT("中学"&$C20&"選手データ!1:1"),0),0)&" "&VLOOKUP($D20,INDIRECT("中学"&$C20&"選手データ!A:Z"),MATCH("名",INDIRECT("中学"&$C20&"選手データ!1:1"),0),0)) | F20: =IF(ISERROR(VLOOKUP($D20,INDIRECT("中学"&$C20&"選手データ!A:Z"),MATCH(F$2,INDIRECT("中学"&$C20&"選手データ!1:1"),0),0)),"",VLOOKUP($D20,INDIRECT("中学"&$C20&"選手データ!A:Z"),MATCH(F$2,INDIRECT("中学"&$C20&"選手データ!1:1"),0),0)) | H20: =IF(G20="","",VLOOKUP(G20,競技csv!$F:$O,MATCH(H$2,競技csv!$1:$1,0)-MATCH("競技名",競技csv!$1:$1,0)+1,0)) | I20: =IF(G20="","",VLOOKUP(G20,競技csv!$F:$O,MATCH(I$2,競技csv!$1:$1,0)-MATCH("競技名",競技csv!$1:$1,0)+1,0)) | N20: =IF(M20="","",VLOOKUP(M20,競技csv!$F:$O,MATCH(N$2,競技csv!$1:$1,0)-MATCH("競技名",競技csv!$1:$1,0)+1,0)) | O20: =IF(M20="","",VLOOKUP(M20,競技csv!$F:$O,MATCH(O$2,競技csv!$1:$1,0)-MATCH("競技名",競技csv!$1:$1,0)+1,0)) | T20: =IF($S20="","",IF(VLOOKUP($C20&$S20,$P$65:$S$70,MATCH(T$2,$P$64:$S$64,0),0)=0,"",VLOOKUP($C20&$S20,$P$65:$S$70,MATCH(T$2,$P$64:$S$64,0),0))) | U20: =IF($S20="","",VLOOKUP($C20&$S20,$P$65:$S$70,MATCH(U$2,$P$64:$S$64,0),0)) | V20: =IF($S20="","",VLOOKUP($C20&$S20,$P$65:$S$70,MATCH(V$2,$P$64:$S$64,0),0)) | W20: =IF(S20="","",C20&S20) | X20: =IF($W20=X$1,X19+1,X19) -> 0 | Y20: =IF($W20=Y$1,Y19+1,Y19) -> 0 | Z20: =IF($W20=Z$1,Z19+1,Z19) -> 0 | AA20: =IF($W20=AA$1,AA19+1,AA19) -> 0 | AB20: =IF($W20=AB$1,AB19+1,AB19) -> 0 | AC20: =IF($W20=AC$1,AC19+1,AC19) -> 0 | AD20: {=IF(W20="","",INDIRECT(ADDRESS(ROW(),MATCH(W20,$1:$1,0))))}
E21: =IF(ISERROR(VLOOKUP($D21,INDIRECT("中学"&$C21&"選手データ!A:Z"),MATCH("姓",INDIRECT("中学"&$C21&"選手データ!1:1"),0),0)),"",VLOOKUP($D21,INDIRECT("中学"&$C21&"選手データ!A:Z"),MATCH("姓",INDIRECT("中学"&$C21&"選手データ!1:1"),0),0)&" "&VLOOKUP($D21,INDIRECT("中学"&$C21&"選手データ!A:Z"),MATCH("名",INDIRECT("中学"&$C21&"選手データ!1:1"),0),0)) | F21: =IF(ISERROR(VLOOKUP($D21,INDIRECT("中学"&$C21&"選手データ!A:Z"),MATCH(F$2,INDIRECT("中学"&$C21&"選手データ!1:1"),0),0)),"",VLOOKUP($D21,INDIRECT("中学"&$C21&"選手データ!A:Z"),MATCH(F$2,INDIRECT("中学"&$C21&"選手データ!1:1"),0),0)) | H21: =IF(G21="","",VLOOKUP(G21,競技csv!$F:$O,MATCH(H$2,競技csv!$1:$1,0)-MATCH("競技名",競技csv!$1:$1,0)+1,0)) | I21: =IF(G21="","",VLOOKUP(G21,競技csv!$F:$O,MATCH(I$2,競技csv!$1:$1,0)-MATCH("競技名",競技csv!$1:$1,0)+1,0)) | N21: =IF(M21="","",VLOOKUP(M21,競技csv!$F:$O,MATCH(N$2,競技csv!$1:$1,0)-MATCH("競技名",競技csv!$1:$1,0)+1,0)) | O21: =IF(M21="","",VLOOKUP(M21,競技csv!$F:$O,MATCH(O$2,競技csv!$1:$1,0)-MATCH("競技名",競技csv!$1:$1,0)+1,0)) | T21: =IF($S21="","",IF(VLOOKUP($C21&$S21,$P$65:$S$70,MATCH(T$2,$P$64:$S$64,0),0)=0,"",VLOOKUP($C21&$S21,$P$65:$S$70,MATCH(T$2,$P$64:$S$64,0),0))) | U21: =IF($S21="","",VLOOKUP($C21&$S21,$P$65:$S$70,MATCH(U$2,$P$64:$S$64,0),0)) | V21: =IF($S21="","",VLOOKUP($C21&$S21,$P$65:$S$70,MATCH(V$2,$P$64:$S$64,0),0)) | W21: =IF(S21="","",C21&S21) | X21: =IF($W21=X$1,X20+1,X20) -> 0 | Y21: =IF($W21=Y$1,Y20+1,Y20) -> 0 | Z21: =IF($W21=Z$1,Z20+1,Z20) -> 0 | AA21: =IF($W21=AA$1,AA20+1,AA20) -> 0 | AB21: =IF($W21=AB$1,AB20+1,AB20) -> 0 | AC21: =IF($W21=AC$1,AC20+1,AC20) -> 0 | AD21: {=IF(W21="","",INDIRECT(ADDRESS(ROW(),MATCH(W21,$1:$1,0))))}
... E60: =IF(ISERROR(VLOOKUP($D60,INDIRECT("中学"&$C60&"選手データ!A:Z"),MATCH("姓",INDIRECT("中学"&$C60&"選手データ!1:1"),0),0)),"",VLOOKUP($D60,INDIRECT("中学"&$C60&"選手データ!A:Z"),MATCH("姓",INDIRECT("中学"&$C60&"選手データ!1:1"),0),0)&" "&VLOOKUP($D60,INDIRECT("中学"&$C60&"選手データ!A:Z"),MATCH("名",INDIRECT("中学"&$C60&"選手データ!1:1"),0),0)) | F60: =IF(ISERROR(VLOOKUP($D60,INDIRECT("中学"&$C60&"選手データ!A:Z"),MATCH(F$2,INDIRECT("中学"&$C60&"選手データ!1:1"),0),0)),"",VLOOKUP($D60,INDIRECT("中学"&$C60&"選手データ!A:Z"),MATCH(F$2,INDIRECT("中学"&$C60&"選手データ!1:1"),0),0)) | H60: =IF(G60="","",VLOOKUP(G60,競技csv!$F:$O,MATCH(H$2,競技csv!$1:$1,0)-MATCH("競技名",競技csv!$1:$1,0)+1,0)) | I60: =IF(G60="","",VLOOKUP(G60,競技csv!$F:$O,MATCH(I$2,競技csv!$1:$1,0)-MATCH("競技名",競技csv!$1:$1,0)+1,0)) | N60: =IF(M60="","",VLOOKUP(M60,競技csv!$F:$O,MATCH(N$2,競技csv!$1:$1,0)-MATCH("競技名",競技csv!$1:$1,0)+1,0)) | O60: =IF(M60="","",VLOOKUP(M60,競技csv!$F:$O,MATCH(O$2,競技csv!$1:$1,0)-MATCH("競技名",競技csv!$1:$1,0)+1,0)) | T60: =IF($S60="","",IF(VLOOKUP($C60&$S60,$P$65:$S$70,MATCH(T$2,$P$64:$S$64,0),0)=0,"",VLOOKUP($C60&$S60,$P$65:$S$70,MATCH(T$2,$P$64:$S$64,0),0))) | U60: =IF($S60="","",VLOOKUP($C60&$S60,$P$65:$S$70,MATCH(U$2,$P$64:$S$64,0),0)) | V60: =IF($S60="","",VLOOKUP($C60&$S60,$P$65:$S$70,MATCH(V$2,$P$64:$S$64,0),0)) | W60: =IF(S60="","",C60&S60) | X60: =IF($W60=X$1,X59+1,X59) -> 0 | Y60: =IF($W60=Y$1,Y59+1,Y59) -> 0 | Z60: =IF($W60=Z$1,Z59+1,Z59) -> 0 | AA60: =IF($W60=AA$1,AA59+1,AA59) -> 0 | AB60: =IF($W60=AB$1,AB59+1,AB59) -> 0 | AC60: =IF($W60=AC$1,AC59+1,AC59) -> 0 | AD60: {=IF(W60="","",INDIRECT(ADDRESS(ROW(),MATCH(W60,$1:$1,0))))}
E61: =IF(ISERROR(VLOOKUP($D61,INDIRECT("中学"&$C61&"選手データ!A:Z"),MATCH("姓",INDIRECT("中学"&$C61&"選手データ!1:1"),0),0)),"",VLOOKUP($D61,INDIRECT("中学"&$C61&"選手データ!A:Z"),MATCH("姓",INDIRECT("中学"&$C61&"選手データ!1:1"),0),0)&" "&VLOOKUP($D61,INDIRECT("中学"&$C61&"選手データ!A:Z"),MATCH("名",INDIRECT("中学"&$C61&"選手データ!1:1"),0),0)) | F61: =IF(ISERROR(VLOOKUP($D61,INDIRECT("中学"&$C61&"選手データ!A:Z"),MATCH(F$2,INDIRECT("中学"&$C61&"選手データ!1:1"),0),0)),"",VLOOKUP($D61,INDIRECT("中学"&$C61&"選手データ!A:Z"),MATCH(F$2,INDIRECT("中学"&$C61&"選手データ!1:1"),0),0)) | H61: =IF(G61="","",VLOOKUP(G61,競技csv!$F:$O,MATCH(H$2,競技csv!$1:$1,0)-MATCH("競技名",競技csv!$1:$1,0)+1,0)) | I61: =IF(G61="","",VLOOKUP(G61,競技csv!$F:$O,MATCH(I$2,競技csv!$1:$1,0)-MATCH("競技名",競技csv!$1:$1,0)+1,0)) | N61: =IF(M61="","",VLOOKUP(M61,競技csv!$F:$O,MATCH(N$2,競技csv!$1:$1,0)-MATCH("競技名",競技csv!$1:$1,0)+1,0)) | O61: =IF(M61="","",VLOOKUP(M61,競技csv!$F:$O,MATCH(O$2,競技csv!$1:$1,0)-MATCH("競技名",競技csv!$1:$1,0)+1,0)) | T61: =IF($S61="","",IF(VLOOKUP($C61&$S61,$P$65:$S$70,MATCH(T$2,$P$64:$S$64,0),0)=0,"",VLOOKUP($C61&$S61,$P$65:$S$70,MATCH(T$2,$P$64:$S$64,0),0))) | U61: =IF($S61="","",VLOOKUP($C61&$S61,$P$65:$S$70,MATCH(U$2,$P$64:$S$64,0),0)) | V61: =IF($S61="","",VLOOKUP($C61&$S61,$P$65:$S$70,MATCH(V$2,$P$64:$S$64,0),0)) | W61: =IF(S61="","",C61&S61) | X61: =IF($W61=X$1,X49+1,X49) -> 0 | Y61: =IF($W61=Y$1,Y49+1,Y49) -> 0 | Z61: =IF($W61=Z$1,Z49+1,Z49) -> 0 | AA61: =IF($W61=AA$1,AA49+1,AA49) -> 0 | AB61: =IF($W61=AB$1,AB49+1,AB49) -> 0 | AC61: =IF($W61=AC$1,AC49+1,AC49) -> 0 | AD61: {=IF(W61="","",INDIRECT(ADDRESS(ROW(),MATCH(W61,$1:$1,0))))}
E62: =IF(ISERROR(VLOOKUP($D62,INDIRECT("中学"&$C62&"選手データ!A:Z"),MATCH("姓",INDIRECT("中学"&$C62&"選手データ!1:1"),0),0)),"",VLOOKUP($D62,INDIRECT("中学"&$C62&"選手データ!A:Z"),MATCH("姓",INDIRECT("中学"&$C62&"選手データ!1:1"),0),0)&" "&VLOOKUP($D62,INDIRECT("中学"&$C62&"選手データ!A:Z"),MATCH("名",INDIRECT("中学"&$C62&"選手データ!1:1"),0),0)) | F62: =IF(ISERROR(VLOOKUP($D62,INDIRECT("中学"&$C62&"選手データ!A:Z"),MATCH(F$2,INDIRECT("中学"&$C62&"選手データ!1:1"),0),0)),"",VLOOKUP($D62,INDIRECT("中学"&$C62&"選手データ!A:Z"),MATCH(F$2,INDIRECT("中学"&$C62&"選手データ!1:1"),0),0)) | H62: =IF(G62="","",VLOOKUP(G62,競技csv!$F:$O,MATCH(H$2,競技csv!$1:$1,0)-MATCH("競技名",競技csv!$1:$1,0)+1,0)) | I62: =IF(G62="","",VLOOKUP(G62,競技csv!$F:$O,MATCH(I$2,競技csv!$1:$1,0)-MATCH("競技名",競技csv!$1:$1,0)+1,0)) | N62: =IF(M62="","",VLOOKUP(M62,競技csv!$F:$O,MATCH(N$2,競技csv!$1:$1,0)-MATCH("競技名",競技csv!$1:$1,0)+1,0)) | O62: =IF(M62="","",VLOOKUP(M62,競技csv!$F:$O,MATCH(O$2,競技csv!$1:$1,0)-MATCH("競技名",競技csv!$1:$1,0)+1,0)) | T62: =IF($S62="","",IF(VLOOKUP($C62&$S62,$P$65:$S$70,MATCH(T$2,$P$64:$S$64,0),0)=0,"",VLOOKUP($C62&$S62,$P$65:$S$70,MATCH(T$2,$P$64:$S$64,0),0))) | U62: =IF($S62="","",VLOOKUP($C62&$S62,$P$65:$S$70,MATCH(U$2,$P$64:$S$64,0),0)) | V62: =IF($S62="","",VLOOKUP($C62&$S62,$P$65:$S$70,MATCH(V$2,$P$64:$S$64,0),0)) | W62: =IF(S62="","",C62&S62) | X62: =IF($W62=X$1,X61+1,X61) -> 0 | Y62: =IF($W62=Y$1,Y61+1,Y61) -> 0 | Z62: =IF($W62=Z$1,Z61+1,Z61) -> 0 | AA62: =IF($W62=AA$1,AA61+1,AA61) -> 0 | AB62: =IF($W62=AB$1,AB61+1,AB61) -> 0 | AC62: =IF($W62=AC$1,AC61+1,AC61) -> 0 | AD62: {=IF(W62="","",INDIRECT(ADDRESS(ROW(),MATCH(W62,$1:$1,0))))}
C63: 保護者の出場許諾も得ており、健康診断の結果異状がないので出場を認めます。 | M63: 〔エントリー〕 | P63: 〔リレータイム〕 | U63: =IF($S63="","",VLOOKUP($C63&$S63,$N$65:$S$70,MATCH(U$2,$N$64:$S$64,0),0)) | V63: =IF($S63="","",VLOOKUP($C63&$S63,$N$65:$S$70,MATCH(V$2,$N$64:$S$64,0),0)) | X63: =IF(MAX(X3:X62)>0,1,0) -> 0 | Y63: =IF(MAX(Y3:Y62)>0,1,0) -> 0 | Z63: =IF(MAX(Z3:Z62)>0,1,0) -> 0 | AA63: =IF(MAX(AA3:AA62)>0,1,0) -> 0 | AB63: =IF(MAX(AB3:AB62)>0,1,0) -> 0 | AC63: =IF(MAX(AC3:AC62)>0,1,0) -> 0
C64: =TODAY() -> 46293 | G64: 市川市陸上競技協会 会長 殿 | M64: 個人種目 | P64: チーム名 | Q64: 分 | R64: 秒 | S64: 以下
C65: 学校名 | E65: =IF(ISERROR(VLOOKUP($D3,INDIRECT($C3&"選手データ!A:Z"),MATCH("所属",INDIRECT($C3&"選手データ!1:1"),0),0)),"",VLOOKUP($D3,INDIRECT($C3&"選手データ!A:Z"),MATCH("所属",INDIRECT($C3&"選手データ!1:1"),0),0)&"学校") | M65: =COUNTA(G3:G62,M3:M62) -> 0 | P65: 男Ａ
C66: 所属長 | K66: 印 | M66: リレー | P66: 男Ｂ
C67: 顧問名 | M67: =SUM(X63:AC63) -> 0 | P67: 男Ｃ
C68: 希望審判部署 | E68: 氏名 | M68: アスリートビブス未所持者 | P68: 女Ａ
M69: =COUNTBLANK(D3:D62)-COUNTBLANK(E3:E62) -> 0 | P69: 女Ｂ
M70: 参加費 | P70: 女Ｃ
M71: ="300円×"&M65&"種目+600円×"&M67&"チーム+200円×"&M69&"名" -> 300円×0種目+600円×0チーム+200円×0名
M72: =300*M65+600*M67+200*M69 -> 0

Sheet 高校一覧表
A1: 性別 | C1: ="第"&DBCS(YEAR(TODAY())-1949)&"回 市川市民体育大会 申込一覧表（高等学校）" -> 第７７回 市川市民体育大会 申込一覧表（高等学校） | X1: 男Ａ | Y1: 男Ｂ | Z1: 男Ｃ | AA1: 女Ａ | AB1: 女Ｂ | AC1: 女Ｃ
C2: 性別 | D2: ナンバー | E2: 氏名 | F2: 学年 | G2: 種目１ | H2: 入力FLG | I2: 学年FLG | J2: 分 | K2: 秒/m | L2: 以下/cm | M2: 種目２ | N2: 入力FLG | O2: 学年FLG | P2: 分 | Q2: 秒/m | R2: 以下/cm | S2: リレー | T2: 分 | U2: 秒 | V2: 以下 | W2: チーム名
A3: 男 | B3: 3 | E3: =IF(ISERROR(VLOOKUP($D3,INDIRECT("高校"&$C3&"選手データ!A:Z"),MATCH("姓",INDIRECT("高校"&$C3&"選手データ!1:1"),0),0)),"",VLOOKUP($D3,INDIRECT("高校"&$C3&"選手データ!A:Z"),MATCH("姓",INDIRECT("高校"&$C3&"選手データ!1:1"),0),0)&" "&VLOOKUP($D3,INDIRECT("高校"&$C3&"選手データ!A:Z"),MATCH("名",INDIRECT("高校"&$C3&"選手データ!1:1"),0),0)) | F3: =IF(ISERROR(VLOOKUP($D3,INDIRECT("高校"&$C3&"選手データ!A:Z"),MATCH(F$2,INDIRECT("高校"&$C3&"選手データ!1:1"),0),0)),"",VLOOKUP($D3,INDIRECT("高校"&$C3&"選手データ!A:Z"),MATCH(F$2,INDIRECT("高校"&$C3&"選手データ!1:1"),0),0)) | H3: =IF(G3="","",VLOOKUP(G3,競技csv!$F:$O,MATCH(H$2,競技csv!$1:$1,0)-MATCH("競技名",競技csv!$1:$1,0)+1,0)) | I3: =IF(G3="","",VLOOKUP(G3,競技csv!$F:$O,MATCH(I$2,競技csv!$1:$1,0)-MATCH("競技名",競技csv!$1:$1,0)+1,0)) | N3: =IF(M3="","",VLOOKUP(M3,競技csv!$F:$O,MATCH(N$2,競技csv!$1:$1,0)-MATCH("競技名",競技csv!$1:$1,0)+1,0)) | O3: =IF(M3="","",VLOOKUP(M3,競技csv!$F:$O,MATCH(O$2,競技csv!$1:$1,0)-MATCH("競技名",競技csv!$1:$1,0)+1,0)) | T3: =IF($S3="","",IF(VLOOKUP($C3&$S3,$P$65:$S$70,MATCH(T$2,$P$64:$S$64,0),0)=0,"",VLOOKUP($C3&$S3,$P$65:$S$70,MATCH(T$2,$P$64:$S$64,0),0))) | U3: =IF($S3="","",VLOOKUP($C3&$S3,$P$65:$S$70,MATCH(U$2,$P$64:$S$64,0),0)) | V3: =IF($S3="","",VLOOKUP($C3&$S3,$P$65:$S$70,MATCH(V$2,$P$64:$S$64,0),0)) | W3: =IF(S3="","",C3&S3) | X3: =IF($W3=X$1,X2+1,X2) -> 0 | Y3: =IF($W3=Y$1,Y2+1,Y2) -> 0 | Z3: =IF($W3=Z$1,Z2+1,Z2) -> 0 | AA3: =IF($W3=AA$1,AA2+1,AA2) -> 0 | AB3: =IF($W3=AB$1,AB2+1,AB2) -> 0 | AC3: =IF($W3=AC$1,AC2+1,AC2) -> 0 | AD3: {=IF(W3="","",INDIRECT(ADDRESS(ROW(),MATCH(W3,$1:$1,0))))}
A4: 女 | B4: 4 | E4: =IF(ISERROR(VLOOKUP($D4,INDIRECT("高校"&$C4&"選手データ!A:Z"),MATCH("姓",INDIRECT("高校"&$C4&"選手データ!1:1"),0),0)),"",VLOOKUP($D4,INDIRECT("高校"&$C4&"選手データ!A:Z"),MATCH("姓",INDIRECT("高校"&$C4&"選手データ!1:1"),0),0)&" "&VLOOKUP($D4,INDIRECT("高校"&$C4&"選手データ!A:Z"),MATCH("名",INDIRECT("高校"&$C4&"選手データ!1:1"),0),0)) | F4: =IF(ISERROR(VLOOKUP($D4,INDIRECT("高校"&$C4&"選手データ!A:Z"),MATCH(F$2,INDIRECT("高校"&$C4&"選手データ!1:1"),0),0)),"",VLOOKUP($D4,INDIRECT("高校"&$C4&"選手データ!A:Z"),MATCH(F$2,INDIRECT("高校"&$C4&"選手データ!1:1"),0),0)) | H4: =IF(G4="","",VLOOKUP(G4,競技csv!$F:$O,MATCH(H$2,競技csv!$1:$1,0)-MATCH("競技名",競技csv!$1:$1,0)+1,0)) | I4: =IF(G4="","",VLOOKUP(G4,競技csv!$F:$O,MATCH(I$2,競技csv!$1:$1,0)-MATCH("競技名",競技csv!$1:$1,0)+1,0)) | N4: =IF(M4="","",VLOOKUP(M4,競技csv!$F:$O,MATCH(N$2,競技csv!$1:$1,0)-MATCH("競技名",競技csv!$1:$1,0)+1,0)) | O4: =IF(M4="","",VLOOKUP(M4,競技csv!$F:$O,MATCH(O$2,競技csv!$1:$1,0)-MATCH("競技名",競技csv!$1:$1,0)+1,0)) | T4: =IF($S4="","",IF(VLOOKUP($C4&$S4,$P$65:$S$70,MATCH(T$2,$P$64:$S$64,0),0)=0,"",VLOOKUP($C4&$S4,$P$65:$S$70,MATCH(T$2,$P$64:$S$64,0),0))) | U4: =IF($S4="","",VLOOKUP($C4&$S4,$P$65:$S$70,MATCH(U$2,$P$64:$S$64,0),0)) | V4: =IF($S4="","",VLOOKUP($C4&$S4,$P$65:$S$70,MATCH(V$2,$P$64:$S$64,0),0)) | W4: =IF(S4="","",C4&S4) | X4: =IF($W4=X$1,X3+1,X3) -> 0 | Y4: =IF($W4=Y$1,Y3+1,Y3) -> 0 | Z4: =IF($W4=Z$1,Z3+1,Z3) -> 0 | AA4: =IF($W4=AA$1,AA3+1,AA3) -> 0 | AB4: =IF($W4=AB$1,AB3+1,AB3) -> 0 | AC4: =IF($W4=AC$1,AC3+1,AC3) -> 0 | AD4: {=IF(W4="","",INDIRECT(ADDRESS(ROW(),MATCH(W4,$1:$1,0))))}
A5: リレー | E5: =IF(ISERROR(VLOOKUP($D5,INDIRECT("高校"&$C5&"選手データ!A:Z"),MATCH("姓",INDIRECT("高校"&$C5&"選手データ!1:1"),0),0)),"",VLOOKUP($D5,INDIRECT("高校"&$C5&"選手データ!A:Z"),MATCH("姓",INDIRECT("高校"&$C5&"選手データ!1:1"),0),0)&" "&VLOOKUP($D5,INDIRECT("高校"&$C5&"選手データ!A:Z"),MATCH("名",INDIRECT("高校"&$C5&"選手データ!1:1"),0),0)) | F5: =IF(ISERROR(VLOOKUP($D5,INDIRECT("高校"&$C5&"選手データ!A:Z"),MATCH(F$2,INDIRECT("高校"&$C5&"選手データ!1:1"),0),0)),"",VLOOKUP($D5,INDIRECT("高校"&$C5&"選手データ!A:Z"),MATCH(F$2,INDIRECT("高校"&$C5&"選手データ!1:1"),0),0)) | H5: =IF(G5="","",VLOOKUP(G5,競技csv!$F:$O,MATCH(H$2,競技csv!$1:$1,0)-MATCH("競技名",競技csv!$1:$1,0)+1,0)) | I5: =IF(G5="","",VLOOKUP(G5,競技csv!$F:$O,MATCH(I$2,競技csv!$1:$1,0)-MATCH("競技名",競技csv!$1:$1,0)+1,0)) | N5: =IF(M5="","",VLOOKUP(M5,競技csv!$F:$O,MATCH(N$2,競技csv!$1:$1,0)-MATCH("競技名",競技csv!$1:$1,0)+1,0)) | O5: =IF(M5="","",VLOOKUP(M5,競技csv!$F:$O,MATCH(O$2,競技csv!$1:$1,0)-MATCH("競技名",競技csv!$1:$1,0)+1,0)) | T5: =IF($S5="","",IF(VLOOKUP($C5&$S5,$P$65:$S$70,MATCH(T$2,$P$64:$S$64,0),0)=0,"",VLOOKUP($C5&$S5,$P$65:$S$70,MATCH(T$2,$P$64:$S$64,0),0))) | U5: =IF($S5="","",VLOOKUP($C5&$S5,$P$65:$S$70,MATCH(U$2,$P$64:$S$64,0),0)) | V5: =IF($S5="","",VLOOKUP($C5&$S5,$P$65:$S$70,MATCH(V$2,$P$64:$S$64,0),0)) | W5: =IF(S5="","",C5&S5) | X5: =IF($W5=X$1,X4+1,X4) -> 0 | Y5: =IF($W5=Y$1,Y4+1,Y4) -> 0 | Z5: =IF($W5=Z$1,Z4+1,Z4) -> 0 | AA5: =IF($W5=AA$1,AA4+1,AA4) -> 0 | AB5: =IF($W5=AB$1,AB4+1,AB4) -> 0 | AC5: =IF($W5=AC$1,AC4+1,AC4) -> 0 | AD5: {=IF(W5="","",INDIRECT(ADDRESS(ROW(),MATCH(W5,$1:$1,0))))}
E6: =IF(ISERROR(VLOOKUP($D6,INDIRECT("高校"&$C6&"選手データ!A:Z"),MATCH("姓",INDIRECT("高校"&$C6&"選手データ!1:1"),0),0)),"",VLOOKUP($D6,INDIRECT("高校"&$C6&"選手データ!A:Z"),MATCH("姓",INDIRECT("高校"&$C6&"選手データ!1:1"),0),0)&" "&VLOOKUP($D6,INDIRECT("高校"&$C6&"選手データ!A:Z"),MATCH("名",INDIRECT("高校"&$C6&"選手データ!1:1"),0),0)) | F6: =IF(ISERROR(VLOOKUP($D6,INDIRECT("高校"&$C6&"選手データ!A:Z"),MATCH(F$2,INDIRECT("高校"&$C6&"選手データ!1:1"),0),0)),"",VLOOKUP($D6,INDIRECT("高校"&$C6&"選手データ!A:Z"),MATCH(F$2,INDIRECT("高校"&$C6&"選手データ!1:1"),0),0)) | H6: =IF(G6="","",VLOOKUP(G6,競技csv!$F:$O,MATCH(H$2,競技csv!$1:$1,0)-MATCH("競技名",競技csv!$1:$1,0)+1,0)) | I6: =IF(G6="","",VLOOKUP(G6,競技csv!$F:$O,MATCH(I$2,競技csv!$1:$1,0)-MATCH("競技名",競技csv!$1:$1,0)+1,0)) | N6: =IF(M6="","",VLOOKUP(M6,競技csv!$F:$O,MATCH(N$2,競技csv!$1:$1,0)-MATCH("競技名",競技csv!$1:$1,0)+1,0)) | O6: =IF(M6="","",VLOOKUP(M6,競技csv!$F:$O,MATCH(O$2,競技csv!$1:$1,0)-MATCH("競技名",競技csv!$1:$1,0)+1,0)) | T6: =IF($S6="","",IF(VLOOKUP($C6&$S6,$P$65:$S$70,MATCH(T$2,$P$64:$S$64,0),0)=0,"",VLOOKUP($C6&$S6,$P$65:$S$70,MATCH(T$2,$P$64:$S$64,0),0))) | U6: =IF($S6="","",VLOOKUP($C6&$S6,$P$65:$S$70,MATCH(U$2,$P$64:$S$64,0),0)) | V6: =IF($S6="","",VLOOKUP($C6&$S6,$P$65:$S$70,MATCH(V$2,$P$64:$S$64,0),0)) | W6: =IF(S6="","",C6&S6) | X6: =IF($W6=X$1,X5+1,X5) -> 0 | Y6: =IF($W6=Y$1,Y5+1,Y5) -> 0 | Z6: =IF($W6=Z$1,Z5+1,Z5) -> 0 | AA6: =IF($W6=AA$1,AA5+1,AA5) -> 0 | AB6: =IF($W6=AB$1,AB5+1,AB5) -> 0 | AC6: =IF($W6=AC$1,AC5+1,AC5) -> 0 | AD6: {=IF(W6="","",INDIRECT(ADDRESS(ROW(),MATCH(W6,$1:$1,0))))}
A7: Ａ | B7: 0 | E7: =IF(ISERROR(VLOOKUP($D7,INDIRECT("高校"&$C7&"選手データ!A:Z"),MATCH("姓",INDIRECT("高校"&$C7&"選手データ!1:1"),0),0)),"",VLOOKUP($D7,INDIRECT("高校"&$C7&"選手データ!A:Z"),MATCH("姓",INDIRECT("高校"&$C7&"選手データ!1:1"),0),0)&" "&VLOOKUP($D7,INDIRECT("高校"&$C7&"選手データ!A:Z"),MATCH("名",INDIRECT("高校"&$C7&"選手データ!1:1"),0),0)) | F7: =IF(ISERROR(VLOOKUP($D7,INDIRECT("高校"&$C7&"選手データ!A:Z"),MATCH(F$2,INDIRECT("高校"&$C7&"選手データ!1:1"),0),0)),"",VLOOKUP($D7,INDIRECT("高校"&$C7&"選手データ!A:Z"),MATCH(F$2,INDIRECT("高校"&$C7&"選手データ!1:1"),0),0)) | H7: =IF(G7="","",VLOOKUP(G7,競技csv!$F:$O,MATCH(H$2,競技csv!$1:$1,0)-MATCH("競技名",競技csv!$1:$1,0)+1,0)) | I7: =IF(G7="","",VLOOKUP(G7,競技csv!$F:$O,MATCH(I$2,競技csv!$1:$1,0)-MATCH("競技名",競技csv!$1:$1,0)+1,0)) | N7: =IF(M7="","",VLOOKUP(M7,競技csv!$F:$O,MATCH(N$2,競技csv!$1:$1,0)-MATCH("競技名",競技csv!$1:$1,0)+1,0)) | O7: =IF(M7="","",VLOOKUP(M7,競技csv!$F:$O,MATCH(O$2,競技csv!$1:$1,0)-MATCH("競技名",競技csv!$1:$1,0)+1,0)) | T7: =IF($S7="","",IF(VLOOKUP($C7&$S7,$P$65:$S$70,MATCH(T$2,$P$64:$S$64,0),0)=0,"",VLOOKUP($C7&$S7,$P$65:$S$70,MATCH(T$2,$P$64:$S$64,0),0))) | U7: =IF($S7="","",VLOOKUP($C7&$S7,$P$65:$S$70,MATCH(U$2,$P$64:$S$64,0),0)) | V7: =IF($S7="","",VLOOKUP($C7&$S7,$P$65:$S$70,MATCH(V$2,$P$64:$S$64,0),0)) | W7: =IF(S7="","",C7&S7) | X7: =IF($W7=X$1,X6+1,X6) -> 0 | Y7: =IF($W7=Y$1,Y6+1,Y6) -> 0 | Z7: =IF($W7=Z$1,Z6+1,Z6) -> 0 | AA7: =IF($W7=AA$1,AA6+1,AA6) -> 0 | AB7: =IF($W7=AB$1,AB6+1,AB6) -> 0 | AC7: =IF($W7=AC$1,AC6+1,AC6) -> 0 | AD7: {=IF(W7="","",INDIRECT(ADDRESS(ROW(),MATCH(W7,$1:$1,0))))}
A8: Ｂ | B8: 100 | E8: =IF(ISERROR(VLOOKUP($D8,INDIRECT("高校"&$C8&"選手データ!A:Z"),MATCH("姓",INDIRECT("高校"&$C8&"選手データ!1:1"),0),0)),"",VLOOKUP($D8,INDIRECT("高校"&$C8&"選手データ!A:Z"),MATCH("姓",INDIRECT("高校"&$C8&"選手データ!1:1"),0),0)&" "&VLOOKUP($D8,INDIRECT("高校"&$C8&"選手データ!A:Z"),MATCH("名",INDIRECT("高校"&$C8&"選手データ!1:1"),0),0)) | F8: =IF(ISERROR(VLOOKUP($D8,INDIRECT("高校"&$C8&"選手データ!A:Z"),MATCH(F$2,INDIRECT("高校"&$C8&"選手データ!1:1"),0),0)),"",VLOOKUP($D8,INDIRECT("高校"&$C8&"選手データ!A:Z"),MATCH(F$2,INDIRECT("高校"&$C8&"選手データ!1:1"),0),0)) | H8: =IF(G8="","",VLOOKUP(G8,競技csv!$F:$O,MATCH(H$2,競技csv!$1:$1,0)-MATCH("競技名",競技csv!$1:$1,0)+1,0)) | I8: =IF(G8="","",VLOOKUP(G8,競技csv!$F:$O,MATCH(I$2,競技csv!$1:$1,0)-MATCH("競技名",競技csv!$1:$1,0)+1,0)) | N8: =IF(M8="","",VLOOKUP(M8,競技csv!$F:$O,MATCH(N$2,競技csv!$1:$1,0)-MATCH("競技名",競技csv!$1:$1,0)+1,0)) | O8: =IF(M8="","",VLOOKUP(M8,競技csv!$F:$O,MATCH(O$2,競技csv!$1:$1,0)-MATCH("競技名",競技csv!$1:$1,0)+1,0)) | T8: =IF($S8="","",IF(VLOOKUP($C8&$S8,$P$65:$S$70,MATCH(T$2,$P$64:$S$64,0),0)=0,"",VLOOKUP($C8&$S8,$P$65:$S$70,MATCH(T$2,$P$64:$S$64,0),0))) | U8: =IF($S8="","",VLOOKUP($C8&$S8,$P$65:$S$70,MATCH(U$2,$P$64:$S$64,0),0)) | V8: =IF($S8="","",VLOOKUP($C8&$S8,$P$65:$S$70,MATCH(V$2,$P$64:$S$64,0),0)) | W8: =IF(S8="","",C8&S8) | X8: =IF($W8=X$1,X7+1,X7) -> 0 | Y8: =IF($W8=Y$1,Y7+1,Y7) -> 0 | Z8: =IF($W8=Z$1,Z7+1,Z7) -> 0 | AA8: =IF($W8=AA$1,AA7+1,AA7) -> 0 | AB8: =IF($W8=AB$1,AB7+1,AB7) -> 0 | AC8: =IF($W8=AC$1,AC7+1,AC7) -> 0 | AD8: {=IF(W8="","",INDIRECT(ADDRESS(ROW(),MATCH(W8,$1:$1,0))))}
A9: Ｃ | B9: 200 | E9: =IF(ISERROR(VLOOKUP($D9,INDIRECT("高校"&$C9&"選手データ!A:Z"),MATCH("姓",INDIRECT("高校"&$C9&"選手データ!1:1"),0),0)),"",VLOOKUP($D9,INDIRECT("高校"&$C9&"選手データ!A:Z"),MATCH("姓",INDIRECT("高校"&$C9&"選手データ!1:1"),0),0)&" "&VLOOKUP($D9,INDIRECT("高校"&$C9&"選手データ!A:Z"),MATCH("名",INDIRECT("高校"&$C9&"選手データ!1:1"),0),0)) | F9: =IF(ISERROR(VLOOKUP($D9,INDIRECT("高校"&$C9&"選手データ!A:Z"),MATCH(F$2,INDIRECT("高校"&$C9&"選手データ!1:1"),0),0)),"",VLOOKUP($D9,INDIRECT("高校"&$C9&"選手データ!A:Z"),MATCH(F$2,INDIRECT("高校"&$C9&"選手データ!1:1"),0),0)) | H9: =IF(G9="","",VLOOKUP(G9,競技csv!$F:$O,MATCH(H$2,競技csv!$1:$1,0)-MATCH("競技名",競技csv!$1:$1,0)+1,0)) | I9: =IF(G9="","",VLOOKUP(G9,競技csv!$F:$O,MATCH(I$2,競技csv!$1:$1,0)-MATCH("競技名",競技csv!$1:$1,0)+1,0)) | N9: =IF(M9="","",VLOOKUP(M9,競技csv!$F:$O,MATCH(N$2,競技csv!$1:$1,0)-MATCH("競技名",競技csv!$1:$1,0)+1,0)) | O9: =IF(M9="","",VLOOKUP(M9,競技csv!$F:$O,MATCH(O$2,競技csv!$1:$1,0)-MATCH("競技名",競技csv!$1:$1,0)+1,0)) | T9: =IF($S9="","",IF(VLOOKUP($C9&$S9,$P$65:$S$70,MATCH(T$2,$P$64:$S$64,0),0)=0,"",VLOOKUP($C9&$S9,$P$65:$S$70,MATCH(T$2,$P$64:$S$64,0),0))) | U9: =IF($S9="","",VLOOKUP($C9&$S9,$P$65:$S$70,MATCH(U$2,$P$64:$S$64,0),0)) | V9: =IF($S9="","",VLOOKUP($C9&$S9,$P$65:$S$70,MATCH(V$2,$P$64:$S$64,0),0)) | W9: =IF(S9="","",C9&S9) | X9: =IF($W9=X$1,X8+1,X8) -> 0 | Y9: =IF($W9=Y$1,Y8+1,Y8) -> 0 | Z9: =IF($W9=Z$1,Z8+1,Z8) -> 0 | AA9: =IF($W9=AA$1,AA8+1,AA8) -> 0 | AB9: =IF($W9=AB$1,AB8+1,AB8) -> 0 | AC9: =IF($W9=AC$1,AC8+1,AC8) -> 0 | AD9: {=IF(W9="","",INDIRECT(ADDRESS(ROW(),MATCH(W9,$1:$1,0))))}
E10: =IF(ISERROR(VLOOKUP($D10,INDIRECT("高校"&$C10&"選手データ!A:Z"),MATCH("姓",INDIRECT("高校"&$C10&"選手データ!1:1"),0),0)),"",VLOOKUP($D10,INDIRECT("高校"&$C10&"選手データ!A:Z"),MATCH("姓",INDIRECT("高校"&$C10&"選手データ!1:1"),0),0)&" "&VLOOKUP($D10,INDIRECT("高校"&$C10&"選手データ!A:Z"),MATCH("名",INDIRECT("高校"&$C10&"選手データ!1:1"),0),0)) | F10: =IF(ISERROR(VLOOKUP($D10,INDIRECT("高校"&$C10&"選手データ!A:Z"),MATCH(F$2,INDIRECT("高校"&$C10&"選手データ!1:1"),0),0)),"",VLOOKUP($D10,INDIRECT("高校"&$C10&"選手データ!A:Z"),MATCH(F$2,INDIRECT("高校"&$C10&"選手データ!1:1"),0),0)) | H10: =IF(G10="","",VLOOKUP(G10,競技csv!$F:$O,MATCH(H$2,競技csv!$1:$1,0)-MATCH("競技名",競技csv!$1:$1,0)+1,0)) | I10: =IF(G10="","",VLOOKUP(G10,競技csv!$F:$O,MATCH(I$2,競技csv!$1:$1,0)-MATCH("競技名",競技csv!$1:$1,0)+1,0)) | N10: =IF(M10="","",VLOOKUP(M10,競技csv!$F:$O,MATCH(N$2,競技csv!$1:$1,0)-MATCH("競技名",競技csv!$1:$1,0)+1,0)) | O10: =IF(M10="","",VLOOKUP(M10,競技csv!$F:$O,MATCH(O$2,競技csv!$1:$1,0)-MATCH("競技名",競技csv!$1:$1,0)+1,0)) | T10: =IF($S10="","",IF(VLOOKUP($C10&$S10,$P$65:$S$70,MATCH(T$2,$P$64:$S$64,0),0)=0,"",VLOOKUP($C10&$S10,$P$65:$S$70,MATCH(T$2,$P$64:$S$64,0),0))) | U10: =IF($S10="","",VLOOKUP($C10&$S10,$P$65:$S$70,MATCH(U$2,$P$64:$S$64,0),0)) | V10: =IF($S10="","",VLOOKUP($C10&$S10,$P$65:$S$70,MATCH(V$2,$P$64:$S$64,0),0)) | W10: =IF(S10="","",C10&S10) | X10: =IF($W10=X$1,X9+1,X9) -> 0 | Y10: =IF($W10=Y$1,Y9+1,Y9) -> 0 | Z10: =IF($W10=Z$1,Z9+1,Z9) -> 0 | AA10: =IF($W10=AA$1,AA9+1,AA9) -> 0 | AB10: =IF($W10=AB$1,AB9+1,AB9) -> 0 | AC10: =IF($W10=AC$1,AC9+1,AC9) -> 0 | AD10: {=IF(W10="","",INDIRECT(ADDRESS(ROW(),MATCH(W10,$1:$1,0))))}
E11: =IF(ISERROR(VLOOKUP($D11,INDIRECT("高校"&$C11&"選手データ!A:Z"),MATCH("姓",INDIRECT("高校"&$C11&"選手データ!1:1"),0),0)),"",VLOOKUP($D11,INDIRECT("高校"&$C11&"選手データ!A:Z"),MATCH("姓",INDIRECT("高校"&$C11&"選手データ!1:1"),0),0)&" "&VLOOKUP($D11,INDIRECT("高校"&$C11&"選手データ!A:Z"),MATCH("名",INDIRECT("高校"&$C11&"選手データ!1:1"),0),0)) | F11: =IF(ISERROR(VLOOKUP($D11,INDIRECT("高校"&$C11&"選手データ!A:Z"),MATCH(F$2,INDIRECT("高校"&$C11&"選手データ!1:1"),0),0)),"",VLOOKUP($D11,INDIRECT("高校"&$C11&"選手データ!A:Z"),MATCH(F$2,INDIRECT("高校"&$C11&"選手データ!1:1"),0),0)) | H11: =IF(G11="","",VLOOKUP(G11,競技csv!$F:$O,MATCH(H$2,競技csv!$1:$1,0)-MATCH("競技名",競技csv!$1:$1,0)+1,0)) | I11: =IF(G11="","",VLOOKUP(G11,競技csv!$F:$O,MATCH(I$2,競技csv!$1:$1,0)-MATCH("競技名",競技csv!$1:$1,0)+1,0)) | N11: =IF(M11="","",VLOOKUP(M11,競技csv!$F:$O,MATCH(N$2,競技csv!$1:$1,0)-MATCH("競技名",競技csv!$1:$1,0)+1,0)) | O11: =IF(M11="","",VLOOKUP(M11,競技csv!$F:$O,MATCH(O$2,競技csv!$1:$1,0)-MATCH("競技名",競技csv!$1:$1,0)+1,0)) | T11: =IF($S11="","",IF(VLOOKUP($C11&$S11,$P$65:$S$70,MATCH(T$2,$P$64:$S$64,0),0)=0,"",VLOOKUP($C11&$S11,$P$65:$S$70,MATCH(T$2,$P$64:$S$64,0),0))) | U11: =IF($S11="","",VLOOKUP($C11&$S11,$P$65:$S$70,MATCH(U$2,$P$64:$S$64,0),0)) | V11: =IF($S11="","",VLOOKUP($C11&$S11,$P$65:$S$70,MATCH(V$2,$P$64:$S$64,0),0)) | W11: =IF(S11="","",C11&S11) | X11: =IF($W11=X$1,X10+1,X10) -> 0 | Y11: =IF($W11=Y$1,Y10+1,Y10) -> 0 | Z11: =IF($W11=Z$1,Z10+1,Z10) -> 0 | AA11: =IF($W11=AA$1,AA10+1,AA10) -> 0 | AB11: =IF($W11=AB$1,AB10+1,AB10) -> 0 | AC11: =IF($W11=AC$1,AC10+1,AC10) -> 0 | AD11: {=IF(W11="","",INDIRECT(ADDRESS(ROW(),MATCH(W11,$1:$1,0))))}
E12: =IF(ISERROR(VLOOKUP($D12,INDIRECT("高校"&$C12&"選手データ!A:Z"),MATCH("姓",INDIRECT("高校"&$C12&"選手データ!1:1"),0),0)),"",VLOOKUP($D12,INDIRECT("高校"&$C12&"選手データ!A:Z"),MATCH("姓",INDIRECT("高校"&$C12&"選手データ!1:1"),0),0)&" "&VLOOKUP($D12,INDIRECT("高校"&$C12&"選手データ!A:Z"),MATCH("名",INDIRECT("高校"&$C12&"選手データ!1:1"),0),0)) | F12: =IF(ISERROR(VLOOKUP($D12,INDIRECT("高校"&$C12&"選手データ!A:Z"),MATCH(F$2,INDIRECT("高校"&$C12&"選手データ!1:1"),0),0)),"",VLOOKUP($D12,INDIRECT("高校"&$C12&"選手データ!A:Z"),MATCH(F$2,INDIRECT("高校"&$C12&"選手データ!1:1"),0),0)) | H12: =IF(G12="","",VLOOKUP(G12,競技csv!$F:$O,MATCH(H$2,競技csv!$1:$1,0)-MATCH("競技名",競技csv!$1:$1,0)+1,0)) | I12: =IF(G12="","",VLOOKUP(G12,競技csv!$F:$O,MATCH(I$2,競技csv!$1:$1,0)-MATCH("競技名",競技csv!$1:$1,0)+1,0)) | N12: =IF(M12="","",VLOOKUP(M12,競技csv!$F:$O,MATCH(N$2,競技csv!$1:$1,0)-MATCH("競技名",競技csv!$1:$1,0)+1,0)) | O12: =IF(M12="","",VLOOKUP(M12,競技csv!$F:$O,MATCH(O$2,競技csv!$1:$1,0)-MATCH("競技名",競技csv!$1:$1,0)+1,0)) | T12: =IF($S12="","",IF(VLOOKUP($C12&$S12,$P$65:$S$70,MATCH(T$2,$P$64:$S$64,0),0)=0,"",VLOOKUP($C12&$S12,$P$65:$S$70,MATCH(T$2,$P$64:$S$64,0),0))) | U12: =IF($S12="","",VLOOKUP($C12&$S12,$P$65:$S$70,MATCH(U$2,$P$64:$S$64,0),0)) | V12: =IF($S12="","",VLOOKUP($C12&$S12,$P$65:$S$70,MATCH(V$2,$P$64:$S$64,0),0)) | W12: =IF(S12="","",C12&S12) | X12: =IF($W12=X$1,X11+1,X11) -> 0 | Y12: =IF($W12=Y$1,Y11+1,Y11) -> 0 | Z12: =IF($W12=Z$1,Z11+1,Z11) -> 0 | AA12: =IF($W12=AA$1,AA11+1,AA11) -> 0 | AB12: =IF($W12=AB$1,AB11+1,AB11) -> 0 | AC12: =IF($W12=AC$1,AC11+1,AC11) -> 0 | AD12: {=IF(W12="","",INDIRECT(ADDRESS(ROW(),MATCH(W12,$1:$1,0))))}
E13: =IF(ISERROR(VLOOKUP($D13,INDIRECT("高校"&$C13&"選手データ!A:Z"),MATCH("姓",INDIRECT("高校"&$C13&"選手データ!1:1"),0),0)),"",VLOOKUP($D13,INDIRECT("高校"&$C13&"選手データ!A:Z"),MATCH("姓",INDIRECT("高校"&$C13&"選手データ!1:1"),0),0)&" "&VLOOKUP($D13,INDIRECT("高校"&$C13&"選手データ!A:Z"),MATCH("名",INDIRECT("高校"&$C13&"選手データ!1:1"),0),0)) | F13: =IF(ISERROR(VLOOKUP($D13,INDIRECT("高校"&$C13&"選手データ!A:Z"),MATCH(F$2,INDIRECT("高校"&$C13&"選手データ!1:1"),0),0)),"",VLOOKUP($D13,INDIRECT("高校"&$C13&"選手データ!A:Z"),MATCH(F$2,INDIRECT("高校"&$C13&"選手データ!1:1"),0),0)) | H13: =IF(G13="","",VLOOKUP(G13,競技csv!$F:$O,MATCH(H$2,競技csv!$1:$1,0)-MATCH("競技名",競技csv!$1:$1,0)+1,0)) | I13: =IF(G13="","",VLOOKUP(G13,競技csv!$F:$O,MATCH(I$2,競技csv!$1:$1,0)-MATCH("競技名",競技csv!$1:$1,0)+1,0)) | N13: =IF(M13="","",VLOOKUP(M13,競技csv!$F:$O,MATCH(N$2,競技csv!$1:$1,0)-MATCH("競技名",競技csv!$1:$1,0)+1,0)) | O13: =IF(M13="","",VLOOKUP(M13,競技csv!$F:$O,MATCH(O$2,競技csv!$1:$1,0)-MATCH("競技名",競技csv!$1:$1,0)+1,0)) | T13: =IF($S13="","",IF(VLOOKUP($C13&$S13,$P$65:$S$70,MATCH(T$2,$P$64:$S$64,0),0)=0,"",VLOOKUP($C13&$S13,$P$65:$S$70,MATCH(T$2,$P$64:$S$64,0),0))) | U13: =IF($S13="","",VLOOKUP($C13&$S13,$P$65:$S$70,MATCH(U$2,$P$64:$S$64,0),0)) | V13: =IF($S13="","",VLOOKUP($C13&$S13,$P$65:$S$70,MATCH(V$2,$P$64:$S$64,0),0)) | W13: =IF(S13="","",C13&S13) | X13: =IF($W13=X$1,X12+1,X12) -> 0 | Y13: =IF($W13=Y$1,Y12+1,Y12) -> 0 | Z13: =IF($W13=Z$1,Z12+1,Z12) -> 0 | AA13: =IF($W13=AA$1,AA12+1,AA12) -> 0 | AB13: =IF($W13=AB$1,AB12+1,AB12) -> 0 | AC13: =IF($W13=AC$1,AC12+1,AC12) -> 0 | AD13: {=IF(W13="","",INDIRECT(ADDRESS(ROW(),MATCH(W13,$1:$1,0))))}
E14: =IF(ISERROR(VLOOKUP($D14,INDIRECT("高校"&$C14&"選手データ!A:Z"),MATCH("姓",INDIRECT("高校"&$C14&"選手データ!1:1"),0),0)),"",VLOOKUP($D14,INDIRECT("高校"&$C14&"選手データ!A:Z"),MATCH("姓",INDIRECT("高校"&$C14&"選手データ!1:1"),0),0)&" "&VLOOKUP($D14,INDIRECT("高校"&$C14&"選手データ!A:Z"),MATCH("名",INDIRECT("高校"&$C14&"選手データ!1:1"),0),0)) | F14: =IF(ISERROR(VLOOKUP($D14,INDIRECT("高校"&$C14&"選手データ!A:Z"),MATCH(F$2,INDIRECT("高校"&$C14&"選手データ!1:1"),0),0)),"",VLOOKUP($D14,INDIRECT("高校"&$C14&"選手データ!A:Z"),MATCH(F$2,INDIRECT("高校"&$C14&"選手データ!1:1"),0),0)) | H14: =IF(G14="","",VLOOKUP(G14,競技csv!$F:$O,MATCH(H$2,競技csv!$1:$1,0)-MATCH("競技名",競技csv!$1:$1,0)+1,0)) | I14: =IF(G14="","",VLOOKUP(G14,競技csv!$F:$O,MATCH(I$2,競技csv!$1:$1,0)-MATCH("競技名",競技csv!$1:$1,0)+1,0)) | N14: =IF(M14="","",VLOOKUP(M14,競技csv!$F:$O,MATCH(N$2,競技csv!$1:$1,0)-MATCH("競技名",競技csv!$1:$1,0)+1,0)) | O14: =IF(M14="","",VLOOKUP(M14,競技csv!$F:$O,MATCH(O$2,競技csv!$1:$1,0)-MATCH("競技名",競技csv!$1:$1,0)+1,0)) | T14: =IF($S14="","",IF(VLOOKUP($C14&$S14,$P$65:$S$70,MATCH(T$2,$P$64:$S$64,0),0)=0,"",VLOOKUP($C14&$S14,$P$65:$S$70,MATCH(T$2,$P$64:$S$64,0),0))) | U14: =IF($S14="","",VLOOKUP($C14&$S14,$P$65:$S$70,MATCH(U$2,$P$64:$S$64,0),0)) | V14: =IF($S14="","",VLOOKUP($C14&$S14,$P$65:$S$70,MATCH(V$2,$P$64:$S$64,0),0)) | W14: =IF(S14="","",C14&S14) | X14: =IF($W14=X$1,X13+1,X13) -> 0 | Y14: =IF($W14=Y$1,Y13+1,Y13) -> 0 | Z14: =IF($W14=Z$1,Z13+1,Z13) -> 0 | AA14: =IF($W14=AA$1,AA13+1,AA13) -> 0 | AB14: =IF($W14=AB$1,AB13+1,AB13) -> 0 | AC14: =IF($W14=AC$1,AC13+1,AC13) -> 0 | AD14: {=IF(W14="","",INDIRECT(ADDRESS(ROW(),MATCH(W14,$1:$1,0))))}
E15: =IF(ISERROR(VLOOKUP($D15,INDIRECT("高校"&$C15&"選手データ!A:Z"),MATCH("姓",INDIRECT("高校"&$C15&"選手データ!1:1"),0),0)),"",VLOOKUP($D15,INDIRECT("高校"&$C15&"選手データ!A:Z"),MATCH("姓",INDIRECT("高校"&$C15&"選手データ!1:1"),0),0)&" "&VLOOKUP($D15,INDIRECT("高校"&$C15&"選手データ!A:Z"),MATCH("名",INDIRECT("高校"&$C15&"選手データ!1:1"),0),0)) | F15: =IF(ISERROR(VLOOKUP($D15,INDIRECT("高校"&$C15&"選手データ!A:Z"),MATCH(F$2,INDIRECT("高校"&$C15&"選手データ!1:1"),0),0)),"",VLOOKUP($D15,INDIRECT("高校"&$C15&"選手データ!A:Z"),MATCH(F$2,INDIRECT("高校"&$C15&"選手データ!1:1"),0),0)) | H15: =IF(G15="","",VLOOKUP(G15,競技csv!$F:$O,MATCH(H$2,競技csv!$1:$1,0)-MATCH("競技名",競技csv!$1:$1,0)+1,0)) | I15: =IF(G15="","",VLOOKUP(G15,競技csv!$F:$O,MATCH(I$2,競技csv!$1:$1,0)-MATCH("競技名",競技csv!$1:$1,0)+1,0)) | N15: =IF(M15="","",VLOOKUP(M15,競技csv!$F:$O,MATCH(N$2,競技csv!$1:$1,0)-MATCH("競技名",競技csv!$1:$1,0)+1,0)) | O15: =IF(M15="","",VLOOKUP(M15,競技csv!$F:$O,MATCH(O$2,競技csv!$1:$1,0)-MATCH("競技名",競技csv!$1:$1,0)+1,0)) | T15: =IF($S15="","",IF(VLOOKUP($C15&$S15,$P$65:$S$70,MATCH(T$2,$P$64:$S$64,0),0)=0,"",VLOOKUP($C15&$S15,$P$65:$S$70,MATCH(T$2,$P$64:$S$64,0),0))) | U15: =IF($S15="","",VLOOKUP($C15&$S15,$P$65:$S$70,MATCH(U$2,$P$64:$S$64,0),0)) | V15: =IF($S15="","",VLOOKUP($C15&$S15,$P$65:$S$70,MATCH(V$2,$P$64:$S$64,0),0)) | W15: =IF(S15="","",C15&S15) | X15: =IF($W15=X$1,X14+1,X14) -> 0 | Y15: =IF($W15=Y$1,Y14+1,Y14) -> 0 | Z15: =IF($W15=Z$1,Z14+1,Z14) -> 0 | AA15: =IF($W15=AA$1,AA14+1,AA14) -> 0 | AB15: =IF($W15=AB$1,AB14+1,AB14) -> 0 | AC15: =IF($W15=AC$1,AC14+1,AC14) -> 0 | AD15: {=IF(W15="","",INDIRECT(ADDRESS(ROW(),MATCH(W15,$1:$1,0))))}
E16: =IF(ISERROR(VLOOKUP($D16,INDIRECT("高校"&$C16&"選手データ!A:Z"),MATCH("姓",INDIRECT("高校"&$C16&"選手データ!1:1"),0),0)),"",VLOOKUP($D16,INDIRECT("高校"&$C16&"選手データ!A:Z"),MATCH("姓",INDIRECT("高校"&$C16&"選手データ!1:1"),0),0)&" "&VLOOKUP($D16,INDIRECT("高校"&$C16&"選手データ!A:Z"),MATCH("名",INDIRECT("高校"&$C16&"選手データ!1:1"),0),0)) | F16: =IF(ISERROR(VLOOKUP($D16,INDIRECT("高校"&$C16&"選手データ!A:Z"),MATCH(F$2,INDIRECT("高校"&$C16&"選手データ!1:1"),0),0)),"",VLOOKUP($D16,INDIRECT("高校"&$C16&"選手データ!A:Z"),MATCH(F$2,INDIRECT("高校"&$C16&"選手データ!1:1"),0),0)) | H16: =IF(G16="","",VLOOKUP(G16,競技csv!$F:$O,MATCH(H$2,競技csv!$1:$1,0)-MATCH("競技名",競技csv!$1:$1,0)+1,0)) | I16: =IF(G16="","",VLOOKUP(G16,競技csv!$F:$O,MATCH(I$2,競技csv!$1:$1,0)-MATCH("競技名",競技csv!$1:$1,0)+1,0)) | N16: =IF(M16="","",VLOOKUP(M16,競技csv!$F:$O,MATCH(N$2,競技csv!$1:$1,0)-MATCH("競技名",競技csv!$1:$1,0)+1,0)) | O16: =IF(M16="","",VLOOKUP(M16,競技csv!$F:$O,MATCH(O$2,競技csv!$1:$1,0)-MATCH("競技名",競技csv!$1:$1,0)+1,0)) | T16: =IF($S16="","",IF(VLOOKUP($C16&$S16,$P$65:$S$70,MATCH(T$2,$P$64:$S$64,0),0)=0,"",VLOOKUP($C16&$S16,$P$65:$S$70,MATCH(T$2,$P$64:$S$64,0),0))) | U16: =IF($S16="","",VLOOKUP($C16&$S16,$P$65:$S$70,MATCH(U$2,$P$64:$S$64,0),0)) | V16: =IF($S16="","",VLOOKUP($C16&$S16,$P$65:$S$70,MATCH(V$2,$P$64:$S$64,0),0)) | W16: =IF(S16="","",C16&S16) | X16: =IF($W16=X$1,X15+1,X15) -> 0 | Y16: =IF($W16=Y$1,Y15+1,Y15) -> 0 | Z16: =IF($W16=Z$1,Z15+1,Z15) -> 0 | AA16: =IF($W16=AA$1,AA15+1,AA15) -> 0 | AB16: =IF($W16=AB$1,AB15+1,AB15) -> 0 | AC16: =IF($W16=AC$1,AC15+1,AC15) -> 0 | AD16: {=IF(W16="","",INDIRECT(ADDRESS(ROW(),MATCH(W16,$1:$1,0))))}
E17: =IF(ISERROR(VLOOKUP($D17,INDIRECT("高校"&$C17&"選手データ!A:Z"),MATCH("姓",INDIRECT("高校"&$C17&"選手データ!1:1"),0),0)),"",VLOOKUP($D17,INDIRECT("高校"&$C17&"選手データ!A:Z"),MATCH("姓",INDIRECT("高校"&$C17&"選手データ!1:1"),0),0)&" "&VLOOKUP($D17,INDIRECT("高校"&$C17&"選手データ!A:Z"),MATCH("名",INDIRECT("高校"&$C17&"選手データ!1:1"),0),0)) | F17: =IF(ISERROR(VLOOKUP($D17,INDIRECT("高校"&$C17&"選手データ!A:Z"),MATCH(F$2,INDIRECT("高校"&$C17&"選手データ!1:1"),0),0)),"",VLOOKUP($D17,INDIRECT("高校"&$C17&"選手データ!A:Z"),MATCH(F$2,INDIRECT("高校"&$C17&"選手データ!1:1"),0),0)) | H17: =IF(G17="","",VLOOKUP(G17,競技csv!$F:$O,MATCH(H$2,競技csv!$1:$1,0)-MATCH("競技名",競技csv!$1:$1,0)+1,0)) | I17: =IF(G17="","",VLOOKUP(G17,競技csv!$F:$O,MATCH(I$2,競技csv!$1:$1,0)-MATCH("競技名",競技csv!$1:$1,0)+1,0)) | N17: =IF(M17="","",VLOOKUP(M17,競技csv!$F:$O,MATCH(N$2,競技csv!$1:$1,0)-MATCH("競技名",競技csv!$1:$1,0)+1,0)) | O17: =IF(M17="","",VLOOKUP(M17,競技csv!$F:$O,MATCH(O$2,競技csv!$1:$1,0)-MATCH("競技名",競技csv!$1:$1,0)+1,0)) | T17: =IF($S17="","",IF(VLOOKUP($C17&$S17,$P$65:$S$70,MATCH(T$2,$P$64:$S$64,0),0)=0,"",VLOOKUP($C17&$S17,$P$65:$S$70,MATCH(T$2,$P$64:$S$64,0),0))) | U17: =IF($S17="","",VLOOKUP($C17&$S17,$P$65:$S$70,MATCH(U$2,$P$64:$S$64,0),0)) | V17: =IF($S17="","",VLOOKUP($C17&$S17,$P$65:$S$70,MATCH(V$2,$P$64:$S$64,0),0)) | W17: =IF(S17="","",C17&S17) | X17: =IF($W17=X$1,X16+1,X16) -> 0 | Y17: =IF($W17=Y$1,Y16+1,Y16) -> 0 | Z17: =IF($W17=Z$1,Z16+1,Z16) -> 0 | AA17: =IF($W17=AA$1,AA16+1,AA16) -> 0 | AB17: =IF($W17=AB$1,AB16+1,AB16) -> 0 | AC17: =IF($W17=AC$1,AC16+1,AC16) -> 0 | AD17: {=IF(W17="","",INDIRECT(ADDRESS(ROW(),MATCH(W17,$1:$1,0))))}
E18: =IF(ISERROR(VLOOKUP($D18,INDIRECT("高校"&$C18&"選手データ!A:Z"),MATCH("姓",INDIRECT("高校"&$C18&"選手データ!1:1"),0),0)),"",VLOOKUP($D18,INDIRECT("高校"&$C18&"選手データ!A:Z"),MATCH("姓",INDIRECT("高校"&$C18&"選手データ!1:1"),0),0)&" "&VLOOKUP($D18,INDIRECT("高校"&$C18&"選手データ!A:Z"),MATCH("名",INDIRECT("高校"&$C18&"選手データ!1:1"),0),0)) | F18: =IF(ISERROR(VLOOKUP($D18,INDIRECT("高校"&$C18&"選手データ!A:Z"),MATCH(F$2,INDIRECT("高校"&$C18&"選手データ!1:1"),0),0)),"",VLOOKUP($D18,INDIRECT("高校"&$C18&"選手データ!A:Z"),MATCH(F$2,INDIRECT("高校"&$C18&"選手データ!1:1"),0),0)) | H18: =IF(G18="","",VLOOKUP(G18,競技csv!$F:$O,MATCH(H$2,競技csv!$1:$1,0)-MATCH("競技名",競技csv!$1:$1,0)+1,0)) | I18: =IF(G18="","",VLOOKUP(G18,競技csv!$F:$O,MATCH(I$2,競技csv!$1:$1,0)-MATCH("競技名",競技csv!$1:$1,0)+1,0)) | N18: =IF(M18="","",VLOOKUP(M18,競技csv!$F:$O,MATCH(N$2,競技csv!$1:$1,0)-MATCH("競技名",競技csv!$1:$1,0)+1,0)) | O18: =IF(M18="","",VLOOKUP(M18,競技csv!$F:$O,MATCH(O$2,競技csv!$1:$1,0)-MATCH("競技名",競技csv!$1:$1,0)+1,0)) | T18: =IF($S18="","",IF(VLOOKUP($C18&$S18,$P$65:$S$70,MATCH(T$2,$P$64:$S$64,0),0)=0,"",VLOOKUP($C18&$S18,$P$65:$S$70,MATCH(T$2,$P$64:$S$64,0),0))) | U18: =IF($S18="","",VLOOKUP($C18&$S18,$P$65:$S$70,MATCH(U$2,$P$64:$S$64,0),0)) | V18: =IF($S18="","",VLOOKUP($C18&$S18,$P$65:$S$70,MATCH(V$2,$P$64:$S$64,0),0)) | W18: =IF(S18="","",C18&S18) | X18: =IF($W18=X$1,X17+1,X17) -> 0 | Y18: =IF($W18=Y$1,Y17+1,Y17) -> 0 | Z18: =IF($W18=Z$1,Z17+1,Z17) -> 0 | AA18: =IF($W18=AA$1,AA17+1,AA17) -> 0 | AB18: =IF($W18=AB$1,AB17+1,AB17) -> 0 | AC18: =IF($W18=AC$1,AC17+1,AC17) -> 0 | AD18: {=IF(W18="","",INDIRECT(ADDRESS(ROW(),MATCH(W18,$1:$1,0))))}
E19: =IF(ISERROR(VLOOKUP($D19,INDIRECT("高校"&$C19&"選手データ!A:Z"),MATCH("姓",INDIRECT("高校"&$C19&"選手データ!1:1"),0),0)),"",VLOOKUP($D19,INDIRECT("高校"&$C19&"選手データ!A:Z"),MATCH("姓",INDIRECT("高校"&$C19&"選手データ!1:1"),0),0)&" "&VLOOKUP($D19,INDIRECT("高校"&$C19&"選手データ!A:Z"),MATCH("名",INDIRECT("高校"&$C19&"選手データ!1:1"),0),0)) | F19: =IF(ISERROR(VLOOKUP($D19,INDIRECT("高校"&$C19&"選手データ!A:Z"),MATCH(F$2,INDIRECT("高校"&$C19&"選手データ!1:1"),0),0)),"",VLOOKUP($D19,INDIRECT("高校"&$C19&"選手データ!A:Z"),MATCH(F$2,INDIRECT("高校"&$C19&"選手データ!1:1"),0),0)) | H19: =IF(G19="","",VLOOKUP(G19,競技csv!$F:$O,MATCH(H$2,競技csv!$1:$1,0)-MATCH("競技名",競技csv!$1:$1,0)+1,0)) | I19: =IF(G19="","",VLOOKUP(G19,競技csv!$F:$O,MATCH(I$2,競技csv!$1:$1,0)-MATCH("競技名",競技csv!$1:$1,0)+1,0)) | N19: =IF(M19="","",VLOOKUP(M19,競技csv!$F:$O,MATCH(N$2,競技csv!$1:$1,0)-MATCH("競技名",競技csv!$1:$1,0)+1,0)) | O19: =IF(M19="","",VLOOKUP(M19,競技csv!$F:$O,MATCH(O$2,競技csv!$1:$1,0)-MATCH("競技名",競技csv!$1:$1,0)+1,0)) | T19: =IF($S19="","",IF(VLOOKUP($C19&$S19,$P$65:$S$70,MATCH(T$2,$P$64:$S$64,0),0)=0,"",VLOOKUP($C19&$S19,$P$65:$S$70,MATCH(T$2,$P$64:$S$64,0),0))) | U19: =IF($S19="","",VLOOKUP($C19&$S19,$P$65:$S$70,MATCH(U$2,$P$64:$S$64,0),0)) | V19: =IF($S19="","",VLOOKUP($C19&$S19,$P$65:$S$70,MATCH(V$2,$P$64:$S$64,0),0)) | W19: =IF(S19="","",C19&S19) | X19: =IF($W19=X$1,X18+1,X18) -> 0 | Y19: =IF($W19=Y$1,Y18+1,Y18) -> 0 | Z19: =IF($W19=Z$1,Z18+1,Z18) -> 0 | AA19: =IF($W19=AA$1,AA18+1,AA18) -> 0 | AB19: =IF($W19=AB$1,AB18+1,AB18) -> 0 | AC19: =IF($W19=AC$1,AC18+1,AC18) -> 0 | AD19: {=IF(W19="","",INDIRECT(ADDRESS(ROW(),MATCH(W19,$1:$1,0))))}
E20: =IF(ISERROR(VLOOKUP($D20,INDIRECT("高校"&$C20&"選手データ!A:Z"),MATCH("姓",INDIRECT("高校"&$C20&"選手データ!1:1"),0),0)),"",VLOOKUP($D20,INDIRECT("高校"&$C20&"選手データ!A:Z"),MATCH("姓",INDIRECT("高校"&$C20&"選手データ!1:1"),0),0)&" "&VLOOKUP($D20,INDIRECT("高校"&$C20&"選手データ!A:Z"),MATCH("名",INDIRECT("高校"&$C20&"選手データ!1:1"),0),0)) | F20: =IF(ISERROR(VLOOKUP($D20,INDIRECT("高校"&$C20&"選手データ!A:Z"),MATCH(F$2,INDIRECT("高校"&$C20&"選手データ!1:1"),0),0)),"",VLOOKUP($D20,INDIRECT("高校"&$C20&"選手データ!A:Z"),MATCH(F$2,INDIRECT("高校"&$C20&"選手データ!1:1"),0),0)) | H20: =IF(G20="","",VLOOKUP(G20,競技csv!$F:$O,MATCH(H$2,競技csv!$1:$1,0)-MATCH("競技名",競技csv!$1:$1,0)+1,0)) | I20: =IF(G20="","",VLOOKUP(G20,競技csv!$F:$O,MATCH(I$2,競技csv!$1:$1,0)-MATCH("競技名",競技csv!$1:$1,0)+1,0)) | N20: =IF(M20="","",VLOOKUP(M20,競技csv!$F:$O,MATCH(N$2,競技csv!$1:$1,0)-MATCH("競技名",競技csv!$1:$1,0)+1,0)) | O20: =IF(M20="","",VLOOKUP(M20,競技csv!$F:$O,MATCH(O$2,競技csv!$1:$1,0)-MATCH("競技名",競技csv!$1:$1,0)+1,0)) | T20: =IF($S20="","",IF(VLOOKUP($C20&$S20,$P$65:$S$70,MATCH(T$2,$P$64:$S$64,0),0)=0,"",VLOOKUP($C20&$S20,$P$65:$S$70,MATCH(T$2,$P$64:$S$64,0),0))) | U20: =IF($S20="","",VLOOKUP($C20&$S20,$P$65:$S$70,MATCH(U$2,$P$64:$S$64,0),0)) | V20: =IF($S20="","",VLOOKUP($C20&$S20,$P$65:$S$70,MATCH(V$2,$P$64:$S$64,0),0)) | W20: =IF(S20="","",C20&S20) | X20: =IF($W20=X$1,X19+1,X19) -> 0 | Y20: =IF($W20=Y$1,Y19+1,Y19) -> 0 | Z20: =IF($W20=Z$1,Z19+1,Z19) -> 0 | AA20: =IF($W20=AA$1,AA19+1,AA19) -> 0 | AB20: =IF($W20=AB$1,AB19+1,AB19) -> 0 | AC20: =IF($W20=AC$1,AC19+1,AC19) -> 0 | AD20: {=IF(W20="","",INDIRECT(ADDRESS(ROW(),MATCH(W20,$1:$1,0))))}
E21: =IF(ISERROR(VLOOKUP($D21,INDIRECT("高校"&$C21&"選手データ!A:Z"),MATCH("姓",INDIRECT("高校"&$C21&"選手データ!1:1"),0),0)),"",VLOOKUP($D21,INDIRECT("高校"&$C21&"選手データ!A:Z"),MATCH("姓",INDIRECT("高校"&$C21&"選手データ!1:1"),0),0)&" "&VLOOKUP($D21,INDIRECT("高校"&$C21&"選手データ!A:Z"),MATCH("名",INDIRECT("高校"&$C21&"選手データ!1:1"),0),0)) | F21: =IF(ISERROR(VLOOKUP($D21,INDIRECT("高校"&$C21&"選手データ!A:Z"),MATCH(F$2,INDIRECT("高校"&$C21&"選手データ!1:1"),0),0)),"",VLOOKUP($D21,INDIRECT("高校"&$C21&"選手データ!A:Z"),MATCH(F$2,INDIRECT("高校"&$C21&"選手データ!1:1"),0),0)) | H21: =IF(G21="","",VLOOKUP(G21,競技csv!$F:$O,MATCH(H$2,競技csv!$1:$1,0)-MATCH("競技名",競技csv!$1:$1,0)+1,0)) | I21: =IF(G21="","",VLOOKUP(G21,競技csv!$F:$O,MATCH(I$2,競技csv!$1:$1,0)-MATCH("競技名",競技csv!$1:$1,0)+1,0)) | N21: =IF(M21="","",VLOOKUP(M21,競技csv!$F:$O,MATCH(N$2,競技csv!$1:$1,0)-MATCH("競技名",競技csv!$1:$1,0)+1,0)) | O21: =IF(M21="","",VLOOKUP(M21,競技csv!$F:$O,MATCH(O$2,競技csv!$1:$1,0)-MATCH("競技名",競技csv!$1:$1,0)+1,0)) | T21: =IF($S21="","",IF(VLOOKUP($C21&$S21,$P$65:$S$70,MATCH(T$2,$P$64:$S$64,0),0)=0,"",VLOOKUP($C21&$S21,$P$65:$S$70,MATCH(T$2,$P$64:$S$64,0),0))) | U21: =IF($S21="","",VLOOKUP($C21&$S21,$P$65:$S$70,MATCH(U$2,$P$64:$S$64,0),0)) | V21: =IF($S21="","",VLOOKUP($C21&$S21,$P$65:$S$70,MATCH(V$2,$P$64:$S$64,0),0)) | W21: =IF(S21="","",C21&S21) | X21: =IF($W21=X$1,X20+1,X20) -> 0 | Y21: =IF($W21=Y$1,Y20+1,Y20) -> 0 | Z21: =IF($W21=Z$1,Z20+1,Z20) -> 0 | AA21: =IF($W21=AA$1,AA20+1,AA20) -> 0 | AB21: =IF($W21=AB$1,AB20+1,AB20) -> 0 | AC21: =IF($W21=AC$1,AC20+1,AC20) -> 0 | AD21: {=IF(W21="","",INDIRECT(ADDRESS(ROW(),MATCH(W21,$1:$1,0))))}
... E60: =IF(ISERROR(VLOOKUP($D60,INDIRECT("高校"&$C60&"選手データ!A:Z"),MATCH("姓",INDIRECT("高校"&$C60&"選手データ!1:1"),0),0)),"",VLOOKUP($D60,INDIRECT("高校"&$C60&"選手データ!A:Z"),MATCH("姓",INDIRECT("高校"&$C60&"選手データ!1:1"),0),0)&" "&VLOOKUP($D60,INDIRECT("高校"&$C60&"選手データ!A:Z"),MATCH("名",INDIRECT("高校"&$C60&"選手データ!1:1"),0),0)) | F60: =IF(ISERROR(VLOOKUP($D60,INDIRECT("高校"&$C60&"選手データ!A:Z"),MATCH(F$2,INDIRECT("高校"&$C60&"選手データ!1:1"),0),0)),"",VLOOKUP($D60,INDIRECT("高校"&$C60&"選手データ!A:Z"),MATCH(F$2,INDIRECT("高校"&$C60&"選手データ!1:1"),0),0)) | H60: =IF(G60="","",VLOOKUP(G60,競技csv!$F:$O,MATCH(H$2,競技csv!$1:$1,0)-MATCH("競技名",競技csv!$1:$1,0)+1,0)) | I60: =IF(G60="","",VLOOKUP(G60,競技csv!$F:$O,MATCH(I$2,競技csv!$1:$1,0)-MATCH("競技名",競技csv!$1:$1,0)+1,0)) | N60: =IF(M60="","",VLOOKUP(M60,競技csv!$F:$O,MATCH(N$2,競技csv!$1:$1,0)-MATCH("競技名",競技csv!$1:$1,0)+1,0)) | O60: =IF(M60="","",VLOOKUP(M60,競技csv!$F:$O,MATCH(O$2,競技csv!$1:$1,0)-MATCH("競技名",競技csv!$1:$1,0)+1,0)) | T60: =IF($S60="","",IF(VLOOKUP($C60&$S60,$P$65:$S$70,MATCH(T$2,$P$64:$S$64,0),0)=0,"",VLOOKUP($C60&$S60,$P$65:$S$70,MATCH(T$2,$P$64:$S$64,0),0))) | U60: =IF($S60="","",VLOOKUP($C60&$S60,$P$65:$S$70,MATCH(U$2,$P$64:$S$64,0),0)) | V60: =IF($S60="","",VLOOKUP($C60&$S60,$P$65:$S$70,MATCH(V$2,$P$64:$S$64,0),0)) | W60: =IF(S60="","",C60&S60) | X60: =IF($W60=X$1,X59+1,X59) -> 0 | Y60: =IF($W60=Y$1,Y59+1,Y59) -> 0 | Z60: =IF($W60=Z$1,Z59+1,Z59) -> 0 | AA60: =IF($W60=AA$1,AA59+1,AA59) -> 0 | AB60: =IF($W60=AB$1,AB59+1,AB59) -> 0 | AC60: =IF($W60=AC$1,AC59+1,AC59) -> 0 | AD60: {=IF(W60="","",INDIRECT(ADDRESS(ROW(),MATCH(W60,$1:$1,0))))}
E61: =IF(ISERROR(VLOOKUP($D61,INDIRECT("高校"&$C61&"選手データ!A:Z"),MATCH("姓",INDIRECT("高校"&$C61&"選手データ!1:1"),0),0)),"",VLOOKUP($D61,INDIRECT("高校"&$C61&"選手データ!A:Z"),MATCH("姓",INDIRECT("高校"&$C61&"選手データ!1:1"),0),0)&" "&VLOOKUP($D61,INDIRECT("高校"&$C61&"選手データ!A:Z"),MATCH("名",INDIRECT("高校"&$C61&"選手データ!1:1"),0),0)) | F61: =IF(ISERROR(VLOOKUP($D61,INDIRECT("高校"&$C61&"選手データ!A:Z"),MATCH(F$2,INDIRECT("高校"&$C61&"選手データ!1:1"),0),0)),"",VLOOKUP($D61,INDIRECT("高校"&$C61&"選手データ!A:Z"),MATCH(F$2,INDIRECT("高校"&$C61&"選手データ!1:1"),0),0)) | H61: =IF(G61="","",VLOOKUP(G61,競技csv!$F:$O,MATCH(H$2,競技csv!$1:$1,0)-MATCH("競技名",競技csv!$1:$1,0)+1,0)) | I61: =IF(G61="","",VLOOKUP(G61,競技csv!$F:$O,MATCH(I$2,競技csv!$1:$1,0)-MATCH("競技名",競技csv!$1:$1,0)+1,0)) | N61: =IF(M61="","",VLOOKUP(M61,競技csv!$F:$O,MATCH(N$2,競技csv!$1:$1,0)-MATCH("競技名",競技csv!$1:$1,0)+1,0)) | O61: =IF(M61="","",VLOOKUP(M61,競技csv!$F:$O,MATCH(O$2,競技csv!$1:$1,0)-MATCH("競技名",競技csv!$1:$1,0)+1,0)) | T61: =IF($S61="","",IF(VLOOKUP($C61&$S61,$P$65:$S$70,MATCH(T$2,$P$64:$S$64,0),0)=0,"",VLOOKUP($C61&$S61,$P$65:$S$70,MATCH(T$2,$P$64:$S$64,0),0))) | U61: =IF($S61="","",VLOOKUP($C61&$S61,$P$65:$S$70,MATCH(U$2,$P$64:$S$64,0),0)) | V61: =IF($S61="","",VLOOKUP($C61&$S61,$P$65:$S$70,MATCH(V$2,$P$64:$S$64,0),0)) | W61: =IF(S61="","",C61&S61) | X61: =IF($W61=X$1,X49+1,X49) -> 0 | Y61: =IF($W61=Y$1,Y49+1,Y49) -> 0 | Z61: =IF($W61=Z$1,Z49+1,Z49) -> 0 | AA61: =IF($W61=AA$1,AA49+1,AA49) -> 0 | AB61: =IF($W61=AB$1,AB49+1,AB49) -> 0 | AC61: =IF($W61=AC$1,AC49+1,AC49) -> 0 | AD61: {=IF(W61="","",INDIRECT(ADDRESS(ROW(),MATCH(W61,$1:$1,0))))}
E62: =IF(ISERROR(VLOOKUP($D62,INDIRECT("高校"&$C62&"選手データ!A:Z"),MATCH("姓",INDIRECT("高校"&$C62&"選手データ!1:1"),0),0)),"",VLOOKUP($D62,INDIRECT("高校"&$C62&"選手データ!A:Z"),MATCH("姓",INDIRECT("高校"&$C62&"選手データ!1:1"),0),0)&" "&VLOOKUP($D62,INDIRECT("高校"&$C62&"選手データ!A:Z"),MATCH("名",INDIRECT("高校"&$C62&"選手データ!1:1"),0),0)) | F62: =IF(ISERROR(VLOOKUP($D62,INDIRECT("高校"&$C62&"選手データ!A:Z"),MATCH(F$2,INDIRECT("高校"&$C62&"選手データ!1:1"),0),0)),"",VLOOKUP($D62,INDIRECT("高校"&$C62&"選手データ!A:Z"),MATCH(F$2,INDIRECT("高校"&$C62&"選手データ!1:1"),0),0)) | H62: =IF(G62="","",VLOOKUP(G62,競技csv!$F:$O,MATCH(H$2,競技csv!$1:$1,0)-MATCH("競技名",競技csv!$1:$1,0)+1,0)) | I62: =IF(G62="","",VLOOKUP(G62,競技csv!$F:$O,MATCH(I$2,競技csv!$1:$1,0)-MATCH("競技名",競技csv!$1:$1,0)+1,0)) | N62: =IF(M62="","",VLOOKUP(M62,競技csv!$F:$O,MATCH(N$2,競技csv!$1:$1,0)-MATCH("競技名",競技csv!$1:$1,0)+1,0)) | O62: =IF(M62="","",VLOOKUP(M62,競技csv!$F:$O,MATCH(O$2,競技csv!$1:$1,0)-MATCH("競技名",競技csv!$1:$1,0)+1,0)) | T62: =IF($S62="","",IF(VLOOKUP($C62&$S62,$P$65:$S$70,MATCH(T$2,$P$64:$S$64,0),0)=0,"",VLOOKUP($C62&$S62,$P$65:$S$70,MATCH(T$2,$P$64:$S$64,0),0))) | U62: =IF($S62="","",VLOOKUP($C62&$S62,$P$65:$S$70,MATCH(U$2,$P$64:$S$64,0),0)) | V62: =IF($S62="","",VLOOKUP($C62&$S62,$P$65:$S$70,MATCH(V$2,$P$64:$S$64,0),0)) | W62: =IF(S62="","",C62&S62) | X62: =IF($W62=X$1,X61+1,X61) -> 0 | Y62: =IF($W62=Y$1,Y61+1,Y61) -> 0 | Z62: =IF($W62=Z$1,Z61+1,Z61) -> 0 | AA62: =IF($W62=AA$1,AA61+1,AA61) -> 0 | AB62: =IF($W62=AB$1,AB61+1,AB61) -> 0 | AC62: =IF($W62=AC$1,AC61+1,AC61) -> 0 | AD62: {=IF(W62="","",INDIRECT(ADDRESS(ROW(),MATCH(W62,$1:$1,0))))}
C63: 保護者の出場許諾も得ており、健康診断の結果異状がないので出場を認めます。 | M63: 〔エントリー〕 | P63: 〔リレータイム〕 | U63: =IF($S63="","",VLOOKUP($C63&$S63,$N$65:$S$70,MATCH(U$2,$N$64:$S$64,0),0)) | V63: =IF($S63="","",VLOOKUP($C63&$S63,$N$65:$S$70,MATCH(V$2,$N$64:$S$64,0),0)) | X63: =IF(MAX(X3:X62)>0,1,0) -> 0 | Y63: =IF(MAX(Y3:Y62)>0,1,0) -> 0 | Z63: =IF(MAX(Z3:Z62)>0,1,0) -> 0 | AA63: =IF(MAX(AA3:AA62)>0,1,0) -> 0 | AB63: =IF(MAX(AB3:AB62)>0,1,0) -> 0 | AC63: =IF(MAX(AC3:AC62)>0,1,0) -> 0
C64: =TODAY() -> 46293 | G64: 市川市陸上競技協会 会長 殿 | M64: 個人種目 | P64: チーム名 | Q64: 分 | R64: 秒 | S64: 以下
C65: 学校名 | E65: =IF(ISERROR(VLOOKUP($D3,INDIRECT($C3&"選手データ!A:Z"),MATCH("所属",INDIRECT($C3&"選手データ!1:1"),0),0)),"",VLOOKUP($D3,INDIRECT($C3&"選手データ!A:Z"),MATCH("所属",INDIRECT($C3&"選手データ!1:1"),0),0)&"学校") | M65: =COUNTA(G3:G62,M3:M62) -> 0 | P65: 男Ａ
C66: 所属長 | K66: 印 | M66: リレー | P66: 男Ｂ
C67: 顧問名 | M67: =SUM(X63:AC63) -> 0 | P67: 男Ｃ
C68: 希望審判部署 | E68: 氏名 | M68: アスリートビブス未所持者 | P68: 女Ａ
M69: =COUNTBLANK(D3:D62)-COUNTBLANK(E3:E62) -> 0 | P69: 女Ｂ
M70: 参加費 | P70: 女Ｃ
M71: ="300円×"&M65&"種目+600円×"&M67&"チーム+200円×"&M69&"名" -> 300円×0種目+600円×0チーム+200円×0名
M72: =300*M65+600*M67+200*M69 -> 0

Sheet 競技者csv貼り付け用
B1: 競技者NO | C1: 所属コード1 | D1: 所属コード2 | E1: ナンバー | F1: ナンバー2 | G1: 競技者名 | H1: 競技者名カナ | I1: 競技者名略称 | J1: 競技者名英字 | K1: 国籍 | L1: 性別 | M1: 学年 | N1: 生年 | O1: 月日 | P1: 個人所属地名 | Q1: 陸連コード | R1: 参加競技-競技コード1 | S1: 参加競技-自己記録1 | T1: 参加競技-オープン参加FLG1 | U1: 参加競技-記録FLG1 | V1: 参加競技-競技コード2 | W1: 参加競技-自己記録2 | X1: 参加競技-オープン参加FLG2 | Y1: 参加競技-記録FLG2 | Z1: 参加競技-競技コード3 | AA1: 参加競技-自己記録3 | AB1: 参加競技-オープン参加FLG3 | AC1: 参加競技-記録FLG3 | AD1: 参加競技-競技コード4 | AE1: 参加競技-自己記録4 | AF1: 参加競技-オープン参加FLG4 | AG1: 参加競技-記録FLG4 | AH1: 参加競技-競技コード5 | AI1: 参加競技-自己記録5 | AJ1: 参加競技-オープン参加FLG5 | AK1: 参加競技-記録FLG5
A2: =IF(B1="","",A1+1) -> 1 | B2: =IF(ISERROR(VLOOKUP($A2,競技者csv変換!$A:$AK,MATCH(B$1,競技者csv変換!$1:$1,0),0)),"",IF(VLOOKUP($A2,競技者csv変換!$A:$AK,MATCH(B$1,競技者csv変換!$1:$1,0),0)="","",VLOOKUP($A2,競技者csv変換!$A:$AK,MATCH(B$1,競技者csv変換!$1:$1,0),0))) | C2: =IF(ISERROR(VLOOKUP($A2,競技者csv変換!$A:$AK,MATCH(C$1,競技者csv変換!$1:$1,0),0)),"",IF(VLOOKUP($A2,競技者csv変換!$A:$AK,MATCH(C$1,競技者csv変換!$1:$1,0),0)="","",VLOOKUP($A2,競技者csv変換!$A:$AK,MATCH(C$1,競技者csv変換!$1:$1,0),0))) | D2: =IF(ISERROR(VLOOKUP($A2,競技者csv変換!$A:$AK,MATCH(D$1,競技者csv変換!$1:$1,0),0)),"",IF(VLOOKUP($A2,競技者csv変換!$A:$AK,MATCH(D$1,競技者csv変換!$1:$1,0),0)="","",VLOOKUP($A2,競技者csv変換!$A:$AK,MATCH(D$1,競技者csv変換!$1:$1,0),0))) | E2: =IF(ISERROR(VLOOKUP($A2,競技者csv変換!$A:$AK,MATCH(E$1,競技者csv変換!$1:$1,0),0)),"",IF(VLOOKUP($A2,競技者csv変換!$A:$AK,MATCH(E$1,競技者csv変換!$1:$1,0),0)="","",VLOOKUP($A2,競技者csv変換!$A:$AK,MATCH(E$1,競技者csv変換!$1:$1,0),0))) | F2: =IF(ISERROR(VLOOKUP($A2,競技者csv変換!$A:$AK,MATCH(F$1,競技者csv変換!$1:$1,0),0)),"",IF(VLOOKUP($A2,競技者csv変換!$A:$AK,MATCH(F$1,競技者csv変換!$1:$1,0),0)="","",VLOOKUP($A2,競技者csv変換!$A:$AK,MATCH(F$1,競技者csv変換!$1:$1,0),0))) | G2: =IF(ISERROR(VLOOKUP($A2,競技者csv変換!$A:$AK,MATCH(G$1,競技者csv変換!$1:$1,0),0)),"",IF(VLOOKUP($A2,競技者csv変換!$A:$AK,MATCH(G$1,競技者csv変換!$1:$1,0),0)="","",VLOOKUP($A2,競技者csv変換!$A:$AK,MATCH(G$1,競技者csv変換!$1:$1,0),0))) | H2: =IF(ISERROR(VLOOKUP($A2,競技者csv変換!$A:$AK,MATCH(H$1,競技者csv変換!$1:$1,0),0)),"",IF(VLOOKUP($A2,競技者csv変換!$A:$AK,MATCH(H$1,競技者csv変換!$1:$1,0),0)="","",VLOOKUP($A2,競技者csv変換!$A:$AK,MATCH(H$1,競技者csv変換!$1:$1,0),0))) | I2: =IF(ISERROR(VLOOKUP($A2,競技者csv変換!$A:$AK,MATCH(I$1,競技者csv変換!$1:$1,0),0)),"",IF(VLOOKUP($A2,競技者csv変換!$A:$AK,MATCH(I$1,競技者csv変換!$1:$1,0),0)="","",VLOOKUP($A2,競技者csv変換!$A:$AK,MATCH(I$1,競技者csv変換!$1:$1,0),0))) | ... AK2: =IF(ISERROR(VLOOKUP($A2,競技者csv変換!$A:$AK,MATCH(AK$1,競技者csv変換!$1:$1,0),0)),"",IF(VLOOKUP($A2,競技者csv変換!$A:$AK,MATCH(AK$1,競技者csv変換!$1:$1,0),0)="","",VLOOKUP($A2,競技者csv変換!$A:$AK,MATCH(AK$1,競技者csv変換!$1:$1,0),0)))
A3: =IF(B2="","",A2+1) | B3: =IF(ISERROR(VLOOKUP($A3,競技者csv変換!$A:$AK,MATCH(B$1,競技者csv変換!$1:$1,0),0)),"",IF(VLOOKUP($A3,競技者csv変換!$A:$AK,MATCH(B$1,競技者csv変換!$1:$1,0),0)="","",VLOOKUP($A3,競技者csv変換!$A:$AK,MATCH(B$1,競技者csv変換!$1:$1,0),0))) | C3: =IF(ISERROR(VLOOKUP($A3,競技者csv変換!$A:$AK,MATCH(C$1,競技者csv変換!$1:$1,0),0)),"",IF(VLOOKUP($A3,競技者csv変換!$A:$AK,MATCH(C$1,競技者csv変換!$1:$1,0),0)="","",VLOOKUP($A3,競技者csv変換!$A:$AK,MATCH(C$1,競技者csv変換!$1:$1,0),0))) | D3: =IF(ISERROR(VLOOKUP($A3,競技者csv変換!$A:$AK,MATCH(D$1,競技者csv変換!$1:$1,0),0)),"",IF(VLOOKUP($A3,競技者csv変換!$A:$AK,MATCH(D$1,競技者csv変換!$1:$1,0),0)="","",VLOOKUP($A3,競技者csv変換!$A:$AK,MATCH(D$1,競技者csv変換!$1:$1,0),0))) | E3: =IF(ISERROR(VLOOKUP($A3,競技者csv変換!$A:$AK,MATCH(E$1,競技者csv変換!$1:$1,0),0)),"",IF(VLOOKUP($A3,競技者csv変換!$A:$AK,MATCH(E$1,競技者csv変換!$1:$1,0),0)="","",VLOOKUP($A3,競技者csv変換!$A:$AK,MATCH(E$1,競技者csv変換!$1:$1,0),0))) | F3: =IF(ISERROR(VLOOKUP($A3,競技者csv変換!$A:$AK,MATCH(F$1,競技者csv変換!$1:$1,0),0)),"",IF(VLOOKUP($A3,競技者csv変換!$A:$AK,MATCH(F$1,競技者csv変換!$1:$1,0),0)="","",VLOOKUP($A3,競技者csv変換!$A:$AK,MATCH(F$1,競技者csv変換!$1:$1,0),0))) | G3: =IF(ISERROR(VLOOKUP($A3,競技者csv変換!$A:$AK,MATCH(G$1,競技者csv変換!$1:$1,0),0)),"",IF(VLOOKUP($A3,競技者csv変換!$A:$AK,MATCH(G$1,競技者csv変換!$1:$1,0),0)="","",VLOOKUP($A3,競技者csv変換!$A:$AK,MATCH(G$1,競技者csv変換!$1:$1,0),0))) | H3: =IF(ISERROR(VLOOKUP($A3,競技者csv変換!$A:$AK,MATCH(H$1,競技者csv変換!$1:$1,0),0)),"",IF(VLOOKUP($A3,競技者csv変換!$A:$AK,MATCH(H$1,競技者csv変換!$1:$1,0),0)="","",VLOOKUP($A3,競技者csv変換!$A:$AK,MATCH(H$1,競技者csv変換!$1:$1,0),0))) | I3: =IF(ISERROR(VLOOKUP($A3,競技者csv変換!$A:$AK,MATCH(I$1,競技者csv変換!$1:$1,0),0)),"",IF(VLOOKUP($A3,競技者csv変換!$A:$AK,MATCH(I$1,競技者csv変換!$1:$1,0),0)="","",VLOOKUP($A3,競技者csv変換!$A:$AK,MATCH(I$1,競技者csv変換!$1:$1,0),0))) | ... AK3: =IF(ISERROR(VLOOKUP($A3,競技者csv変換!$A:$AK,MATCH(AK$1,競技者csv変換!$1:$1,0),0)),"",IF(VLOOKUP($A3,競技者csv変換!$A:$AK,MATCH(AK$1,競技者csv変換!$1:$1,0),0)="","",VLOOKUP($A3,競技者csv変換!$A:$AK,MATCH(AK$1,競技者csv変換!$1:$1,0),0)))
A4: =IF(B3="","",A3+1) | B4: =IF(ISERROR(VLOOKUP($A4,競技者csv変換!$A:$AK,MATCH(B$1,競技者csv変換!$1:$1,0),0)),"",IF(VLOOKUP($A4,競技者csv変換!$A:$AK,MATCH(B$1,競技者csv変換!$1:$1,0),0)="","",VLOOKUP($A4,競技者csv変換!$A:$AK,MATCH(B$1,競技者csv変換!$1:$1,0),0))) | C4: =IF(ISERROR(VLOOKUP($A4,競技者csv変換!$A:$AK,MATCH(C$1,競技者csv変換!$1:$1,0),0)),"",IF(VLOOKUP($A4,競技者csv変換!$A:$AK,MATCH(C$1,競技者csv変換!$1:$1,0),0)="","",VLOOKUP($A4,競技者csv変換!$A:$AK,MATCH(C$1,競技者csv変換!$1:$1,0),0))) | D4: =IF(ISERROR(VLOOKUP($A4,競技者csv変換!$A:$AK,MATCH(D$1,競技者csv変換!$1:$1,0),0)),"",IF(VLOOKUP($A4,競技者csv変換!$A:$AK,MATCH(D$1,競技者csv変換!$1:$1,0),0)="","",VLOOKUP($A4,競技者csv変換!$A:$AK,MATCH(D$1,競技者csv変換!$1:$1,0),0))) | E4: =IF(ISERROR(VLOOKUP($A4,競技者csv変換!$A:$AK,MATCH(E$1,競技者csv変換!$1:$1,0),0)),"",IF(VLOOKUP($A4,競技者csv変換!$A:$AK,MATCH(E$1,競技者csv変換!$1:$1,0),0)="","",VLOOKUP($A4,競技者csv変換!$A:$AK,MATCH(E$1,競技者csv変換!$1:$1,0),0))) | F4: =IF(ISERROR(VLOOKUP($A4,競技者csv変換!$A:$AK,MATCH(F$1,競技者csv変換!$1:$1,0),0)),"",IF(VLOOKUP($A4,競技者csv変換!$A:$AK,MATCH(F$1,競技者csv変換!$1:$1,0),0)="","",VLOOKUP($A4,競技者csv変換!$A:$AK,MATCH(F$1,競技者csv変換!$1:$1,0),0))) | G4: =IF(ISERROR(VLOOKUP($A4,競技者csv変換!$A:$AK,MATCH(G$1,競技者csv変換!$1:$1,0),0)),"",IF(VLOOKUP($A4,競技者csv変換!$A:$AK,MATCH(G$1,競技者csv変換!$1:$1,0),0)="","",VLOOKUP($A4,競技者csv変換!$A:$AK,MATCH(G$1,競技者csv変換!$1:$1,0),0))) | H4: =IF(ISERROR(VLOOKUP($A4,競技者csv変換!$A:$AK,MATCH(H$1,競技者csv変換!$1:$1,0),0)),"",IF(VLOOKUP($A4,競技者csv変換!$A:$AK,MATCH(H$1,競技者csv変換!$1:$1,0),0)="","",VLOOKUP($A4,競技者csv変換!$A:$AK,MATCH(H$1,競技者csv変換!$1:$1,0),0))) | I4: =IF(ISERROR(VLOOKUP($A4,競技者csv変換!$A:$AK,MATCH(I$1,競技者csv変換!$1:$1,0),0)),"",IF(VLOOKUP($A4,競技者csv変換!$A:$AK,MATCH(I$1,競技者csv変換!$1:$1,0),0)="","",VLOOKUP($A4,競技者csv変換!$A:$AK,MATCH(I$1,競技者csv変換!$1:$1,0),0))) | ... AK4: =IF(ISERROR(VLOOKUP($A4,競技者csv変換!$A:$AK,MATCH(AK$1,競技者csv変換!$1:$1,0),0)),"",IF(VLOOKUP($A4,競技者csv変換!$A:$AK,MATCH(AK$1,競技者csv変換!$1:$1,0),0)="","",VLOOKUP($A4,競技者csv変換!$A:$AK,MATCH(AK$1,競技者csv変換!$1:$1,0),0)))
A5: =IF(B4="","",A4+1) | B5: =IF(ISERROR(VLOOKUP($A5,競技者csv変換!$A:$AK,MATCH(B$1,競技者csv変換!$1:$1,0),0)),"",IF(VLOOKUP($A5,競技者csv変換!$A:$AK,MATCH(B$1,競技者csv変換!$1:$1,0),0)="","",VLOOKUP($A5,競技者csv変換!$A:$AK,MATCH(B$1,競技者csv変換!$1:$1,0),0))) | C5: =IF(ISERROR(VLOOKUP($A5,競技者csv変換!$A:$AK,MATCH(C$1,競技者csv変換!$1:$1,0),0)),"",IF(VLOOKUP($A5,競技者csv変換!$A:$AK,MATCH(C$1,競技者csv変換!$1:$1,0),0)="","",VLOOKUP($A5,競技者csv変換!$A:$AK,MATCH(C$1,競技者csv変換!$1:$1,0),0))) | D5: =IF(ISERROR(VLOOKUP($A5,競技者csv変換!$A:$AK,MATCH(D$1,競技者csv変換!$1:$1,0),0)),"",IF(VLOOKUP($A5,競技者csv変換!$A:$AK,MATCH(D$1,競技者csv変換!$1:$1,0),0)="","",VLOOKUP($A5,競技者csv変換!$A:$AK,MATCH(D$1,競技者csv変換!$1:$1,0),0))) | E5: =IF(ISERROR(VLOOKUP($A5,競技者csv変換!$A:$AK,MATCH(E$1,競技者csv変換!$1:$1,0),0)),"",IF(VLOOKUP($A5,競技者csv変換!$A:$AK,MATCH(E$1,競技者csv変換!$1:$1,0),0)="","",VLOOKUP($A5,競技者csv変換!$A:$AK,MATCH(E$1,競技者csv変換!$1:$1,0),0))) | F5: =IF(ISERROR(VLOOKUP($A5,競技者csv変換!$A:$AK,MATCH(F$1,競技者csv変換!$1:$1,0),0)),"",IF(VLOOKUP($A5,競技者csv変換!$A:$AK,MATCH(F$1,競技者csv変換!$1:$1,0),0)="","",VLOOKUP($A5,競技者csv変換!$A:$AK,MATCH(F$1,競技者csv変換!$1:$1,0),0))) | G5: =IF(ISERROR(VLOOKUP($A5,競技者csv変換!$A:$AK,MATCH(G$1,競技者csv変換!$1:$1,0),0)),"",IF(VLOOKUP($A5,競技者csv変換!$A:$AK,MATCH(G$1,競技者csv変換!$1:$1,0),0)="","",VLOOKUP($A5,競技者csv変換!$A:$AK,MATCH(G$1,競技者csv変換!$1:$1,0),0))) | H5: =IF(ISERROR(VLOOKUP($A5,競技者csv変換!$A:$AK,MATCH(H$1,競技者csv変換!$1:$1,0),0)),"",IF(VLOOKUP($A5,競技者csv変換!$A:$AK,MATCH(H$1,競技者csv変換!$1:$1,0),0)="","",VLOOKUP($A5,競技者csv変換!$A:$AK,MATCH(H$1,競技者csv変換!$1:$1,0),0))) | I5: =IF(ISERROR(VLOOKUP($A5,競技者csv変換!$A:$AK,MATCH(I$1,競技者csv変換!$1:$1,0),0)),"",IF(VLOOKUP($A5,競技者csv変換!$A:$AK,MATCH(I$1,競技者csv変換!$1:$1,0),0)="","",VLOOKUP($A5,競技者csv変換!$A:$AK,MATCH(I$1,競技者csv変換!$1:$1,0),0))) | ... AK5: =IF(ISERROR(VLOOKUP($A5,競技者csv変換!$A:$AK,MATCH(AK$1,競技者csv変換!$1:$1,0),0)),"",IF(VLOOKUP($A5,競技者csv変換!$A:$AK,MATCH(AK$1,競技者csv変換!$1:$1,0),0)="","",VLOOKUP($A5,競技者csv変換!$A:$AK,MATCH(AK$1,競技者csv変換!$1:$1,0),0)))
A6: =IF(B5="","",A5+1) | B6: =IF(ISERROR(VLOOKUP($A6,競技者csv変換!$A:$AK,MATCH(B$1,競技者csv変換!$1:$1,0),0)),"",IF(VLOOKUP($A6,競技者csv変換!$A:$AK,MATCH(B$1,競技者csv変換!$1:$1,0),0)="","",VLOOKUP($A6,競技者csv変換!$A:$AK,MATCH(B$1,競技者csv変換!$1:$1,0),0))) | C6: =IF(ISERROR(VLOOKUP($A6,競技者csv変換!$A:$AK,MATCH(C$1,競技者csv変換!$1:$1,0),0)),"",IF(VLOOKUP($A6,競技者csv変換!$A:$AK,MATCH(C$1,競技者csv変換!$1:$1,0),0)="","",VLOOKUP($A6,競技者csv変換!$A:$AK,MATCH(C$1,競技者csv変換!$1:$1,0),0))) | D6: =IF(ISERROR(VLOOKUP($A6,競技者csv変換!$A:$AK,MATCH(D$1,競技者csv変換!$1:$1,0),0)),"",IF(VLOOKUP($A6,競技者csv変換!$A:$AK,MATCH(D$1,競技者csv変換!$1:$1,0),0)="","",VLOOKUP($A6,競技者csv変換!$A:$AK,MATCH(D$1,競技者csv変換!$1:$1,0),0))) | E6: =IF(ISERROR(VLOOKUP($A6,競技者csv変換!$A:$AK,MATCH(E$1,競技者csv変換!$1:$1,0),0)),"",IF(VLOOKUP($A6,競技者csv変換!$A:$AK,MATCH(E$1,競技者csv変換!$1:$1,0),0)="","",VLOOKUP($A6,競技者csv変換!$A:$AK,MATCH(E$1,競技者csv変換!$1:$1,0),0))) | F6: =IF(ISERROR(VLOOKUP($A6,競技者csv変換!$A:$AK,MATCH(F$1,競技者csv変換!$1:$1,0),0)),"",IF(VLOOKUP($A6,競技者csv変換!$A:$AK,MATCH(F$1,競技者csv変換!$1:$1,0),0)="","",VLOOKUP($A6,競技者csv変換!$A:$AK,MATCH(F$1,競技者csv変換!$1:$1,0),0))) | G6: =IF(ISERROR(VLOOKUP($A6,競技者csv変換!$A:$AK,MATCH(G$1,競技者csv変換!$1:$1,0),0)),"",IF(VLOOKUP($A6,競技者csv変換!$A:$AK,MATCH(G$1,競技者csv変換!$1:$1,0),0)="","",VLOOKUP($A6,競技者csv変換!$A:$AK,MATCH(G$1,競技者csv変換!$1:$1,0),0))) | H6: =IF(ISERROR(VLOOKUP($A6,競技者csv変換!$A:$AK,MATCH(H$1,競技者csv変換!$1:$1,0),0)),"",IF(VLOOKUP($A6,競技者csv変換!$A:$AK,MATCH(H$1,競技者csv変換!$1:$1,0),0)="","",VLOOKUP($A6,競技者csv変換!$A:$AK,MATCH(H$1,競技者csv変換!$1:$1,0),0))) | I6: =IF(ISERROR(VLOOKUP($A6,競技者csv変換!$A:$AK,MATCH(I$1,競技者csv変換!$1:$1,0),0)),"",IF(VLOOKUP($A6,競技者csv変換!$A:$AK,MATCH(I$1,競技者csv変換!$1:$1,0),0)="","",VLOOKUP($A6,競技者csv変換!$A:$AK,MATCH(I$1,競技者csv変換!$1:$1,0),0))) | ... AK6: =IF(ISERROR(VLOOKUP($A6,競技者csv変換!$A:$AK,MATCH(AK$1,競技者csv変換!$1:$1,0),0)),"",IF(VLOOKUP($A6,競技者csv変換!$A:$AK,MATCH(AK$1,競技者csv変換!$1:$1,0),0)="","",VLOOKUP($A6,競技者csv変換!$A:$AK,MATCH(AK$1,競技者csv変換!$1:$1,0),0)))
A7: =IF(B6="","",A6+1) | B7: =IF(ISERROR(VLOOKUP($A7,競技者csv変換!$A:$AK,MATCH(B$1,競技者csv変換!$1:$1,0),0)),"",IF(VLOOKUP($A7,競技者csv変換!$A:$AK,MATCH(B$1,競技者csv変換!$1:$1,0),0)="","",VLOOKUP($A7,競技者csv変換!$A:$AK,MATCH(B$1,競技者csv変換!$1:$1,0),0))) | C7: =IF(ISERROR(VLOOKUP($A7,競技者csv変換!$A:$AK,MATCH(C$1,競技者csv変換!$1:$1,0),0)),"",IF(VLOOKUP($A7,競技者csv変換!$A:$AK,MATCH(C$1,競技者csv変換!$1:$1,0),0)="","",VLOOKUP($A7,競技者csv変換!$A:$AK,MATCH(C$1,競技者csv変換!$1:$1,0),0))) | D7: =IF(ISERROR(VLOOKUP($A7,競技者csv変換!$A:$AK,MATCH(D$1,競技者csv変換!$1:$1,0),0)),"",IF(VLOOKUP($A7,競技者csv変換!$A:$AK,MATCH(D$1,競技者csv変換!$1:$1,0),0)="","",VLOOKUP($A7,競技者csv変換!$A:$AK,MATCH(D$1,競技者csv変換!$1:$1,0),0))) | E7: =IF(ISERROR(VLOOKUP($A7,競技者csv変換!$A:$AK,MATCH(E$1,競技者csv変換!$1:$1,0),0)),"",IF(VLOOKUP($A7,競技者csv変換!$A:$AK,MATCH(E$1,競技者csv変換!$1:$1,0),0)="","",VLOOKUP($A7,競技者csv変換!$A:$AK,MATCH(E$1,競技者csv変換!$1:$1,0),0))) | F7: =IF(ISERROR(VLOOKUP($A7,競技者csv変換!$A:$AK,MATCH(F$1,競技者csv変換!$1:$1,0),0)),"",IF(VLOOKUP($A7,競技者csv変換!$A:$AK,MATCH(F$1,競技者csv変換!$1:$1,0),0)="","",VLOOKUP($A7,競技者csv変換!$A:$AK,MATCH(F$1,競技者csv変換!$1:$1,0),0))) | G7: =IF(ISERROR(VLOOKUP($A7,競技者csv変換!$A:$AK,MATCH(G$1,競技者csv変換!$1:$1,0),0)),"",IF(VLOOKUP($A7,競技者csv変換!$A:$AK,MATCH(G$1,競技者csv変換!$1:$1,0),0)="","",VLOOKUP($A7,競技者csv変換!$A:$AK,MATCH(G$1,競技者csv変換!$1:$1,0),0))) | H7: =IF(ISERROR(VLOOKUP($A7,競技者csv変換!$A:$AK,MATCH(H$1,競技者csv変換!$1:$1,0),0)),"",IF(VLOOKUP($A7,競技者csv変換!$A:$AK,MATCH(H$1,競技者csv変換!$1:$1,0),0)="","",VLOOKUP($A7,競技者csv変換!$A:$AK,MATCH(H$1,競技者csv変換!$1:$1,0),0))) | I7: =IF(ISERROR(VLOOKUP($A7,競技者csv変換!$A:$AK,MATCH(I$1,競技者csv変換!$1:$1,0),0)),"",IF(VLOOKUP($A7,競技者csv変換!$A:$AK,MATCH(I$1,競技者csv変換!$1:$1,0),0)="","",VLOOKUP($A7,競技者csv変換!$A:$AK,MATCH(I$1,競技者csv変換!$1:$1,0),0))) | ... AK7: =IF(ISERROR(VLOOKUP($A7,競技者csv変換!$A:$AK,MATCH(AK$1,競技者csv変換!$1:$1,0),0)),"",IF(VLOOKUP($A7,競技者csv変換!$A:$AK,MATCH(AK$1,競技者csv変換!$1:$1,0),0)="","",VLOOKUP($A7,競技者csv変換!$A:$AK,MATCH(AK$1,競技者csv変換!$1:$1,0),0)))
A8: =IF(B7="","",A7+1) | B8: =IF(ISERROR(VLOOKUP($A8,競技者csv変換!$A:$AK,MATCH(B$1,競技者csv変換!$1:$1,0),0)),"",IF(VLOOKUP($A8,競技者csv変換!$A:$AK,MATCH(B$1,競技者csv変換!$1:$1,0),0)="","",VLOOKUP($A8,競技者csv変換!$A:$AK,MATCH(B$1,競技者csv変換!$1:$1,0),0))) | C8: =IF(ISERROR(VLOOKUP($A8,競技者csv変換!$A:$AK,MATCH(C$1,競技者csv変換!$1:$1,0),0)),"",IF(VLOOKUP($A8,競技者csv変換!$A:$AK,MATCH(C$1,競技者csv変換!$1:$1,0),0)="","",VLOOKUP($A8,競技者csv変換!$A:$AK,MATCH(C$1,競技者csv変換!$1:$1,0),0))) | D8: =IF(ISERROR(VLOOKUP($A8,競技者csv変換!$A:$AK,MATCH(D$1,競技者csv変換!$1:$1,0),0)),"",IF(VLOOKUP($A8,競技者csv変換!$A:$AK,MATCH(D$1,競技者csv変換!$1:$1,0),0)="","",VLOOKUP($A8,競技者csv変換!$A:$AK,MATCH(D$1,競技者csv変換!$1:$1,0),0))) | E8: =IF(ISERROR(VLOOKUP($A8,競技者csv変換!$A:$AK,MATCH(E$1,競技者csv変換!$1:$1,0),0)),"",IF(VLOOKUP($A8,競技者csv変換!$A:$AK,MATCH(E$1,競技者csv変換!$1:$1,0),0)="","",VLOOKUP($A8,競技者csv変換!$A:$AK,MATCH(E$1,競技者csv変換!$1:$1,0),0))) | F8: =IF(ISERROR(VLOOKUP($A8,競技者csv変換!$A:$AK,MATCH(F$1,競技者csv変換!$1:$1,0),0)),"",IF(VLOOKUP($A8,競技者csv変換!$A:$AK,MATCH(F$1,競技者csv変換!$1:$1,0),0)="","",VLOOKUP($A8,競技者csv変換!$A:$AK,MATCH(F$1,競技者csv変換!$1:$1,0),0))) | G8: =IF(ISERROR(VLOOKUP($A8,競技者csv変換!$A:$AK,MATCH(G$1,競技者csv変換!$1:$1,0),0)),"",IF(VLOOKUP($A8,競技者csv変換!$A:$AK,MATCH(G$1,競技者csv変換!$1:$1,0),0)="","",VLOOKUP($A8,競技者csv変換!$A:$AK,MATCH(G$1,競技者csv変換!$1:$1,0),0))) | H8: =IF(ISERROR(VLOOKUP($A8,競技者csv変換!$A:$AK,MATCH(H$1,競技者csv変換!$1:$1,0),0)),"",IF(VLOOKUP($A8,競技者csv変換!$A:$AK,MATCH(H$1,競技者csv変換!$1:$1,0),0)="","",VLOOKUP($A8,競技者csv変換!$A:$AK,MATCH(H$1,競技者csv変換!$1:$1,0),0))) | I8: =IF(ISERROR(VLOOKUP($A8,競技者csv変換!$A:$AK,MATCH(I$1,競技者csv変換!$1:$1,0),0)),"",IF(VLOOKUP($A8,競技者csv変換!$A:$AK,MATCH(I$1,競技者csv変換!$1:$1,0),0)="","",VLOOKUP($A8,競技者csv変換!$A:$AK,MATCH(I$1,競技者csv変換!$1:$1,0),0))) | ... AK8: =IF(ISERROR(VLOOKUP($A8,競技者csv変換!$A:$AK,MATCH(AK$1,競技者csv変換!$1:$1,0),0)),"",IF(VLOOKUP($A8,競技者csv変換!$A:$AK,MATCH(AK$1,競技者csv変換!$1:$1,0),0)="","",VLOOKUP($A8,競技者csv変換!$A:$AK,MATCH(AK$1,競技者csv変換!$1:$1,0),0)))
A9: =IF(B8="","",A8+1) | B9: =IF(ISERROR(VLOOKUP($A9,競技者csv変換!$A:$AK,MATCH(B$1,競技者csv変換!$1:$1,0),0)),"",IF(VLOOKUP($A9,競技者csv変換!$A:$AK,MATCH(B$1,競技者csv変換!$1:$1,0),0)="","",VLOOKUP($A9,競技者csv変換!$A:$AK,MATCH(B$1,競技者csv変換!$1:$1,0),0))) | C9: =IF(ISERROR(VLOOKUP($A9,競技者csv変換!$A:$AK,MATCH(C$1,競技者csv変換!$1:$1,0),0)),"",IF(VLOOKUP($A9,競技者csv変換!$A:$AK,MATCH(C$1,競技者csv変換!$1:$1,0),0)="","",VLOOKUP($A9,競技者csv変換!$A:$AK,MATCH(C$1,競技者csv変換!$1:$1,0),0))) | D9: =IF(ISERROR(VLOOKUP($A9,競技者csv変換!$A:$AK,MATCH(D$1,競技者csv変換!$1:$1,0),0)),"",IF(VLOOKUP($A9,競技者csv変換!$A:$AK,MATCH(D$1,競技者csv変換!$1:$1,0),0)="","",VLOOKUP($A9,競技者csv変換!$A:$AK,MATCH(D$1,競技者csv変換!$1:$1,0),0))) | E9: =IF(ISERROR(VLOOKUP($A9,競技者csv変換!$A:$AK,MATCH(E$1,競技者csv変換!$1:$1,0),0)),"",IF(VLOOKUP($A9,競技者csv変換!$A:$AK,MATCH(E$1,競技者csv変換!$1:$1,0),0)="","",VLOOKUP($A9,競技者csv変換!$A:$AK,MATCH(E$1,競技者csv変換!$1:$1,0),0))) | F9: =IF(ISERROR(VLOOKUP($A9,競技者csv変換!$A:$AK,MATCH(F$1,競技者csv変換!$1:$1,0),0)),"",IF(VLOOKUP($A9,競技者csv変換!$A:$AK,MATCH(F$1,競技者csv変換!$1:$1,0),0)="","",VLOOKUP($A9,競技者csv変換!$A:$AK,MATCH(F$1,競技者csv変換!$1:$1,0),0))) | G9: =IF(ISERROR(VLOOKUP($A9,競技者csv変換!$A:$AK,MATCH(G$1,競技者csv変換!$1:$1,0),0)),"",IF(VLOOKUP($A9,競技者csv変換!$A:$AK,MATCH(G$1,競技者csv変換!$1:$1,0),0)="","",VLOOKUP($A9,競技者csv変換!$A:$AK,MATCH(G$1,競技者csv変換!$1:$1,0),0))) | H9: =IF(ISERROR(VLOOKUP($A9,競技者csv変換!$A:$AK,MATCH(H$1,競技者csv変換!$1:$1,0),0)),"",IF(VLOOKUP($A9,競技者csv変換!$A:$AK,MATCH(H$1,競技者csv変換!$1:$1,0),0)="","",VLOOKUP($A9,競技者csv変換!$A:$AK,MATCH(H$1,競技者csv変換!$1:$1,0),0))) | I9: =IF(ISERROR(VLOOKUP($A9,競技者csv変換!$A:$AK,MATCH(I$1,競技者csv変換!$1:$1,0),0)),"",IF(VLOOKUP($A9,競技者csv変換!$A:$AK,MATCH(I$1,競技者csv変換!$1:$1,0),0)="","",VLOOKUP($A9,競技者csv変換!$A:$AK,MATCH(I$1,競技者csv変換!$1:$1,0),0))) | ... AK9: =IF(ISERROR(VLOOKUP($A9,競技者csv変換!$A:$AK,MATCH(AK$1,競技者csv変換!$1:$1,0),0)),"",IF(VLOOKUP($A9,競技者csv変換!$A:$AK,MATCH(AK$1,競技者csv変換!$1:$1,0),0)="","",VLOOKUP($A9,競技者csv変換!$A:$AK,MATCH(AK$1,競技者csv変換!$1:$1,0),0)))
A10: =IF(B9="","",A9+1) | B10: =IF(ISERROR(VLOOKUP($A10,競技者csv変換!$A:$AK,MATCH(B$1,競技者csv変換!$1:$1,0),0)),"",IF(VLOOKUP($A10,競技者csv変換!$A:$AK,MATCH(B$1,競技者csv変換!$1:$1,0),0)="","",VLOOKUP($A10,競技者csv変換!$A:$AK,MATCH(B$1,競技者csv変換!$1:$1,0),0))) | C10: =IF(ISERROR(VLOOKUP($A10,競技者csv変換!$A:$AK,MATCH(C$1,競技者csv変換!$1:$1,0),0)),"",IF(VLOOKUP($A10,競技者csv変換!$A:$AK,MATCH(C$1,競技者csv変換!$1:$1,0),0)="","",VLOOKUP($A10,競技者csv変換!$A:$AK,MATCH(C$1,競技者csv変換!$1:$1,0),0))) | D10: =IF(ISERROR(VLOOKUP($A10,競技者csv変換!$A:$AK,MATCH(D$1,競技者csv変換!$1:$1,0),0)),"",IF(VLOOKUP($A10,競技者csv変換!$A:$AK,MATCH(D$1,競技者csv変換!$1:$1,0),0)="","",VLOOKUP($A10,競技者csv変換!$A:$AK,MATCH(D$1,競技者csv変換!$1:$1,0),0))) | E10: =IF(ISERROR(VLOOKUP($A10,競技者csv変換!$A:$AK,MATCH(E$1,競技者csv変換!$1:$1,0),0)),"",IF(VLOOKUP($A10,競技者csv変換!$A:$AK,MATCH(E$1,競技者csv変換!$1:$1,0),0)="","",VLOOKUP($A10,競技者csv変換!$A:$AK,MATCH(E$1,競技者csv変換!$1:$1,0),0))) | F10: =IF(ISERROR(VLOOKUP($A10,競技者csv変換!$A:$AK,MATCH(F$1,競技者csv変換!$1:$1,0),0)),"",IF(VLOOKUP($A10,競技者csv変換!$A:$AK,MATCH(F$1,競技者csv変換!$1:$1,0),0)="","",VLOOKUP($A10,競技者csv変換!$A:$AK,MATCH(F$1,競技者csv変換!$1:$1,0),0))) | G10: =IF(ISERROR(VLOOKUP($A10,競技者csv変換!$A:$AK,MATCH(G$1,競技者csv変換!$1:$1,0),0)),"",IF(VLOOKUP($A10,競技者csv変換!$A:$AK,MATCH(G$1,競技者csv変換!$1:$1,0),0)="","",VLOOKUP($A10,競技者csv変換!$A:$AK,MATCH(G$1,競技者csv変換!$1:$1,0),0))) | H10: =IF(ISERROR(VLOOKUP($A10,競技者csv変換!$A:$AK,MATCH(H$1,競技者csv変換!$1:$1,0),0)),"",IF(VLOOKUP($A10,競技者csv変換!$A:$AK,MATCH(H$1,競技者csv変換!$1:$1,0),0)="","",VLOOKUP($A10,競技者csv変換!$A:$AK,MATCH(H$1,競技者csv変換!$1:$1,0),0))) | I10: =IF(ISERROR(VLOOKUP($A10,競技者csv変換!$A:$AK,MATCH(I$1,競技者csv変換!$1:$1,0),0)),"",IF(VLOOKUP($A10,競技者csv変換!$A:$AK,MATCH(I$1,競技者csv変換!$1:$1,0),0)="","",VLOOKUP($A10,競技者csv変換!$A:$AK,MATCH(I$1,競技者csv変換!$1:$1,0),0))) | ... AK10: =IF(ISERROR(VLOOKUP($A10,競技者csv変換!$A:$AK,MATCH(AK$1,競技者csv変換!$1:$1,0),0)),"",IF(VLOOKUP($A10,競技者csv変換!$A:$AK,MATCH(AK$1,競技者csv変換!$1:$1,0),0)="","",VLOOKUP($A10,競技者csv変換!$A:$AK,MATCH(AK$1,競技者csv変換!$1:$1,0),0)))
A11: =IF(B10="","",A10+1) | B11: =IF(ISERROR(VLOOKUP($A11,競技者csv変換!$A:$AK,MATCH(B$1,競技者csv変換!$1:$1,0),0)),"",IF(VLOOKUP($A11,競技者csv変換!$A:$AK,MATCH(B$1,競技者csv変換!$1:$1,0),0)="","",VLOOKUP($A11,競技者csv変換!$A:$AK,MATCH(B$1,競技者csv変換!$1:$1,0),0))) | C11: =IF(ISERROR(VLOOKUP($A11,競技者csv変換!$A:$AK,MATCH(C$1,競技者csv変換!$1:$1,0),0)),"",IF(VLOOKUP($A11,競技者csv変換!$A:$AK,MATCH(C$1,競技者csv変換!$1:$1,0),0)="","",VLOOKUP($A11,競技者csv変換!$A:$AK,MATCH(C$1,競技者csv変換!$1:$1,0),0))) | D11: =IF(ISERROR(VLOOKUP($A11,競技者csv変換!$A:$AK,MATCH(D$1,競技者csv変換!$1:$1,0),0)),"",IF(VLOOKUP($A11,競技者csv変換!$A:$AK,MATCH(D$1,競技者csv変換!$1:$1,0),0)="","",VLOOKUP($A11,競技者csv変換!$A:$AK,MATCH(D$1,競技者csv変換!$1:$1,0),0))) | E11: =IF(ISERROR(VLOOKUP($A11,競技者csv変換!$A:$AK,MATCH(E$1,競技者csv変換!$1:$1,0),0)),"",IF(VLOOKUP($A11,競技者csv変換!$A:$AK,MATCH(E$1,競技者csv変換!$1:$1,0),0)="","",VLOOKUP($A11,競技者csv変換!$A:$AK,MATCH(E$1,競技者csv変換!$1:$1,0),0))) | F11: =IF(ISERROR(VLOOKUP($A11,競技者csv変換!$A:$AK,MATCH(F$1,競技者csv変換!$1:$1,0),0)),"",IF(VLOOKUP($A11,競技者csv変換!$A:$AK,MATCH(F$1,競技者csv変換!$1:$1,0),0)="","",VLOOKUP($A11,競技者csv変換!$A:$AK,MATCH(F$1,競技者csv変換!$1:$1,0),0))) | G11: =IF(ISERROR(VLOOKUP($A11,競技者csv変換!$A:$AK,MATCH(G$1,競技者csv変換!$1:$1,0),0)),"",IF(VLOOKUP($A11,競技者csv変換!$A:$AK,MATCH(G$1,競技者csv変換!$1:$1,0),0)="","",VLOOKUP($A11,競技者csv変換!$A:$AK,MATCH(G$1,競技者csv変換!$1:$1,0),0))) | H11: =IF(ISERROR(VLOOKUP($A11,競技者csv変換!$A:$AK,MATCH(H$1,競技者csv変換!$1:$1,0),0)),"",IF(VLOOKUP($A11,競技者csv変換!$A:$AK,MATCH(H$1,競技者csv変換!$1:$1,0),0)="","",VLOOKUP($A11,競技者csv変換!$A:$AK,MATCH(H$1,競技者csv変換!$1:$1,0),0))) | I11: =IF(ISERROR(VLOOKUP($A11,競技者csv変換!$A:$AK,MATCH(I$1,競技者csv変換!$1:$1,0),0)),"",IF(VLOOKUP($A11,競技者csv変換!$A:$AK,MATCH(I$1,競技者csv変換!$1:$1,0),0)="","",VLOOKUP($A11,競技者csv変換!$A:$AK,MATCH(I$1,競技者csv変換!$1:$1,0),0))) | ... AK11: =IF(ISERROR(VLOOKUP($A11,競技者csv変換!$A:$AK,MATCH(AK$1,競技者csv変換!$1:$1,0),0)),"",IF(VLOOKUP($A11,競技者csv変換!$A:$AK,MATCH(AK$1,競技者csv変換!$1:$1,0),0)="","",VLOOKUP($A11,競技者csv変換!$A:$AK,MATCH(AK$1,競技者csv変換!$1:$1,0),0)))
A12: =IF(B11="","",A11+1) | B12: =IF(ISERROR(VLOOKUP($A12,競技者csv変換!$A:$AK,MATCH(B$1,競技者csv変換!$1:$1,0),0)),"",IF(VLOOKUP($A12,競技者csv変換!$A:$AK,MATCH(B$1,競技者csv変換!$1:$1,0),0)="","",VLOOKUP($A12,競技者csv変換!$A:$AK,MATCH(B$1,競技者csv変換!$1:$1,0),0))) | C12: =IF(ISERROR(VLOOKUP($A12,競技者csv変換!$A:$AK,MATCH(C$1,競技者csv変換!$1:$1,0),0)),"",IF(VLOOKUP($A12,競技者csv変換!$A:$AK,MATCH(C$1,競技者csv変換!$1:$1,0),0)="","",VLOOKUP($A12,競技者csv変換!$A:$AK,MATCH(C$1,競技者csv変換!$1:$1,0),0))) | D12: =IF(ISERROR(VLOOKUP($A12,競技者csv変換!$A:$AK,MATCH(D$1,競技者csv変換!$1:$1,0),0)),"",IF(VLOOKUP($A12,競技者csv変換!$A:$AK,MATCH(D$1,競技者csv変換!$1:$1,0),0)="","",VLOOKUP($A12,競技者csv変換!$A:$AK,MATCH(D$1,競技者csv変換!$1:$1,0),0))) | E12: =IF(ISERROR(VLOOKUP($A12,競技者csv変換!$A:$AK,MATCH(E$1,競技者csv変換!$1:$1,0),0)),"",IF(VLOOKUP($A12,競技者csv変換!$A:$AK,MATCH(E$1,競技者csv変換!$1:$1,0),0)="","",VLOOKUP($A12,競技者csv変換!$A:$AK,MATCH(E$1,競技者csv変換!$1:$1,0),0))) | F12: =IF(ISERROR(VLOOKUP($A12,競技者csv変換!$A:$AK,MATCH(F$1,競技者csv変換!$1:$1,0),0)),"",IF(VLOOKUP($A12,競技者csv変換!$A:$AK,MATCH(F$1,競技者csv変換!$1:$1,0),0)="","",VLOOKUP($A12,競技者csv変換!$A:$AK,MATCH(F$1,競技者csv変換!$1:$1,0),0))) | G12: =IF(ISERROR(VLOOKUP($A12,競技者csv変換!$A:$AK,MATCH(G$1,競技者csv変換!$1:$1,0),0)),"",IF(VLOOKUP($A12,競技者csv変換!$A:$AK,MATCH(G$1,競技者csv変換!$1:$1,0),0)="","",VLOOKUP($A12,競技者csv変換!$A:$AK,MATCH(G$1,競技者csv変換!$1:$1,0),0))) | H12: =IF(ISERROR(VLOOKUP($A12,競技者csv変換!$A:$AK,MATCH(H$1,競技者csv変換!$1:$1,0),0)),"",IF(VLOOKUP($A12,競技者csv変換!$A:$AK,MATCH(H$1,競技者csv変換!$1:$1,0),0)="","",VLOOKUP($A12,競技者csv変換!$A:$AK,MATCH(H$1,競技者csv変換!$1:$1,0),0))) | I12: =IF(ISERROR(VLOOKUP($A12,競技者csv変換!$A:$AK,MATCH(I$1,競技者csv変換!$1:$1,0),0)),"",IF(VLOOKUP($A12,競技者csv変換!$A:$AK,MATCH(I$1,競技者csv変換!$1:$1,0),0)="","",VLOOKUP($A12,競技者csv変換!$A:$AK,MATCH(I$1,競技者csv変換!$1:$1,0),0))) | ... AK12: =IF(ISERROR(VLOOKUP($A12,競技者csv変換!$A:$AK,MATCH(AK$1,競技者csv変換!$1:$1,0),0)),"",IF(VLOOKUP($A12,競技者csv変換!$A:$AK,MATCH(AK$1,競技者csv変換!$1:$1,0),0)="","",VLOOKUP($A12,競技者csv変換!$A:$AK,MATCH(AK$1,競技者csv変換!$1:$1,0),0)))
A13: =IF(B12="","",A12+1) | B13: =IF(ISERROR(VLOOKUP($A13,競技者csv変換!$A:$AK,MATCH(B$1,競技者csv変換!$1:$1,0),0)),"",IF(VLOOKUP($A13,競技者csv変換!$A:$AK,MATCH(B$1,競技者csv変換!$1:$1,0),0)="","",VLOOKUP($A13,競技者csv変換!$A:$AK,MATCH(B$1,競技者csv変換!$1:$1,0),0))) | C13: =IF(ISERROR(VLOOKUP($A13,競技者csv変換!$A:$AK,MATCH(C$1,競技者csv変換!$1:$1,0),0)),"",IF(VLOOKUP($A13,競技者csv変換!$A:$AK,MATCH(C$1,競技者csv変換!$1:$1,0),0)="","",VLOOKUP($A13,競技者csv変換!$A:$AK,MATCH(C$1,競技者csv変換!$1:$1,0),0))) | D13: =IF(ISERROR(VLOOKUP($A13,競技者csv変換!$A:$AK,MATCH(D$1,競技者csv変換!$1:$1,0),0)),"",IF(VLOOKUP($A13,競技者csv変換!$A:$AK,MATCH(D$1,競技者csv変換!$1:$1,0),0)="","",VLOOKUP($A13,競技者csv変換!$A:$AK,MATCH(D$1,競技者csv変換!$1:$1,0),0))) | E13: =IF(ISERROR(VLOOKUP($A13,競技者csv変換!$A:$AK,MATCH(E$1,競技者csv変換!$1:$1,0),0)),"",IF(VLOOKUP($A13,競技者csv変換!$A:$AK,MATCH(E$1,競技者csv変換!$1:$1,0),0)="","",VLOOKUP($A13,競技者csv変換!$A:$AK,MATCH(E$1,競技者csv変換!$1:$1,0),0))) | F13: =IF(ISERROR(VLOOKUP($A13,競技者csv変換!$A:$AK,MATCH(F$1,競技者csv変換!$1:$1,0),0)),"",IF(VLOOKUP($A13,競技者csv変換!$A:$AK,MATCH(F$1,競技者csv変換!$1:$1,0),0)="","",VLOOKUP($A13,競技者csv変換!$A:$AK,MATCH(F$1,競技者csv変換!$1:$1,0),0))) | G13: =IF(ISERROR(VLOOKUP($A13,競技者csv変換!$A:$AK,MATCH(G$1,競技者csv変換!$1:$1,0),0)),"",IF(VLOOKUP($A13,競技者csv変換!$A:$AK,MATCH(G$1,競技者csv変換!$1:$1,0),0)="","",VLOOKUP($A13,競技者csv変換!$A:$AK,MATCH(G$1,競技者csv変換!$1:$1,0),0))) | H13: =IF(ISERROR(VLOOKUP($A13,競技者csv変換!$A:$AK,MATCH(H$1,競技者csv変換!$1:$1,0),0)),"",IF(VLOOKUP($A13,競技者csv変換!$A:$AK,MATCH(H$1,競技者csv変換!$1:$1,0),0)="","",VLOOKUP($A13,競技者csv変換!$A:$AK,MATCH(H$1,競技者csv変換!$1:$1,0),0))) | I13: =IF(ISERROR(VLOOKUP($A13,競技者csv変換!$A:$AK,MATCH(I$1,競技者csv変換!$1:$1,0),0)),"",IF(VLOOKUP($A13,競技者csv変換!$A:$AK,MATCH(I$1,競技者csv変換!$1:$1,0),0)="","",VLOOKUP($A13,競技者csv変換!$A:$AK,MATCH(I$1,競技者csv変換!$1:$1,0),0))) | ... AK13: =IF(ISERROR(VLOOKUP($A13,競技者csv変換!$A:$AK,MATCH(AK$1,競技者csv変換!$1:$1,0),0)),"",IF(VLOOKUP($A13,競技者csv変換!$A:$AK,MATCH(AK$1,競技者csv変換!$1:$1,0),0)="","",VLOOKUP($A13,競技者csv変換!$A:$AK,MATCH(AK$1,競技者csv変換!$1:$1,0),0)))
... A121: =IF(B120="","",A120+1) | B121: =IF(ISERROR(VLOOKUP($A121,競技者csv変換!$A:$AK,MATCH(B$1,競技者csv変換!$1:$1,0),0)),"",IF(VLOOKUP($A121,競技者csv変換!$A:$AK,MATCH(B$1,競技者csv変換!$1:$1,0),0)="","",VLOOKUP($A121,競技者csv変換!$A:$AK,MATCH(B$1,競技者csv変換!$1:$1,0),0))) | C121: =IF(ISERROR(VLOOKUP($A121,競技者csv変換!$A:$AK,MATCH(C$1,競技者csv変換!$1:$1,0),0)),"",IF(VLOOKUP($A121,競技者csv変換!$A:$AK,MATCH(C$1,競技者csv変換!$1:$1,0),0)="","",VLOOKUP($A121,競技者csv変換!$A:$AK,MATCH(C$1,競技者csv変換!$1:$1,0),0))) | D121: =IF(ISERROR(VLOOKUP($A121,競技者csv変換!$A:$AK,MATCH(D$1,競技者csv変換!$1:$1,0),0)),"",IF(VLOOKUP($A121,競技者csv変換!$A:$AK,MATCH(D$1,競技者csv変換!$1:$1,0),0)="","",VLOOKUP($A121,競技者csv変換!$A:$AK,MATCH(D$1,競技者csv変換!$1:$1,0),0))) | E121: =IF(ISERROR(VLOOKUP($A121,競技者csv変換!$A:$AK,MATCH(E$1,競技者csv変換!$1:$1,0),0)),"",IF(VLOOKUP($A121,競技者csv変換!$A:$AK,MATCH(E$1,競技者csv変換!$1:$1,0),0)="","",VLOOKUP($A121,競技者csv変換!$A:$AK,MATCH(E$1,競技者csv変換!$1:$1,0),0))) | F121: =IF(ISERROR(VLOOKUP($A121,競技者csv変換!$A:$AK,MATCH(F$1,競技者csv変換!$1:$1,0),0)),"",IF(VLOOKUP($A121,競技者csv変換!$A:$AK,MATCH(F$1,競技者csv変換!$1:$1,0),0)="","",VLOOKUP($A121,競技者csv変換!$A:$AK,MATCH(F$1,競技者csv変換!$1:$1,0),0))) | G121: =IF(ISERROR(VLOOKUP($A121,競技者csv変換!$A:$AK,MATCH(G$1,競技者csv変換!$1:$1,0),0)),"",IF(VLOOKUP($A121,競技者csv変換!$A:$AK,MATCH(G$1,競技者csv変換!$1:$1,0),0)="","",VLOOKUP($A121,競技者csv変換!$A:$AK,MATCH(G$1,競技者csv変換!$1:$1,0),0))) | H121: =IF(ISERROR(VLOOKUP($A121,競技者csv変換!$A:$AK,MATCH(H$1,競技者csv変換!$1:$1,0),0)),"",IF(VLOOKUP($A121,競技者csv変換!$A:$AK,MATCH(H$1,競技者csv変換!$1:$1,0),0)="","",VLOOKUP($A121,競技者csv変換!$A:$AK,MATCH(H$1,競技者csv変換!$1:$1,0),0))) | I121: =IF(ISERROR(VLOOKUP($A121,競技者csv変換!$A:$AK,MATCH(I$1,競技者csv変換!$1:$1,0),0)),"",IF(VLOOKUP($A121,競技者csv変換!$A:$AK,MATCH(I$1,競技者csv変換!$1:$1,0),0)="","",VLOOKUP($A121,競技者csv変換!$A:$AK,MATCH(I$1,競技者csv変換!$1:$1,0),0))) | ... AK121: =IF(ISERROR(VLOOKUP($A121,競技者csv変換!$A:$AK,MATCH(AK$1,競技者csv変換!$1:$1,0),0)),"",IF(VLOOKUP($A121,競技者csv変換!$A:$AK,MATCH(AK$1,競技者csv変換!$1:$1,0),0)="","",VLOOKUP($A121,競技者csv変換!$A:$AK,MATCH(AK$1,競技者csv変換!$1:$1,0),0)))

Sheet チームcsv貼り付け用
B1: チームNO | C1: 所属コード | D1: チーム名 | E1: チーム名カナ | F1: チーム名略称 | G1: チーム正式名称 | H1: チーム名英字 | I1: 国籍 | J1: ID | K1: 競技者NO | L1: 競技者名 | M1: 参加競技-競技コード | N1: 参加競技-自己記録 | O1: 参加競技-オープン参加FLG | P1: 参加競技-記録FLG
A2: =IF(B1="","",A1+1) -> 1 | B2: =IF(ISERROR(VLOOKUP($A2,チームcsv変換!$A:$P,MATCH(チームcsv貼り付け用!B$1,チームcsv変換!$1:$1,0),0)),"",VLOOKUP($A2,チームcsv変換!$A:$P,MATCH(チームcsv貼り付け用!B$1,チームcsv変換!$1:$1,0),0)) | C2: =IF(ISERROR(VLOOKUP($A2,チームcsv変換!$A:$P,MATCH(チームcsv貼り付け用!C$1,チームcsv変換!$1:$1,0),0)),"",VLOOKUP($A2,チームcsv変換!$A:$P,MATCH(チームcsv貼り付け用!C$1,チームcsv変換!$1:$1,0),0)) | D2: =IF(ISERROR(VLOOKUP($A2,チームcsv変換!$A:$P,MATCH(チームcsv貼り付け用!D$1,チームcsv変換!$1:$1,0),0)),"",VLOOKUP($A2,チームcsv変換!$A:$P,MATCH(チームcsv貼り付け用!D$1,チームcsv変換!$1:$1,0),0)) | F2: =IF(ISERROR(VLOOKUP($A2,チームcsv変換!$A:$P,MATCH(チームcsv貼り付け用!F$1,チームcsv変換!$1:$1,0),0)),"",VLOOKUP($A2,チームcsv変換!$A:$P,MATCH(チームcsv貼り付け用!F$1,チームcsv変換!$1:$1,0),0)) | I2: =IF(ISERROR(VLOOKUP($A2,チームcsv変換!$A:$P,MATCH(チームcsv貼り付け用!I$1,チームcsv変換!$1:$1,0),0)),"",VLOOKUP($A2,チームcsv変換!$A:$P,MATCH(チームcsv貼り付け用!I$1,チームcsv変換!$1:$1,0),0)) | J2: =IF(ISERROR(VLOOKUP($A2,チームcsv変換!$A:$P,MATCH(チームcsv貼り付け用!J$1,チームcsv変換!$1:$1,0),0)),"",VLOOKUP($A2,チームcsv変換!$A:$P,MATCH(チームcsv貼り付け用!J$1,チームcsv変換!$1:$1,0),0)) | K2: =IF(ISERROR(VLOOKUP($A2,チームcsv変換!$A:$P,MATCH(チームcsv貼り付け用!K$1,チームcsv変換!$1:$1,0),0)),"",VLOOKUP($A2,チームcsv変換!$A:$P,MATCH(チームcsv貼り付け用!K$1,チームcsv変換!$1:$1,0),0)) | L2: =IF(ISERROR(VLOOKUP($A2,チームcsv変換!$A:$P,MATCH(チームcsv貼り付け用!L$1,チームcsv変換!$1:$1,0),0)),"",VLOOKUP($A2,チームcsv変換!$A:$P,MATCH(チームcsv貼り付け用!L$1,チームcsv変換!$1:$1,0),0)) | M2: =IF(ISERROR(VLOOKUP($A2,チームcsv変換!$A:$P,MATCH(チームcsv貼り付け用!M$1,チームcsv変換!$1:$1,0),0)),"",VLOOKUP($A2,チームcsv変換!$A:$P,MATCH(チームcsv貼り付け用!M$1,チームcsv変換!$1:$1,0),0)) | N2: =IF(ISERROR(VLOOKUP($A2,チームcsv変換!$A:$P,MATCH(チームcsv貼り付け用!N$1,チームcsv変換!$1:$1,0),0)),"",VLOOKUP($A2,チームcsv変換!$A:$P,MATCH(チームcsv貼り付け用!N$1,チームcsv変換!$1:$1,0),0)) | O2: =IF(ISERROR(VLOOKUP($A2,チームcsv変換!$A:$P,MATCH(チームcsv貼り付け用!O$1,チームcsv変換!$1:$1,0),0)),"",VLOOKUP($A2,チームcsv変換!$A:$P,MATCH(チームcsv貼り付け用!O$1,チームcsv変換!$1:$1,0),0)) | P2: =IF(ISERROR(VLOOKUP($A2,チームcsv変換!$A:$P,MATCH(チームcsv貼り付け用!P$1,チームcsv変換!$1:$1,0),0)),"",VLOOKUP($A2,チームcsv変換!$A:$P,MATCH(チームcsv貼り付け用!P$1,チームcsv変換!$1:$1,0),0))
A3: =IF(B2="","",A2+1) | B3: =IF(ISERROR(VLOOKUP($A3,チームcsv変換!$A:$P,MATCH(チームcsv貼り付け用!B$1,チームcsv変換!$1:$1,0),0)),"",VLOOKUP($A3,チームcsv変換!$A:$P,MATCH(チームcsv貼り付け用!B$1,チームcsv変換!$1:$1,0),0)) | C3: =IF(ISERROR(VLOOKUP($A3,チームcsv変換!$A:$P,MATCH(チームcsv貼り付け用!C$1,チームcsv変換!$1:$1,0),0)),"",VLOOKUP($A3,チームcsv変換!$A:$P,MATCH(チームcsv貼り付け用!C$1,チームcsv変換!$1:$1,0),0)) | D3: =IF(ISERROR(VLOOKUP($A3,チームcsv変換!$A:$P,MATCH(チームcsv貼り付け用!D$1,チームcsv変換!$1:$1,0),0)),"",VLOOKUP($A3,チームcsv変換!$A:$P,MATCH(チームcsv貼り付け用!D$1,チームcsv変換!$1:$1,0),0)) | F3: =IF(ISERROR(VLOOKUP($A3,チームcsv変換!$A:$P,MATCH(チームcsv貼り付け用!F$1,チームcsv変換!$1:$1,0),0)),"",VLOOKUP($A3,チームcsv変換!$A:$P,MATCH(チームcsv貼り付け用!F$1,チームcsv変換!$1:$1,0),0)) | I3: =IF(ISERROR(VLOOKUP($A3,チームcsv変換!$A:$P,MATCH(チームcsv貼り付け用!I$1,チームcsv変換!$1:$1,0),0)),"",VLOOKUP($A3,チームcsv変換!$A:$P,MATCH(チームcsv貼り付け用!I$1,チームcsv変換!$1:$1,0),0)) | J3: =IF(ISERROR(VLOOKUP($A3,チームcsv変換!$A:$P,MATCH(チームcsv貼り付け用!J$1,チームcsv変換!$1:$1,0),0)),"",VLOOKUP($A3,チームcsv変換!$A:$P,MATCH(チームcsv貼り付け用!J$1,チームcsv変換!$1:$1,0),0)) | K3: =IF(ISERROR(VLOOKUP($A3,チームcsv変換!$A:$P,MATCH(チームcsv貼り付け用!K$1,チームcsv変換!$1:$1,0),0)),"",VLOOKUP($A3,チームcsv変換!$A:$P,MATCH(チームcsv貼り付け用!K$1,チームcsv変換!$1:$1,0),0)) | L3: =IF(ISERROR(VLOOKUP($A3,チームcsv変換!$A:$P,MATCH(チームcsv貼り付け用!L$1,チームcsv変換!$1:$1,0),0)),"",VLOOKUP($A3,チームcsv変換!$A:$P,MATCH(チームcsv貼り付け用!L$1,チームcsv変換!$1:$1,0),0)) | M3: =IF(ISERROR(VLOOKUP($A3,チームcsv変換!$A:$P,MATCH(チームcsv貼り付け用!M$1,チームcsv変換!$1:$1,0),0)),"",VLOOKUP($A3,チームcsv変換!$A:$P,MATCH(チームcsv貼り付け用!M$1,チームcsv変換!$1:$1,0),0)) | N3: =IF(ISERROR(VLOOKUP($A3,チームcsv変換!$A:$P,MATCH(チームcsv貼り付け用!N$1,チームcsv変換!$1:$1,0),0)),"",VLOOKUP($A3,チームcsv変換!$A:$P,MATCH(チームcsv貼り付け用!N$1,チームcsv変換!$1:$1,0),0)) | O3: =IF(ISERROR(VLOOKUP($A3,チームcsv変換!$A:$P,MATCH(チームcsv貼り付け用!O$1,チームcsv変換!$1:$1,0),0)),"",VLOOKUP($A3,チームcsv変換!$A:$P,MATCH(チームcsv貼り付け用!O$1,チームcsv変換!$1:$1,0),0)) | P3: =IF(ISERROR(VLOOKUP($A3,チームcsv変換!$A:$P,MATCH(チームcsv貼り付け用!P$1,チームcsv変換!$1:$1,0),0)),"",VLOOKUP($A3,チームcsv変換!$A:$P,MATCH(チームcsv貼り付け用!P$1,チームcsv変換!$1:$1,0),0))
A4: =IF(B3="","",A3+1) | B4: =IF(ISERROR(VLOOKUP($A4,チームcsv変換!$A:$P,MATCH(チームcsv貼り付け用!B$1,チームcsv変換!$1:$1,0),0)),"",VLOOKUP($A4,チームcsv変換!$A:$P,MATCH(チームcsv貼り付け用!B$1,チームcsv変換!$1:$1,0),0)) | C4: =IF(ISERROR(VLOOKUP($A4,チームcsv変換!$A:$P,MATCH(チームcsv貼り付け用!C$1,チームcsv変換!$1:$1,0),0)),"",VLOOKUP($A4,チームcsv変換!$A:$P,MATCH(チームcsv貼り付け用!C$1,チームcsv変換!$1:$1,0),0)) | D4: =IF(ISERROR(VLOOKUP($A4,チームcsv変換!$A:$P,MATCH(チームcsv貼り付け用!D$1,チームcsv変換!$1:$1,0),0)),"",VLOOKUP($A4,チームcsv変換!$A:$P,MATCH(チームcsv貼り付け用!D$1,チームcsv変換!$1:$1,0),0)) | F4: =IF(ISERROR(VLOOKUP($A4,チームcsv変換!$A:$P,MATCH(チームcsv貼り付け用!F$1,チームcsv変換!$1:$1,0),0)),"",VLOOKUP($A4,チームcsv変換!$A:$P,MATCH(チームcsv貼り付け用!F$1,チームcsv変換!$1:$1,0),0)) | I4: =IF(ISERROR(VLOOKUP($A4,チームcsv変換!$A:$P,MATCH(チームcsv貼り付け用!I$1,チームcsv変換!$1:$1,0),0)),"",VLOOKUP($A4,チームcsv変換!$A:$P,MATCH(チームcsv貼り付け用!I$1,チームcsv変換!$1:$1,0),0)) | J4: =IF(ISERROR(VLOOKUP($A4,チームcsv変換!$A:$P,MATCH(チームcsv貼り付け用!J$1,チームcsv変換!$1:$1,0),0)),"",VLOOKUP($A4,チームcsv変換!$A:$P,MATCH(チームcsv貼り付け用!J$1,チームcsv変換!$1:$1,0),0)) | K4: =IF(ISERROR(VLOOKUP($A4,チームcsv変換!$A:$P,MATCH(チームcsv貼り付け用!K$1,チームcsv変換!$1:$1,0),0)),"",VLOOKUP($A4,チームcsv変換!$A:$P,MATCH(チームcsv貼り付け用!K$1,チームcsv変換!$1:$1,0),0)) | L4: =IF(ISERROR(VLOOKUP($A4,チームcsv変換!$A:$P,MATCH(チームcsv貼り付け用!L$1,チームcsv変換!$1:$1,0),0)),"",VLOOKUP($A4,チームcsv変換!$A:$P,MATCH(チームcsv貼り付け用!L$1,チームcsv変換!$1:$1,0),0)) | M4: =IF(ISERROR(VLOOKUP($A4,チームcsv変換!$A:$P,MATCH(チームcsv貼り付け用!M$1,チームcsv変換!$1:$1,0),0)),"",VLOOKUP($A4,チームcsv変換!$A:$P,MATCH(チームcsv貼り付け用!M$1,チームcsv変換!$1:$1,0),0)) | N4: =IF(ISERROR(VLOOKUP($A4,チームcsv変換!$A:$P,MATCH(チームcsv貼り付け用!N$1,チームcsv変換!$1:$1,0),0)),"",VLOOKUP($A4,チームcsv変換!$A:$P,MATCH(チームcsv貼り付け用!N$1,チームcsv変換!$1:$1,0),0)) | O4: =IF(ISERROR(VLOOKUP($A4,チームcsv変換!$A:$P,MATCH(チームcsv貼り付け用!O$1,チームcsv変換!$1:$1,0),0)),"",VLOOKUP($A4,チームcsv変換!$A:$P,MATCH(チームcsv貼り付け用!O$1,チームcsv変換!$1:$1,0),0)) | P4: =IF(ISERROR(VLOOKUP($A4,チームcsv変換!$A:$P,MATCH(チームcsv貼り付け用!P$1,チームcsv変換!$1:$1,0),0)),"",VLOOKUP($A4,チームcsv変換!$A:$P,MATCH(チームcsv貼り付け用!P$1,チームcsv変換!$1:$1,0),0))
A5: =IF(B4="","",A4+1) | B5: =IF(ISERROR(VLOOKUP($A5,チームcsv変換!$A:$P,MATCH(チームcsv貼り付け用!B$1,チームcsv変換!$1:$1,0),0)),"",VLOOKUP($A5,チームcsv変換!$A:$P,MATCH(チームcsv貼り付け用!B$1,チームcsv変換!$1:$1,0),0)) | C5: =IF(ISERROR(VLOOKUP($A5,チームcsv変換!$A:$P,MATCH(チームcsv貼り付け用!C$1,チームcsv変換!$1:$1,0),0)),"",VLOOKUP($A5,チームcsv変換!$A:$P,MATCH(チームcsv貼り付け用!C$1,チームcsv変換!$1:$1,0),0)) | D5: =IF(ISERROR(VLOOKUP($A5,チームcsv変換!$A:$P,MATCH(チームcsv貼り付け用!D$1,チームcsv変換!$1:$1,0),0)),"",VLOOKUP($A5,チームcsv変換!$A:$P,MATCH(チームcsv貼り付け用!D$1,チームcsv変換!$1:$1,0),0)) | F5: =IF(ISERROR(VLOOKUP($A5,チームcsv変換!$A:$P,MATCH(チームcsv貼り付け用!F$1,チームcsv変換!$1:$1,0),0)),"",VLOOKUP($A5,チームcsv変換!$A:$P,MATCH(チームcsv貼り付け用!F$1,チームcsv変換!$1:$1,0),0)) | I5: =IF(ISERROR(VLOOKUP($A5,チームcsv変換!$A:$P,MATCH(チームcsv貼り付け用!I$1,チームcsv変換!$1:$1,0),0)),"",VLOOKUP($A5,チームcsv変換!$A:$P,MATCH(チームcsv貼り付け用!I$1,チームcsv変換!$1:$1,0),0)) | J5: =IF(ISERROR(VLOOKUP($A5,チームcsv変換!$A:$P,MATCH(チームcsv貼り付け用!J$1,チームcsv変換!$1:$1,0),0)),"",VLOOKUP($A5,チームcsv変換!$A:$P,MATCH(チームcsv貼り付け用!J$1,チームcsv変換!$1:$1,0),0)) | K5: =IF(ISERROR(VLOOKUP($A5,チームcsv変換!$A:$P,MATCH(チームcsv貼り付け用!K$1,チームcsv変換!$1:$1,0),0)),"",VLOOKUP($A5,チームcsv変換!$A:$P,MATCH(チームcsv貼り付け用!K$1,チームcsv変換!$1:$1,0),0)) | L5: =IF(ISERROR(VLOOKUP($A5,チームcsv変換!$A:$P,MATCH(チームcsv貼り付け用!L$1,チームcsv変換!$1:$1,0),0)),"",VLOOKUP($A5,チームcsv変換!$A:$P,MATCH(チームcsv貼り付け用!L$1,チームcsv変換!$1:$1,0),0)) | M5: =IF(ISERROR(VLOOKUP($A5,チームcsv変換!$A:$P,MATCH(チームcsv貼り付け用!M$1,チームcsv変換!$1:$1,0),0)),"",VLOOKUP($A5,チームcsv変換!$A:$P,MATCH(チームcsv貼り付け用!M$1,チームcsv変換!$1:$1,0),0)) | N5: =IF(ISERROR(VLOOKUP($A5,チームcsv変換!$A:$P,MATCH(チームcsv貼り付け用!N$1,チームcsv変換!$1:$1,0),0)),"",VLOOKUP($A5,チームcsv変換!$A:$P,MATCH(チームcsv貼り付け用!N$1,チームcsv変換!$1:$1,0),0)) | O5: =IF(ISERROR(VLOOKUP($A5,チームcsv変換!$A:$P,MATCH(チームcsv貼り付け用!O$1,チームcsv変換!$1:$1,0),0)),"",VLOOKUP($A5,チームcsv変換!$A:$P,MATCH(チームcsv貼り付け用!O$1,チームcsv変換!$1:$1,0),0)) | P5: =IF(ISERROR(VLOOKUP($A5,チームcsv変換!$A:$P,MATCH(チームcsv貼り付け用!P$1,チームcsv変換!$1:$1,0),0)),"",VLOOKUP($A5,チームcsv変換!$A:$P,MATCH(チームcsv貼り付け用!P$1,チームcsv変換!$1:$1,0),0))
A6: =IF(B5="","",A5+1) | B6: =IF(ISERROR(VLOOKUP($A6,チームcsv変換!$A:$P,MATCH(チームcsv貼り付け用!B$1,チームcsv変換!$1:$1,0),0)),"",VLOOKUP($A6,チームcsv変換!$A:$P,MATCH(チームcsv貼り付け用!B$1,チームcsv変換!$1:$1,0),0)) | C6: =IF(ISERROR(VLOOKUP($A6,チームcsv変換!$A:$P,MATCH(チームcsv貼り付け用!C$1,チームcsv変換!$1:$1,0),0)),"",VLOOKUP($A6,チームcsv変換!$A:$P,MATCH(チームcsv貼り付け用!C$1,チームcsv変換!$1:$1,0),0)) | D6: =IF(ISERROR(VLOOKUP($A6,チームcsv変換!$A:$P,MATCH(チームcsv貼り付け用!D$1,チームcsv変換!$1:$1,0),0)),"",VLOOKUP($A6,チームcsv変換!$A:$P,MATCH(チームcsv貼り付け用!D$1,チームcsv変換!$1:$1,0),0)) | F6: =IF(ISERROR(VLOOKUP($A6,チームcsv変換!$A:$P,MATCH(チームcsv貼り付け用!F$1,チームcsv変換!$1:$1,0),0)),"",VLOOKUP($A6,チームcsv変換!$A:$P,MATCH(チームcsv貼り付け用!F$1,チームcsv変換!$1:$1,0),0)) | I6: =IF(ISERROR(VLOOKUP($A6,チームcsv変換!$A:$P,MATCH(チームcsv貼り付け用!I$1,チームcsv変換!$1:$1,0),0)),"",VLOOKUP($A6,チームcsv変換!$A:$P,MATCH(チームcsv貼り付け用!I$1,チームcsv変換!$1:$1,0),0)) | J6: =IF(ISERROR(VLOOKUP($A6,チームcsv変換!$A:$P,MATCH(チームcsv貼り付け用!J$1,チームcsv変換!$1:$1,0),0)),"",VLOOKUP($A6,チームcsv変換!$A:$P,MATCH(チームcsv貼り付け用!J$1,チームcsv変換!$1:$1,0),0)) | K6: =IF(ISERROR(VLOOKUP($A6,チームcsv変換!$A:$P,MATCH(チームcsv貼り付け用!K$1,チームcsv変換!$1:$1,0),0)),"",VLOOKUP($A6,チームcsv変換!$A:$P,MATCH(チームcsv貼り付け用!K$1,チームcsv変換!$1:$1,0),0)) | L6: =IF(ISERROR(VLOOKUP($A6,チームcsv変換!$A:$P,MATCH(チームcsv貼り付け用!L$1,チームcsv変換!$1:$1,0),0)),"",VLOOKUP($A6,チームcsv変換!$A:$P,MATCH(チームcsv貼り付け用!L$1,チームcsv変換!$1:$1,0),0)) | M6: =IF(ISERROR(VLOOKUP($A6,チームcsv変換!$A:$P,MATCH(チームcsv貼り付け用!M$1,チームcsv変換!$1:$1,0),0)),"",VLOOKUP($A6,チームcsv変換!$A:$P,MATCH(チームcsv貼り付け用!M$1,チームcsv変換!$1:$1,0),0)) | N6: =IF(ISERROR(VLOOKUP($A6,チームcsv変換!$A:$P,MATCH(チームcsv貼り付け用!N$1,チームcsv変換!$1:$1,0),0)),"",VLOOKUP($A6,チームcsv変換!$A:$P,MATCH(チームcsv貼り付け用!N$1,チームcsv変換!$1:$1,0),0)) | O6: =IF(ISERROR(VLOOKUP($A6,チームcsv変換!$A:$P,MATCH(チームcsv貼り付け用!O$1,チームcsv変換!$1:$1,0),0)),"",VLOOKUP($A6,チームcsv変換!$A:$P,MATCH(チームcsv貼り付け用!O$1,チームcsv変換!$1:$1,0),0)) | P6: =IF(ISERROR(VLOOKUP($A6,チームcsv変換!$A:$P,MATCH(チームcsv貼り付け用!P$1,チームcsv変換!$1:$1,0),0)),"",VLOOKUP($A6,チームcsv変換!$A:$P,MATCH(チームcsv貼り付け用!P$1,チームcsv変換!$1:$1,0),0))
A7: =IF(B6="","",A6+1) | B7: =IF(ISERROR(VLOOKUP($A7,チームcsv変換!$A:$P,MATCH(チームcsv貼り付け用!B$1,チームcsv変換!$1:$1,0),0)),"",VLOOKUP($A7,チームcsv変換!$A:$P,MATCH(チームcsv貼り付け用!B$1,チームcsv変換!$1:$1,0),0)) | C7: =IF(ISERROR(VLOOKUP($A7,チームcsv変換!$A:$P,MATCH(チームcsv貼り付け用!C$1,チームcsv変換!$1:$1,0),0)),"",VLOOKUP($A7,チームcsv変換!$A:$P,MATCH(チームcsv貼り付け用!C$1,チームcsv変換!$1:$1,0),0)) | D7: =IF(ISERROR(VLOOKUP($A7,チームcsv変換!$A:$P,MATCH(チームcsv貼り付け用!D$1,チームcsv変換!$1:$1,0),0)),"",VLOOKUP($A7,チームcsv変換!$A:$P,MATCH(チームcsv貼り付け用!D$1,チームcsv変換!$1:$1,0),0)) | F7: =IF(ISERROR(VLOOKUP($A7,チームcsv変換!$A:$P,MATCH(チームcsv貼り付け用!F$1,チームcsv変換!$1:$1,0),0)),"",VLOOKUP($A7,チームcsv変換!$A:$P,MATCH(チームcsv貼り付け用!F$1,チームcsv変換!$1:$1,0),0)) | I7: =IF(ISERROR(VLOOKUP($A7,チームcsv変換!$A:$P,MATCH(チームcsv貼り付け用!I$1,チームcsv変換!$1:$1,0),0)),"",VLOOKUP($A7,チームcsv変換!$A:$P,MATCH(チームcsv貼り付け用!I$1,チームcsv変換!$1:$1,0),0)) | J7: =IF(ISERROR(VLOOKUP($A7,チームcsv変換!$A:$P,MATCH(チームcsv貼り付け用!J$1,チームcsv変換!$1:$1,0),0)),"",VLOOKUP($A7,チームcsv変換!$A:$P,MATCH(チームcsv貼り付け用!J$1,チームcsv変換!$1:$1,0),0)) | K7: =IF(ISERROR(VLOOKUP($A7,チームcsv変換!$A:$P,MATCH(チームcsv貼り付け用!K$1,チームcsv変換!$1:$1,0),0)),"",VLOOKUP($A7,チームcsv変換!$A:$P,MATCH(チームcsv貼り付け用!K$1,チームcsv変換!$1:$1,0),0)) | L7: =IF(ISERROR(VLOOKUP($A7,チームcsv変換!$A:$P,MATCH(チームcsv貼り付け用!L$1,チームcsv変換!$1:$1,0),0)),"",VLOOKUP($A7,チームcsv変換!$A:$P,MATCH(チームcsv貼り付け用!L$1,チームcsv変換!$1:$1,0),0)) | M7: =IF(ISERROR(VLOOKUP($A7,チームcsv変換!$A:$P,MATCH(チームcsv貼り付け用!M$1,チームcsv変換!$1:$1,0),0)),"",VLOOKUP($A7,チームcsv変換!$A:$P,MATCH(チームcsv貼り付け用!M$1,チームcsv変換!$1:$1,0),0)) | N7: =IF(ISERROR(VLOOKUP($A7,チームcsv変換!$A:$P,MATCH(チームcsv貼り付け用!N$1,チームcsv変換!$1:$1,0),0)),"",VLOOKUP($A7,チームcsv変換!$A:$P,MATCH(チームcsv貼り付け用!N$1,チームcsv変換!$1:$1,0),0)) | O7: =IF(ISERROR(VLOOKUP($A7,チームcsv変換!$A:$P,MATCH(チームcsv貼り付け用!O$1,チームcsv変換!$1:$1,0),0)),"",VLOOKUP($A7,チームcsv変換!$A:$P,MATCH(チームcsv貼り付け用!O$1,チームcsv変換!$1:$1,0),0)) | P7: =IF(ISERROR(VLOOKUP($A7,チームcsv変換!$A:$P,MATCH(チームcsv貼り付け用!P$1,チームcsv変換!$1:$1,0),0)),"",VLOOKUP($A7,チームcsv変換!$A:$P,MATCH(チームcsv貼り付け用!P$1,チームcsv変換!$1:$1,0),0))
A8: =IF(B7="","",A7+1) | B8: =IF(ISERROR(VLOOKUP($A8,チームcsv変換!$A:$P,MATCH(チームcsv貼り付け用!B$1,チームcsv変換!$1:$1,0),0)),"",VLOOKUP($A8,チームcsv変換!$A:$P,MATCH(チームcsv貼り付け用!B$1,チームcsv変換!$1:$1,0),0)) | C8: =IF(ISERROR(VLOOKUP($A8,チームcsv変換!$A:$P,MATCH(チームcsv貼り付け用!C$1,チームcsv変換!$1:$1,0),0)),"",VLOOKUP($A8,チームcsv変換!$A:$P,MATCH(チームcsv貼り付け用!C$1,チームcsv変換!$1:$1,0),0)) | D8: =IF(ISERROR(VLOOKUP($A8,チームcsv変換!$A:$P,MATCH(チームcsv貼り付け用!D$1,チームcsv変換!$1:$1,0),0)),"",VLOOKUP($A8,チームcsv変換!$A:$P,MATCH(チームcsv貼り付け用!D$1,チームcsv変換!$1:$1,0),0)) | F8: =IF(ISERROR(VLOOKUP($A8,チームcsv変換!$A:$P,MATCH(チームcsv貼り付け用!F$1,チームcsv変換!$1:$1,0),0)),"",VLOOKUP($A8,チームcsv変換!$A:$P,MATCH(チームcsv貼り付け用!F$1,チームcsv変換!$1:$1,0),0)) | I8: =IF(ISERROR(VLOOKUP($A8,チームcsv変換!$A:$P,MATCH(チームcsv貼り付け用!I$1,チームcsv変換!$1:$1,0),0)),"",VLOOKUP($A8,チームcsv変換!$A:$P,MATCH(チームcsv貼り付け用!I$1,チームcsv変換!$1:$1,0),0)) | J8: =IF(ISERROR(VLOOKUP($A8,チームcsv変換!$A:$P,MATCH(チームcsv貼り付け用!J$1,チームcsv変換!$1:$1,0),0)),"",VLOOKUP($A8,チームcsv変換!$A:$P,MATCH(チームcsv貼り付け用!J$1,チームcsv変換!$1:$1,0),0)) | K8: =IF(ISERROR(VLOOKUP($A8,チームcsv変換!$A:$P,MATCH(チームcsv貼り付け用!K$1,チームcsv変換!$1:$1,0),0)),"",VLOOKUP($A8,チームcsv変換!$A:$P,MATCH(チームcsv貼り付け用!K$1,チームcsv変換!$1:$1,0),0)) | L8: =IF(ISERROR(VLOOKUP($A8,チームcsv変換!$A:$P,MATCH(チームcsv貼り付け用!L$1,チームcsv変換!$1:$1,0),0)),"",VLOOKUP($A8,チームcsv変換!$A:$P,MATCH(チームcsv貼り付け用!L$1,チームcsv変換!$1:$1,0),0)) | M8: =IF(ISERROR(VLOOKUP($A8,チームcsv変換!$A:$P,MATCH(チームcsv貼り付け用!M$1,チームcsv変換!$1:$1,0),0)),"",VLOOKUP($A8,チームcsv変換!$A:$P,MATCH(チームcsv貼り付け用!M$1,チームcsv変換!$1:$1,0),0)) | N8: =IF(ISERROR(VLOOKUP($A8,チームcsv変換!$A:$P,MATCH(チームcsv貼り付け用!N$1,チームcsv変換!$1:$1,0),0)),"",VLOOKUP($A8,チームcsv変換!$A:$P,MATCH(チームcsv貼り付け用!N$1,チームcsv変換!$1:$1,0),0)) | O8: =IF(ISERROR(VLOOKUP($A8,チームcsv変換!$A:$P,MATCH(チームcsv貼り付け用!O$1,チームcsv変換!$1:$1,0),0)),"",VLOOKUP($A8,チームcsv変換!$A:$P,MATCH(チームcsv貼り付け用!O$1,チームcsv変換!$1:$1,0),0)) | P8: =IF(ISERROR(VLOOKUP($A8,チームcsv変換!$A:$P,MATCH(チームcsv貼り付け用!P$1,チームcsv変換!$1:$1,0),0)),"",VLOOKUP($A8,チームcsv変換!$A:$P,MATCH(チームcsv貼り付け用!P$1,チームcsv変換!$1:$1,0),0))
A9: =IF(B8="","",A8+1) | B9: =IF(ISERROR(VLOOKUP($A9,チームcsv変換!$A:$P,MATCH(チームcsv貼り付け用!B$1,チームcsv変換!$1:$1,0),0)),"",VLOOKUP($A9,チームcsv変換!$A:$P,MATCH(チームcsv貼り付け用!B$1,チームcsv変換!$1:$1,0),0)) | C9: =IF(ISERROR(VLOOKUP($A9,チームcsv変換!$A:$P,MATCH(チームcsv貼り付け用!C$1,チームcsv変換!$1:$1,0),0)),"",VLOOKUP($A9,チームcsv変換!$A:$P,MATCH(チームcsv貼り付け用!C$1,チームcsv変換!$1:$1,0),0)) | D9: =IF(ISERROR(VLOOKUP($A9,チームcsv変換!$A:$P,MATCH(チームcsv貼り付け用!D$1,チームcsv変換!$1:$1,0),0)),"",VLOOKUP($A9,チームcsv変換!$A:$P,MATCH(チームcsv貼り付け用!D$1,チームcsv変換!$1:$1,0),0)) | F9: =IF(ISERROR(VLOOKUP($A9,チームcsv変換!$A:$P,MATCH(チームcsv貼り付け用!F$1,チームcsv変換!$1:$1,0),0)),"",VLOOKUP($A9,チームcsv変換!$A:$P,MATCH(チームcsv貼り付け用!F$1,チームcsv変換!$1:$1,0),0)) | I9: =IF(ISERROR(VLOOKUP($A9,チームcsv変換!$A:$P,MATCH(チームcsv貼り付け用!I$1,チームcsv変換!$1:$1,0),0)),"",VLOOKUP($A9,チームcsv変換!$A:$P,MATCH(チームcsv貼り付け用!I$1,チームcsv変換!$1:$1,0),0)) | J9: =IF(ISERROR(VLOOKUP($A9,チームcsv変換!$A:$P,MATCH(チームcsv貼り付け用!J$1,チームcsv変換!$1:$1,0),0)),"",VLOOKUP($A9,チームcsv変換!$A:$P,MATCH(チームcsv貼り付け用!J$1,チームcsv変換!$1:$1,0),0)) | K9: =IF(ISERROR(VLOOKUP($A9,チームcsv変換!$A:$P,MATCH(チームcsv貼り付け用!K$1,チームcsv変換!$1:$1,0),0)),"",VLOOKUP($A9,チームcsv変換!$A:$P,MATCH(チームcsv貼り付け用!K$1,チームcsv変換!$1:$1,0),0)) | L9: =IF(ISERROR(VLOOKUP($A9,チームcsv変換!$A:$P,MATCH(チームcsv貼り付け用!L$1,チームcsv変換!$1:$1,0),0)),"",VLOOKUP($A9,チームcsv変換!$A:$P,MATCH(チームcsv貼り付け用!L$1,チームcsv変換!$1:$1,0),0)) | M9: =IF(ISERROR(VLOOKUP($A9,チームcsv変換!$A:$P,MATCH(チームcsv貼り付け用!M$1,チームcsv変換!$1:$1,0),0)),"",VLOOKUP($A9,チームcsv変換!$A:$P,MATCH(チームcsv貼り付け用!M$1,チームcsv変換!$1:$1,0),0)) | N9: =IF(ISERROR(VLOOKUP($A9,チームcsv変換!$A:$P,MATCH(チームcsv貼り付け用!N$1,チームcsv変換!$1:$1,0),0)),"",VLOOKUP($A9,チームcsv変換!$A:$P,MATCH(チームcsv貼り付け用!N$1,チームcsv変換!$1:$1,0),0)) | O9: =IF(ISERROR(VLOOKUP($A9,チームcsv変換!$A:$P,MATCH(チームcsv貼り付け用!O$1,チームcsv変換!$1:$1,0),0)),"",VLOOKUP($A9,チームcsv変換!$A:$P,MATCH(チームcsv貼り付け用!O$1,チームcsv変換!$1:$1,0),0)) | P9: =IF(ISERROR(VLOOKUP($A9,チームcsv変換!$A:$P,MATCH(チームcsv貼り付け用!P$1,チームcsv変換!$1:$1,0),0)),"",VLOOKUP($A9,チームcsv変換!$A:$P,MATCH(チームcsv貼り付け用!P$1,チームcsv変換!$1:$1,0),0))
A10: =IF(B9="","",A9+1) | B10: =IF(ISERROR(VLOOKUP($A10,チームcsv変換!$A:$P,MATCH(チームcsv貼り付け用!B$1,チームcsv変換!$1:$1,0),0)),"",VLOOKUP($A10,チームcsv変換!$A:$P,MATCH(チームcsv貼り付け用!B$1,チームcsv変換!$1:$1,0),0)) | C10: =IF(ISERROR(VLOOKUP($A10,チームcsv変換!$A:$P,MATCH(チームcsv貼り付け用!C$1,チームcsv変換!$1:$1,0),0)),"",VLOOKUP($A10,チームcsv変換!$A:$P,MATCH(チームcsv貼り付け用!C$1,チームcsv変換!$1:$1,0),0)) | D10: =IF(ISERROR(VLOOKUP($A10,チームcsv変換!$A:$P,MATCH(チームcsv貼り付け用!D$1,チームcsv変換!$1:$1,0),0)),"",VLOOKUP($A10,チームcsv変換!$A:$P,MATCH(チームcsv貼り付け用!D$1,チームcsv変換!$1:$1,0),0)) | F10: =IF(ISERROR(VLOOKUP($A10,チームcsv変換!$A:$P,MATCH(チームcsv貼り付け用!F$1,チームcsv変換!$1:$1,0),0)),"",VLOOKUP($A10,チームcsv変換!$A:$P,MATCH(チームcsv貼り付け用!F$1,チームcsv変換!$1:$1,0),0)) | I10: =IF(ISERROR(VLOOKUP($A10,チームcsv変換!$A:$P,MATCH(チームcsv貼り付け用!I$1,チームcsv変換!$1:$1,0),0)),"",VLOOKUP($A10,チームcsv変換!$A:$P,MATCH(チームcsv貼り付け用!I$1,チームcsv変換!$1:$1,0),0)) | J10: =IF(ISERROR(VLOOKUP($A10,チームcsv変換!$A:$P,MATCH(チームcsv貼り付け用!J$1,チームcsv変換!$1:$1,0),0)),"",VLOOKUP($A10,チームcsv変換!$A:$P,MATCH(チームcsv貼り付け用!J$1,チームcsv変換!$1:$1,0),0)) | K10: =IF(ISERROR(VLOOKUP($A10,チームcsv変換!$A:$P,MATCH(チームcsv貼り付け用!K$1,チームcsv変換!$1:$1,0),0)),"",VLOOKUP($A10,チームcsv変換!$A:$P,MATCH(チームcsv貼り付け用!K$1,チームcsv変換!$1:$1,0),0)) | L10: =IF(ISERROR(VLOOKUP($A10,チームcsv変換!$A:$P,MATCH(チームcsv貼り付け用!L$1,チームcsv変換!$1:$1,0),0)),"",VLOOKUP($A10,チームcsv変換!$A:$P,MATCH(チームcsv貼り付け用!L$1,チームcsv変換!$1:$1,0),0)) | M10: =IF(ISERROR(VLOOKUP($A10,チームcsv変換!$A:$P,MATCH(チームcsv貼り付け用!M$1,チームcsv変換!$1:$1,0),0)),"",VLOOKUP($A10,チームcsv変換!$A:$P,MATCH(チームcsv貼り付け用!M$1,チームcsv変換!$1:$1,0),0)) | N10: =IF(ISERROR(VLOOKUP($A10,チームcsv変換!$A:$P,MATCH(チームcsv貼り付け用!N$1,チームcsv変換!$1:$1,0),0)),"",VLOOKUP($A10,チームcsv変換!$A:$P,MATCH(チームcsv貼り付け用!N$1,チームcsv変換!$1:$1,0),0)) | O10: =IF(ISERROR(VLOOKUP($A10,チームcsv変換!$A:$P,MATCH(チームcsv貼り付け用!O$1,チームcsv変換!$1:$1,0),0)),"",VLOOKUP($A10,チームcsv変換!$A:$P,MATCH(チームcsv貼り付け用!O$1,チームcsv変換!$1:$1,0),0)) | P10: =IF(ISERROR(VLOOKUP($A10,チームcsv変換!$A:$P,MATCH(チームcsv貼り付け用!P$1,チームcsv変換!$1:$1,0),0)),"",VLOOKUP($A10,チームcsv変換!$A:$P,MATCH(チームcsv貼り付け用!P$1,チームcsv変換!$1:$1,0),0))
A11: =IF(B10="","",A10+1) | B11: =IF(ISERROR(VLOOKUP($A11,チームcsv変換!$A:$P,MATCH(チームcsv貼り付け用!B$1,チームcsv変換!$1:$1,0),0)),"",VLOOKUP($A11,チームcsv変換!$A:$P,MATCH(チームcsv貼り付け用!B$1,チームcsv変換!$1:$1,0),0)) | C11: =IF(ISERROR(VLOOKUP($A11,チームcsv変換!$A:$P,MATCH(チームcsv貼り付け用!C$1,チームcsv変換!$1:$1,0),0)),"",VLOOKUP($A11,チームcsv変換!$A:$P,MATCH(チームcsv貼り付け用!C$1,チームcsv変換!$1:$1,0),0)) | D11: =IF(ISERROR(VLOOKUP($A11,チームcsv変換!$A:$P,MATCH(チームcsv貼り付け用!D$1,チームcsv変換!$1:$1,0),0)),"",VLOOKUP($A11,チームcsv変換!$A:$P,MATCH(チームcsv貼り付け用!D$1,チームcsv変換!$1:$1,0),0)) | F11: =IF(ISERROR(VLOOKUP($A11,チームcsv変換!$A:$P,MATCH(チームcsv貼り付け用!F$1,チームcsv変換!$1:$1,0),0)),"",VLOOKUP($A11,チームcsv変換!$A:$P,MATCH(チームcsv貼り付け用!F$1,チームcsv変換!$1:$1,0),0)) | I11: =IF(ISERROR(VLOOKUP($A11,チームcsv変換!$A:$P,MATCH(チームcsv貼り付け用!I$1,チームcsv変換!$1:$1,0),0)),"",VLOOKUP($A11,チームcsv変換!$A:$P,MATCH(チームcsv貼り付け用!I$1,チームcsv変換!$1:$1,0),0)) | J11: =IF(ISERROR(VLOOKUP($A11,チームcsv変換!$A:$P,MATCH(チームcsv貼り付け用!J$1,チームcsv変換!$1:$1,0),0)),"",VLOOKUP($A11,チームcsv変換!$A:$P,MATCH(チームcsv貼り付け用!J$1,チームcsv変換!$1:$1,0),0)) | K11: =IF(ISERROR(VLOOKUP($A11,チームcsv変換!$A:$P,MATCH(チームcsv貼り付け用!K$1,チームcsv変換!$1:$1,0),0)),"",VLOOKUP($A11,チームcsv変換!$A:$P,MATCH(チームcsv貼り付け用!K$1,チームcsv変換!$1:$1,0),0)) | L11: =IF(ISERROR(VLOOKUP($A11,チームcsv変換!$A:$P,MATCH(チームcsv貼り付け用!L$1,チームcsv変換!$1:$1,0),0)),"",VLOOKUP($A11,チームcsv変換!$A:$P,MATCH(チームcsv貼り付け用!L$1,チームcsv変換!$1:$1,0),0)) | M11: =IF(ISERROR(VLOOKUP($A11,チームcsv変換!$A:$P,MATCH(チームcsv貼り付け用!M$1,チームcsv変換!$1:$1,0),0)),"",VLOOKUP($A11,チームcsv変換!$A:$P,MATCH(チームcsv貼り付け用!M$1,チームcsv変換!$1:$1,0),0)) | N11: =IF(ISERROR(VLOOKUP($A11,チームcsv変換!$A:$P,MATCH(チームcsv貼り付け用!N$1,チームcsv変換!$1:$1,0),0)),"",VLOOKUP($A11,チームcsv変換!$A:$P,MATCH(チームcsv貼り付け用!N$1,チームcsv変換!$1:$1,0),0)) | O11: =IF(ISERROR(VLOOKUP($A11,チームcsv変換!$A:$P,MATCH(チームcsv貼り付け用!O$1,チームcsv変換!$1:$1,0),0)),"",VLOOKUP($A11,チームcsv変換!$A:$P,MATCH(チームcsv貼り付け用!O$1,チームcsv変換!$1:$1,0),0)) | P11: =IF(ISERROR(VLOOKUP($A11,チームcsv変換!$A:$P,MATCH(チームcsv貼り付け用!P$1,チームcsv変換!$1:$1,0),0)),"",VLOOKUP($A11,チームcsv変換!$A:$P,MATCH(チームcsv貼り付け用!P$1,チームcsv変換!$1:$1,0),0))
A12: =IF(B11="","",A11+1) | B12: =IF(ISERROR(VLOOKUP($A12,チームcsv変換!$A:$P,MATCH(チームcsv貼り付け用!B$1,チームcsv変換!$1:$1,0),0)),"",VLOOKUP($A12,チームcsv変換!$A:$P,MATCH(チームcsv貼り付け用!B$1,チームcsv変換!$1:$1,0),0)) | C12: =IF(ISERROR(VLOOKUP($A12,チームcsv変換!$A:$P,MATCH(チームcsv貼り付け用!C$1,チームcsv変換!$1:$1,0),0)),"",VLOOKUP($A12,チームcsv変換!$A:$P,MATCH(チームcsv貼り付け用!C$1,チームcsv変換!$1:$1,0),0)) | D12: =IF(ISERROR(VLOOKUP($A12,チームcsv変換!$A:$P,MATCH(チームcsv貼り付け用!D$1,チームcsv変換!$1:$1,0),0)),"",VLOOKUP($A12,チームcsv変換!$A:$P,MATCH(チームcsv貼り付け用!D$1,チームcsv変換!$1:$1,0),0)) | F12: =IF(ISERROR(VLOOKUP($A12,チームcsv変換!$A:$P,MATCH(チームcsv貼り付け用!F$1,チームcsv変換!$1:$1,0),0)),"",VLOOKUP($A12,チームcsv変換!$A:$P,MATCH(チームcsv貼り付け用!F$1,チームcsv変換!$1:$1,0),0)) | I12: =IF(ISERROR(VLOOKUP($A12,チームcsv変換!$A:$P,MATCH(チームcsv貼り付け用!I$1,チームcsv変換!$1:$1,0),0)),"",VLOOKUP($A12,チームcsv変換!$A:$P,MATCH(チームcsv貼り付け用!I$1,チームcsv変換!$1:$1,0),0)) | J12: =IF(ISERROR(VLOOKUP($A12,チームcsv変換!$A:$P,MATCH(チームcsv貼り付け用!J$1,チームcsv変換!$1:$1,0),0)),"",VLOOKUP($A12,チームcsv変換!$A:$P,MATCH(チームcsv貼り付け用!J$1,チームcsv変換!$1:$1,0),0)) | K12: =IF(ISERROR(VLOOKUP($A12,チームcsv変換!$A:$P,MATCH(チームcsv貼り付け用!K$1,チームcsv変換!$1:$1,0),0)),"",VLOOKUP($A12,チームcsv変換!$A:$P,MATCH(チームcsv貼り付け用!K$1,チームcsv変換!$1:$1,0),0)) | L12: =IF(ISERROR(VLOOKUP($A12,チームcsv変換!$A:$P,MATCH(チームcsv貼り付け用!L$1,チームcsv変換!$1:$1,0),0)),"",VLOOKUP($A12,チームcsv変換!$A:$P,MATCH(チームcsv貼り付け用!L$1,チームcsv変換!$1:$1,0),0)) | M12: =IF(ISERROR(VLOOKUP($A12,チームcsv変換!$A:$P,MATCH(チームcsv貼り付け用!M$1,チームcsv変換!$1:$1,0),0)),"",VLOOKUP($A12,チームcsv変換!$A:$P,MATCH(チームcsv貼り付け用!M$1,チームcsv変換!$1:$1,0),0)) | N12: =IF(ISERROR(VLOOKUP($A12,チームcsv変換!$A:$P,MATCH(チームcsv貼り付け用!N$1,チームcsv変換!$1:$1,0),0)),"",VLOOKUP($A12,チームcsv変換!$A:$P,MATCH(チームcsv貼り付け用!N$1,チームcsv変換!$1:$1,0),0)) | O12: =IF(ISERROR(VLOOKUP($A12,チームcsv変換!$A:$P,MATCH(チームcsv貼り付け用!O$1,チームcsv変換!$1:$1,0),0)),"",VLOOKUP($A12,チームcsv変換!$A:$P,MATCH(チームcsv貼り付け用!O$1,チームcsv変換!$1:$1,0),0)) | P12: =IF(ISERROR(VLOOKUP($A12,チームcsv変換!$A:$P,MATCH(チームcsv貼り付け用!P$1,チームcsv変換!$1:$1,0),0)),"",VLOOKUP($A12,チームcsv変換!$A:$P,MATCH(チームcsv貼り付け用!P$1,チームcsv変換!$1:$1,0),0))
A13: =IF(B12="","",A12+1) | B13: =IF(ISERROR(VLOOKUP($A13,チームcsv変換!$A:$P,MATCH(チームcsv貼り付け用!B$1,チームcsv変換!$1:$1,0),0)),"",VLOOKUP($A13,チームcsv変換!$A:$P,MATCH(チームcsv貼り付け用!B$1,チームcsv変換!$1:$1,0),0)) | C13: =IF(ISERROR(VLOOKUP($A13,チームcsv変換!$A:$P,MATCH(チームcsv貼り付け用!C$1,チームcsv変換!$1:$1,0),0)),"",VLOOKUP($A13,チームcsv変換!$A:$P,MATCH(チームcsv貼り付け用!C$1,チームcsv変換!$1:$1,0),0)) | D13: =IF(ISERROR(VLOOKUP($A13,チームcsv変換!$A:$P,MATCH(チームcsv貼り付け用!D$1,チームcsv変換!$1:$1,0),0)),"",VLOOKUP($A13,チームcsv変換!$A:$P,MATCH(チームcsv貼り付け用!D$1,チームcsv変換!$1:$1,0),0)) | F13: =IF(ISERROR(VLOOKUP($A13,チームcsv変換!$A:$P,MATCH(チームcsv貼り付け用!F$1,チームcsv変換!$1:$1,0),0)),"",VLOOKUP($A13,チームcsv変換!$A:$P,MATCH(チームcsv貼り付け用!F$1,チームcsv変換!$1:$1,0),0)) | I13: =IF(ISERROR(VLOOKUP($A13,チームcsv変換!$A:$P,MATCH(チームcsv貼り付け用!I$1,チームcsv変換!$1:$1,0),0)),"",VLOOKUP($A13,チームcsv変換!$A:$P,MATCH(チームcsv貼り付け用!I$1,チームcsv変換!$1:$1,0),0)) | J13: =IF(ISERROR(VLOOKUP($A13,チームcsv変換!$A:$P,MATCH(チームcsv貼り付け用!J$1,チームcsv変換!$1:$1,0),0)),"",VLOOKUP($A13,チームcsv変換!$A:$P,MATCH(チームcsv貼り付け用!J$1,チームcsv変換!$1:$1,0),0)) | K13: =IF(ISERROR(VLOOKUP($A13,チームcsv変換!$A:$P,MATCH(チームcsv貼り付け用!K$1,チームcsv変換!$1:$1,0),0)),"",VLOOKUP($A13,チームcsv変換!$A:$P,MATCH(チームcsv貼り付け用!K$1,チームcsv変換!$1:$1,0),0)) | L13: =IF(ISERROR(VLOOKUP($A13,チームcsv変換!$A:$P,MATCH(チームcsv貼り付け用!L$1,チームcsv変換!$1:$1,0),0)),"",VLOOKUP($A13,チームcsv変換!$A:$P,MATCH(チームcsv貼り付け用!L$1,チームcsv変換!$1:$1,0),0)) | M13: =IF(ISERROR(VLOOKUP($A13,チームcsv変換!$A:$P,MATCH(チームcsv貼り付け用!M$1,チームcsv変換!$1:$1,0),0)),"",VLOOKUP($A13,チームcsv変換!$A:$P,MATCH(チームcsv貼り付け用!M$1,チームcsv変換!$1:$1,0),0)) | N13: =IF(ISERROR(VLOOKUP($A13,チームcsv変換!$A:$P,MATCH(チームcsv貼り付け用!N$1,チームcsv変換!$1:$1,0),0)),"",VLOOKUP($A13,チームcsv変換!$A:$P,MATCH(チームcsv貼り付け用!N$1,チームcsv変換!$1:$1,0),0)) | O13: =IF(ISERROR(VLOOKUP($A13,チームcsv変換!$A:$P,MATCH(チームcsv貼り付け用!O$1,チームcsv変換!$1:$1,0),0)),"",VLOOKUP($A13,チームcsv変換!$A:$P,MATCH(チームcsv貼り付け用!O$1,チームcsv変換!$1:$1,0),0)) | P13: =IF(ISERROR(VLOOKUP($A13,チームcsv変換!$A:$P,MATCH(チームcsv貼り付け用!P$1,チームcsv変換!$1:$1,0),0)),"",VLOOKUP($A13,チームcsv変換!$A:$P,MATCH(チームcsv貼り付け用!P$1,チームcsv変換!$1:$1,0),0))
... A37: =IF(B36="","",A36+1) | B37: =IF(ISERROR(VLOOKUP($A37,チームcsv変換!$A:$P,MATCH(チームcsv貼り付け用!B$1,チームcsv変換!$1:$1,0),0)),"",VLOOKUP($A37,チームcsv変換!$A:$P,MATCH(チームcsv貼り付け用!B$1,チームcsv変換!$1:$1,0),0)) | C37: =IF(ISERROR(VLOOKUP($A37,チームcsv変換!$A:$P,MATCH(チームcsv貼り付け用!C$1,チームcsv変換!$1:$1,0),0)),"",VLOOKUP($A37,チームcsv変換!$A:$P,MATCH(チームcsv貼り付け用!C$1,チームcsv変換!$1:$1,0),0)) | D37: =IF(ISERROR(VLOOKUP($A37,チームcsv変換!$A:$P,MATCH(チームcsv貼り付け用!D$1,チームcsv変換!$1:$1,0),0)),"",VLOOKUP($A37,チームcsv変換!$A:$P,MATCH(チームcsv貼り付け用!D$1,チームcsv変換!$1:$1,0),0)) | F37: =IF(ISERROR(VLOOKUP($A37,チームcsv変換!$A:$P,MATCH(チームcsv貼り付け用!F$1,チームcsv変換!$1:$1,0),0)),"",VLOOKUP($A37,チームcsv変換!$A:$P,MATCH(チームcsv貼り付け用!F$1,チームcsv変換!$1:$1,0),0)) | I37: =IF(ISERROR(VLOOKUP($A37,チームcsv変換!$A:$P,MATCH(チームcsv貼り付け用!I$1,チームcsv変換!$1:$1,0),0)),"",VLOOKUP($A37,チームcsv変換!$A:$P,MATCH(チームcsv貼り付け用!I$1,チームcsv変換!$1:$1,0),0)) | J37: =IF(ISERROR(VLOOKUP($A37,チームcsv変換!$A:$P,MATCH(チームcsv貼り付け用!J$1,チームcsv変換!$1:$1,0),0)),"",VLOOKUP($A37,チームcsv変換!$A:$P,MATCH(チームcsv貼り付け用!J$1,チームcsv変換!$1:$1,0),0)) | K37: =IF(ISERROR(VLOOKUP($A37,チームcsv変換!$A:$P,MATCH(チームcsv貼り付け用!K$1,チームcsv変換!$1:$1,0),0)),"",VLOOKUP($A37,チームcsv変換!$A:$P,MATCH(チームcsv貼り付け用!K$1,チームcsv変換!$1:$1,0),0)) | L37: =IF(ISERROR(VLOOKUP($A37,チームcsv変換!$A:$P,MATCH(チームcsv貼り付け用!L$1,チームcsv変換!$1:$1,0),0)),"",VLOOKUP($A37,チームcsv変換!$A:$P,MATCH(チームcsv貼り付け用!L$1,チームcsv変換!$1:$1,0),0)) | M37: =IF(ISERROR(VLOOKUP($A37,チームcsv変換!$A:$P,MATCH(チームcsv貼り付け用!M$1,チームcsv変換!$1:$1,0),0)),"",VLOOKUP($A37,チームcsv変換!$A:$P,MATCH(チームcsv貼り付け用!M$1,チームcsv変換!$1:$1,0),0)) | N37: =IF(ISERROR(VLOOKUP($A37,チームcsv変換!$A:$P,MATCH(チームcsv貼り付け用!N$1,チームcsv変換!$1:$1,0),0)),"",VLOOKUP($A37,チームcsv変換!$A:$P,MATCH(チームcsv貼り付け用!N$1,チームcsv変換!$1:$1,0),0)) | O37: =IF(ISERROR(VLOOKUP($A37,チームcsv変換!$A:$P,MATCH(チームcsv貼り付け用!O$1,チームcsv変換!$1:$1,0),0)),"",VLOOKUP($A37,チームcsv変換!$A:$P,MATCH(チームcsv貼り付け用!O$1,チームcsv変換!$1:$1,0),0)) | P37: =IF(ISERROR(VLOOKUP($A37,チームcsv変換!$A:$P,MATCH(チームcsv貼り付け用!P$1,チームcsv変換!$1:$1,0),0)),"",VLOOKUP($A37,チームcsv変換!$A:$P,MATCH(チームcsv貼り付け用!P$1,チームcsv変換!$1:$1,0),0))

Sheet 競技者csv変換
A1: 0 | B1: 競技者NO | C1: 所属コード1 | D1: 所属コード2 | E1: ナンバー | F1: ナンバー2 | G1: 競技者名 | H1: 競技者名カナ | I1: 競技者名略称 | J1: 競技者名英字 | K1: 国籍 | L1: 性別 | M1: 学年 | N1: 生年 | O1: 月日 | P1: 個人所属地名 | Q1: 陸連コード | R1: 参加競技-競技コード1 | S1: 参加競技-自己記録1 | T1: 参加競技-オープン参加FLG1 | U1: 参加競技-記録FLG1 | V1: 参加競技-競技コード2 | W1: 参加競技-自己記録2 | X1: 参加競技-オープン参加FLG2 | Y1: 参加競技-記録FLG2 | Z1: 参加競技-競技コード3 | AA1: 参加競技-自己記録3 | AB1: 参加競技-オープン参加FLG3 | AC1: 参加競技-記録FLG3 | AD1: 参加競技-競技コード4 | AE1: 参加競技-自己記録4 | AF1: 参加競技-オープン参加FLG4 | AG1: 参加競技-記録FLG4 | AH1: 参加競技-競技コード5 | AI1: 参加競技-自己記録5 | AJ1: 参加競技-オープン参加FLG5 | AK1: 参加競技-記録FLG5
A2: =IF(B2="",A1,A1+1) -> 0 | B2: =IF(中学一覧表!D3="","",IF(中学一覧表!C3="男",10000+中学一覧表!D3,20000+中学一覧表!D3)) | C2: =IF(中学一覧表!D3="","",VLOOKUP(VLOOKUP(中学一覧表!D3,INDIRECT("中学"&中学一覧表!C3&"選手データ!A:O"),MATCH("所属",INDIRECT("中学"&中学一覧表!C3&"選手データ!1:1"),0),0)&"中",所属csv!$A:$H,MATCH("所属コード",所属csv!$1:$1,0),0)) | F2: =IF(中学一覧表!D3="","",中学一覧表!D3) | G2: =IF(中学一覧表!E3="","",中学一覧表!E3) | H2: =IF(中学一覧表!D3="","",VLOOKUP(中学一覧表!D3,INDIRECT("中学"&中学一覧表!C3&"選手データ!A:O"),MATCH("ﾌﾘｶﾞﾅ(姓)",INDIRECT("中学"&中学一覧表!C3&"選手データ!1:1"),0),0)&" "&VLOOKUP(中学一覧表!D3,INDIRECT("中学"&中学一覧表!C3&"選手データ!A:O"),MATCH("ﾌﾘｶﾞﾅ(名)",INDIRECT("中学"&中学一覧表!C3&"選手データ!1:1"),0),0)) | I2: =IF(中学一覧表!E3="","",中学一覧表!E3) | J2: =IF(中学一覧表!D3="","",VLOOKUP(中学一覧表!D3,INDIRECT("中学"&中学一覧表!C3&"選手データ!A:O"),MATCH("FAMILY NAME",INDIRECT("中学"&中学一覧表!C3&"選手データ!1:1"),0),0)&" "&VLOOKUP(中学一覧表!D3,INDIRECT("中学"&中学一覧表!C3&"選手データ!A:O"),MATCH("Firstname",INDIRECT("中学"&中学一覧表!C3&"選手データ!1:1"),0),0)) | K2: =IF(中学一覧表!D3="","","JPN") | L2: =IF(中学一覧表!D3="","",IF(中学一覧表!C3="男",1,2)) | M2: =IF(中学一覧表!D3="","",中学一覧表!F3) | N2: =IF(中学一覧表!D3="","",LEFT(VLOOKUP(中学一覧表!D3,INDIRECT("中学"&中学一覧表!C3&"選手データ!A:O"),MATCH("Birthday",INDIRECT("中学"&中学一覧表!C3&"選手データ!1:1"),0),0),4)) | O2: =IF(中学一覧表!D3="","","0") | P2: =IF(中学一覧表!D3="","","千葉") | R2: =IF(中学一覧表!G3="","",VLOOKUP(中学一覧表!G3,競技csv!$A:$O,MATCH("競技コード",競技csv!$1:$1,0),0)) | S2: {=IF(中学一覧表!J3="","",中学一覧表!J3&".")&_xlfn.IFS(中学一覧表!K3="","",OR(VLOOKUP(R2,競技csv!$B:$O,2,0)<=31,VLOOKUP(R2,競技csv!$B:$O,2,0)>=100),TEXT(中学一覧表!K3,"00")&".",TRUE,TEXT(中学一覧表!K3,"00")&"m")&IF(中学一覧表!L3="","",TEXT(中学一覧表!L3,"00"))} | T2: =IF(中学一覧表!G3="","","0") | U2: =IF(中学一覧表!G3="","","2") | V2: =IF(中学一覧表!M3="","",VLOOKUP(中学一覧表!M3,競技csv!$A:$O,MATCH("競技コード",競技csv!$1:$1,0),0)) | W2: {=IF(中学一覧表!P3="","",中学一覧表!P3&".")&_xlfn.IFS(中学一覧表!Q3="","",OR(VLOOKUP(V2,競技csv!$B:$O,2,0)<=31,VLOOKUP(V2,競技csv!$B:$O,2,0)>=100),TEXT(中学一覧表!Q3,"00")&".",TRUE,TEXT(中学一覧表!Q3,"00")&"m")&IF(中学一覧表!R3="","",TEXT(中学一覧表!R3,"00"))} | X2: =IF(中学一覧表!M3="","","0") | Y2: =IF(中学一覧表!M3="","","2") | Z2: =IF(中学一覧表!S3="","",VLOOKUP("中学"&中学一覧表!C3&"子4X100mR",競技csv!A:O,MATCH("競技コード",競技csv!$1:$1,0),0)) | AA2: =IF(中学一覧表!T3="","",中学一覧表!T3&".")&IF(中学一覧表!U3="","",TEXT(中学一覧表!U3,"00")&".")&IF(中学一覧表!V3="","",TEXT(中学一覧表!V3,"00")) | AB2: =IF(中学一覧表!S3="","","0") | AC2: =IF(中学一覧表!S3="","","2")
A3: =IF(B3="",A2,A2+1) -> 0 | B3: =IF(中学一覧表!D4="","",IF(中学一覧表!C4="男",10000+中学一覧表!D4,20000+中学一覧表!D4)) | C3: =IF(中学一覧表!D4="","",VLOOKUP(VLOOKUP(中学一覧表!D4,INDIRECT("中学"&中学一覧表!C4&"選手データ!A:O"),MATCH("所属",INDIRECT("中学"&中学一覧表!C4&"選手データ!1:1"),0),0)&"中",所属csv!$A:$H,MATCH("所属コード",所属csv!$1:$1,0),0)) | F3: =IF(中学一覧表!D4="","",中学一覧表!D4) | G3: =IF(中学一覧表!E4="","",中学一覧表!E4) | H3: =IF(中学一覧表!D4="","",VLOOKUP(中学一覧表!D4,INDIRECT("中学"&中学一覧表!C4&"選手データ!A:O"),MATCH("ﾌﾘｶﾞﾅ(姓)",INDIRECT("中学"&中学一覧表!C4&"選手データ!1:1"),0),0)&" "&VLOOKUP(中学一覧表!D4,INDIRECT("中学"&中学一覧表!C4&"選手データ!A:O"),MATCH("ﾌﾘｶﾞﾅ(名)",INDIRECT("中学"&中学一覧表!C4&"選手データ!1:1"),0),0)) | I3: =IF(中学一覧表!E4="","",中学一覧表!E4) | J3: =IF(中学一覧表!D4="","",VLOOKUP(中学一覧表!D4,INDIRECT("中学"&中学一覧表!C4&"選手データ!A:O"),MATCH("FAMILY NAME",INDIRECT("中学"&中学一覧表!C4&"選手データ!1:1"),0),0)&" "&VLOOKUP(中学一覧表!D4,INDIRECT("中学"&中学一覧表!C4&"選手データ!A:O"),MATCH("Firstname",INDIRECT("中学"&中学一覧表!C4&"選手データ!1:1"),0),0)) | K3: =IF(中学一覧表!D4="","","JPN") | L3: =IF(中学一覧表!D4="","",IF(中学一覧表!C4="男",1,2)) | M3: =IF(中学一覧表!D4="","",中学一覧表!F4) | N3: =IF(中学一覧表!D4="","",LEFT(VLOOKUP(中学一覧表!D4,INDIRECT("中学"&中学一覧表!C4&"選手データ!A:O"),MATCH("Birthday",INDIRECT("中学"&中学一覧表!C4&"選手データ!1:1"),0),0),4)) | O3: =IF(中学一覧表!D4="","","0") | P3: =IF(中学一覧表!D4="","","千葉") | R3: =IF(中学一覧表!G4="","",VLOOKUP(中学一覧表!G4,競技csv!$A:$O,MATCH("競技コード",競技csv!$1:$1,0),0)) | S3: {=IF(中学一覧表!J4="","",中学一覧表!J4&".")&_xlfn.IFS(中学一覧表!K4="","",OR(VLOOKUP(R3,競技csv!$B:$O,2,0)<=31,VLOOKUP(R3,競技csv!$B:$O,2,0)>=100),TEXT(中学一覧表!K4,"00")&".",TRUE,TEXT(中学一覧表!K4,"00")&"m")&IF(中学一覧表!L4="","",TEXT(中学一覧表!L4,"00"))} | T3: =IF(中学一覧表!G4="","","0") | U3: =IF(中学一覧表!G4="","","2") | V3: =IF(中学一覧表!M4="","",VLOOKUP(中学一覧表!M4,競技csv!$A:$O,MATCH("競技コード",競技csv!$1:$1,0),0)) | W3: {=IF(中学一覧表!P4="","",中学一覧表!P4&".")&_xlfn.IFS(中学一覧表!Q4="","",OR(VLOOKUP(V3,競技csv!$B:$O,2,0)<=31,VLOOKUP(V3,競技csv!$B:$O,2,0)>=100),TEXT(中学一覧表!Q4,"00")&".",TRUE,TEXT(中学一覧表!Q4,"00")&"m")&IF(中学一覧表!R4="","",TEXT(中学一覧表!R4,"00"))} | X3: =IF(中学一覧表!M4="","","0") | Y3: =IF(中学一覧表!M4="","","2") | Z3: =IF(中学一覧表!S4="","",VLOOKUP("中学"&中学一覧表!C4&"子4X100mR",競技csv!A:O,MATCH("競技コード",競技csv!$1:$1,0),0)) | AA3: =IF(中学一覧表!T4="","",中学一覧表!T4&".")&IF(中学一覧表!U4="","",TEXT(中学一覧表!U4,"00")&".")&IF(中学一覧表!V4="","",TEXT(中学一覧表!V4,"00")) | AB3: =IF(中学一覧表!S4="","","0") | AC3: =IF(中学一覧表!S4="","","2")
A4: =IF(B4="",A3,A3+1) -> 0 | B4: =IF(中学一覧表!D5="","",IF(中学一覧表!C5="男",10000+中学一覧表!D5,20000+中学一覧表!D5)) | C4: =IF(中学一覧表!D5="","",VLOOKUP(VLOOKUP(中学一覧表!D5,INDIRECT("中学"&中学一覧表!C5&"選手データ!A:O"),MATCH("所属",INDIRECT("中学"&中学一覧表!C5&"選手データ!1:1"),0),0)&"中",所属csv!$A:$H,MATCH("所属コード",所属csv!$1:$1,0),0)) | F4: =IF(中学一覧表!D5="","",中学一覧表!D5) | G4: =IF(中学一覧表!E5="","",中学一覧表!E5) | H4: =IF(中学一覧表!D5="","",VLOOKUP(中学一覧表!D5,INDIRECT("中学"&中学一覧表!C5&"選手データ!A:O"),MATCH("ﾌﾘｶﾞﾅ(姓)",INDIRECT("中学"&中学一覧表!C5&"選手データ!1:1"),0),0)&" "&VLOOKUP(中学一覧表!D5,INDIRECT("中学"&中学一覧表!C5&"選手データ!A:O"),MATCH("ﾌﾘｶﾞﾅ(名)",INDIRECT("中学"&中学一覧表!C5&"選手データ!1:1"),0),0)) | I4: =IF(中学一覧表!E5="","",中学一覧表!E5) | J4: =IF(中学一覧表!D5="","",VLOOKUP(中学一覧表!D5,INDIRECT("中学"&中学一覧表!C5&"選手データ!A:O"),MATCH("FAMILY NAME",INDIRECT("中学"&中学一覧表!C5&"選手データ!1:1"),0),0)&" "&VLOOKUP(中学一覧表!D5,INDIRECT("中学"&中学一覧表!C5&"選手データ!A:O"),MATCH("Firstname",INDIRECT("中学"&中学一覧表!C5&"選手データ!1:1"),0),0)) | K4: =IF(中学一覧表!D5="","","JPN") | L4: =IF(中学一覧表!D5="","",IF(中学一覧表!C5="男",1,2)) | M4: =IF(中学一覧表!D5="","",中学一覧表!F5) | N4: =IF(中学一覧表!D5="","",LEFT(VLOOKUP(中学一覧表!D5,INDIRECT("中学"&中学一覧表!C5&"選手データ!A:O"),MATCH("Birthday",INDIRECT("中学"&中学一覧表!C5&"選手データ!1:1"),0),0),4)) | O4: =IF(中学一覧表!D5="","","0") | P4: =IF(中学一覧表!D5="","","千葉") | R4: =IF(中学一覧表!G5="","",VLOOKUP(中学一覧表!G5,競技csv!$A:$O,MATCH("競技コード",競技csv!$1:$1,0),0)) | S4: {=IF(中学一覧表!J5="","",中学一覧表!J5&".")&_xlfn.IFS(中学一覧表!K5="","",OR(VLOOKUP(R4,競技csv!$B:$O,2,0)<=31,VLOOKUP(R4,競技csv!$B:$O,2,0)>=100),TEXT(中学一覧表!K5,"00")&".",TRUE,TEXT(中学一覧表!K5,"00")&"m")&IF(中学一覧表!L5="","",TEXT(中学一覧表!L5,"00"))} | T4: =IF(中学一覧表!G5="","","0") | U4: =IF(中学一覧表!G5="","","2") | V4: =IF(中学一覧表!M5="","",VLOOKUP(中学一覧表!M5,競技csv!$A:$O,MATCH("競技コード",競技csv!$1:$1,0),0)) | W4: {=IF(中学一覧表!P5="","",中学一覧表!P5&".")&_xlfn.IFS(中学一覧表!Q5="","",OR(VLOOKUP(V4,競技csv!$B:$O,2,0)<=31,VLOOKUP(V4,競技csv!$B:$O,2,0)>=100),TEXT(中学一覧表!Q5,"00")&".",TRUE,TEXT(中学一覧表!Q5,"00")&"m")&IF(中学一覧表!R5="","",TEXT(中学一覧表!R5,"00"))} | X4: =IF(中学一覧表!M5="","","0") | Y4: =IF(中学一覧表!M5="","","2") | Z4: =IF(中学一覧表!S5="","",VLOOKUP("中学"&中学一覧表!C5&"子4X100mR",競技csv!A:O,MATCH("競技コード",競技csv!$1:$1,0),0)) | AA4: =IF(中学一覧表!T5="","",中学一覧表!T5&".")&IF(中学一覧表!U5="","",TEXT(中学一覧表!U5,"00")&".")&IF(中学一覧表!V5="","",TEXT(中学一覧表!V5,"00")) | AB4: =IF(中学一覧表!S5="","","0") | AC4: =IF(中学一覧表!S5="","","2")
A5: =IF(B5="",A4,A4+1) -> 0 | B5: =IF(中学一覧表!D6="","",IF(中学一覧表!C6="男",10000+中学一覧表!D6,20000+中学一覧表!D6)) | C5: =IF(中学一覧表!D6="","",VLOOKUP(VLOOKUP(中学一覧表!D6,INDIRECT("中学"&中学一覧表!C6&"選手データ!A:O"),MATCH("所属",INDIRECT("中学"&中学一覧表!C6&"選手データ!1:1"),0),0)&"中",所属csv!$A:$H,MATCH("所属コード",所属csv!$1:$1,0),0)) | F5: =IF(中学一覧表!D6="","",中学一覧表!D6) | G5: =IF(中学一覧表!E6="","",中学一覧表!E6) | H5: =IF(中学一覧表!D6="","",VLOOKUP(中学一覧表!D6,INDIRECT("中学"&中学一覧表!C6&"選手データ!A:O"),MATCH("ﾌﾘｶﾞﾅ(姓)",INDIRECT("中学"&中学一覧表!C6&"選手データ!1:1"),0),0)&" "&VLOOKUP(中学一覧表!D6,INDIRECT("中学"&中学一覧表!C6&"選手データ!A:O"),MATCH("ﾌﾘｶﾞﾅ(名)",INDIRECT("中学"&中学一覧表!C6&"選手データ!1:1"),0),0)) | I5: =IF(中学一覧表!E6="","",中学一覧表!E6) | J5: =IF(中学一覧表!D6="","",VLOOKUP(中学一覧表!D6,INDIRECT("中学"&中学一覧表!C6&"選手データ!A:O"),MATCH("FAMILY NAME",INDIRECT("中学"&中学一覧表!C6&"選手データ!1:1"),0),0)&" "&VLOOKUP(中学一覧表!D6,INDIRECT("中学"&中学一覧表!C6&"選手データ!A:O"),MATCH("Firstname",INDIRECT("中学"&中学一覧表!C6&"選手データ!1:1"),0),0)) | K5: =IF(中学一覧表!D6="","","JPN") | L5: =IF(中学一覧表!D6="","",IF(中学一覧表!C6="男",1,2)) | M5: =IF(中学一覧表!D6="","",中学一覧表!F6) | N5: =IF(中学一覧表!D6="","",LEFT(VLOOKUP(中学一覧表!D6,INDIRECT("中学"&中学一覧表!C6&"選手データ!A:O"),MATCH("Birthday",INDIRECT("中学"&中学一覧表!C6&"選手データ!1:1"),0),0),4)) | O5: =IF(中学一覧表!D6="","","0") | P5: =IF(中学一覧表!D6="","","千葉") | R5: =IF(中学一覧表!G6="","",VLOOKUP(中学一覧表!G6,競技csv!$A:$O,MATCH("競技コード",競技csv!$1:$1,0),0)) | S5: {=IF(中学一覧表!J6="","",中学一覧表!J6&".")&_xlfn.IFS(中学一覧表!K6="","",OR(VLOOKUP(R5,競技csv!$B:$O,2,0)<=31,VLOOKUP(R5,競技csv!$B:$O,2,0)>=100),TEXT(中学一覧表!K6,"00")&".",TRUE,TEXT(中学一覧表!K6,"00")&"m")&IF(中学一覧表!L6="","",TEXT(中学一覧表!L6,"00"))} | T5: =IF(中学一覧表!G6="","","0") | U5: =IF(中学一覧表!G6="","","2") | V5: =IF(中学一覧表!M6="","",VLOOKUP(中学一覧表!M6,競技csv!$A:$O,MATCH("競技コード",競技csv!$1:$1,0),0)) | W5: {=IF(中学一覧表!P6="","",中学一覧表!P6&".")&_xlfn.IFS(中学一覧表!Q6="","",OR(VLOOKUP(V5,競技csv!$B:$O,2,0)<=31,VLOOKUP(V5,競技csv!$B:$O,2,0)>=100),TEXT(中学一覧表!Q6,"00")&".",TRUE,TEXT(中学一覧表!Q6,"00")&"m")&IF(中学一覧表!R6="","",TEXT(中学一覧表!R6,"00"))} | X5: =IF(中学一覧表!M6="","","0") | Y5: =IF(中学一覧表!M6="","","2") | Z5: =IF(中学一覧表!S6="","",VLOOKUP("中学"&中学一覧表!C6&"子4X100mR",競技csv!A:O,MATCH("競技コード",競技csv!$1:$1,0),0)) | AA5: =IF(中学一覧表!T6="","",中学一覧表!T6&".")&IF(中学一覧表!U6="","",TEXT(中学一覧表!U6,"00")&".")&IF(中学一覧表!V6="","",TEXT(中学一覧表!V6,"00")) | AB5: =IF(中学一覧表!S6="","","0") | AC5: =IF(中学一覧表!S6="","","2")
A6: =IF(B6="",A5,A5+1) -> 0 | B6: =IF(中学一覧表!D7="","",IF(中学一覧表!C7="男",10000+中学一覧表!D7,20000+中学一覧表!D7)) | C6: =IF(中学一覧表!D7="","",VLOOKUP(VLOOKUP(中学一覧表!D7,INDIRECT("中学"&中学一覧表!C7&"選手データ!A:O"),MATCH("所属",INDIRECT("中学"&中学一覧表!C7&"選手データ!1:1"),0),0)&"中",所属csv!$A:$H,MATCH("所属コード",所属csv!$1:$1,0),0)) | F6: =IF(中学一覧表!D7="","",中学一覧表!D7) | G6: =IF(中学一覧表!E7="","",中学一覧表!E7) | H6: =IF(中学一覧表!D7="","",VLOOKUP(中学一覧表!D7,INDIRECT("中学"&中学一覧表!C7&"選手データ!A:O"),MATCH("ﾌﾘｶﾞﾅ(姓)",INDIRECT("中学"&中学一覧表!C7&"選手データ!1:1"),0),0)&" "&VLOOKUP(中学一覧表!D7,INDIRECT("中学"&中学一覧表!C7&"選手データ!A:O"),MATCH("ﾌﾘｶﾞﾅ(名)",INDIRECT("中学"&中学一覧表!C7&"選手データ!1:1"),0),0)) | I6: =IF(中学一覧表!E7="","",中学一覧表!E7) | J6: =IF(中学一覧表!D7="","",VLOOKUP(中学一覧表!D7,INDIRECT("中学"&中学一覧表!C7&"選手データ!A:O"),MATCH("FAMILY NAME",INDIRECT("中学"&中学一覧表!C7&"選手データ!1:1"),0),0)&" "&VLOOKUP(中学一覧表!D7,INDIRECT("中学"&中学一覧表!C7&"選手データ!A:O"),MATCH("Firstname",INDIRECT("中学"&中学一覧表!C7&"選手データ!1:1"),0),0)) | K6: =IF(中学一覧表!D7="","","JPN") | L6: =IF(中学一覧表!D7="","",IF(中学一覧表!C7="男",1,2)) | M6: =IF(中学一覧表!D7="","",中学一覧表!F7) | N6: =IF(中学一覧表!D7="","",LEFT(VLOOKUP(中学一覧表!D7,INDIRECT("中学"&中学一覧表!C7&"選手データ!A:O"),MATCH("Birthday",INDIRECT("中学"&中学一覧表!C7&"選手データ!1:1"),0),0),4)) | O6: =IF(中学一覧表!D7="","","0") | P6: =IF(中学一覧表!D7="","","千葉") | R6: =IF(中学一覧表!G7="","",VLOOKUP(中学一覧表!G7,競技csv!$A:$O,MATCH("競技コード",競技csv!$1:$1,0),0)) | S6: {=IF(中学一覧表!J7="","",中学一覧表!J7&".")&_xlfn.IFS(中学一覧表!K7="","",OR(VLOOKUP(R6,競技csv!$B:$O,2,0)<=31,VLOOKUP(R6,競技csv!$B:$O,2,0)>=100),TEXT(中学一覧表!K7,"00")&".",TRUE,TEXT(中学一覧表!K7,"00")&"m")&IF(中学一覧表!L7="","",TEXT(中学一覧表!L7,"00"))} | T6: =IF(中学一覧表!G7="","","0") | U6: =IF(中学一覧表!G7="","","2") | V6: =IF(中学一覧表!M7="","",VLOOKUP(中学一覧表!M7,競技csv!$A:$O,MATCH("競技コード",競技csv!$1:$1,0),0)) | W6: {=IF(中学一覧表!P7="","",中学一覧表!P7&".")&_xlfn.IFS(中学一覧表!Q7="","",OR(VLOOKUP(V6,競技csv!$B:$O,2,0)<=31,VLOOKUP(V6,競技csv!$B:$O,2,0)>=100),TEXT(中学一覧表!Q7,"00")&".",TRUE,TEXT(中学一覧表!Q7,"00")&"m")&IF(中学一覧表!R7="","",TEXT(中学一覧表!R7,"00"))} | X6: =IF(中学一覧表!M7="","","0") | Y6: =IF(中学一覧表!M7="","","2") | Z6: =IF(中学一覧表!S7="","",VLOOKUP("中学"&中学一覧表!C7&"子4X100mR",競技csv!A:O,MATCH("競技コード",競技csv!$1:$1,0),0)) | AA6: =IF(中学一覧表!T7="","",中学一覧表!T7&".")&IF(中学一覧表!U7="","",TEXT(中学一覧表!U7,"00")&".")&IF(中学一覧表!V7="","",TEXT(中学一覧表!V7,"00")) | AB6: =IF(中学一覧表!S7="","","0") | AC6: =IF(中学一覧表!S7="","","2")
A7: =IF(B7="",A6,A6+1) -> 0 | B7: =IF(中学一覧表!D8="","",IF(中学一覧表!C8="男",10000+中学一覧表!D8,20000+中学一覧表!D8)) | C7: =IF(中学一覧表!D8="","",VLOOKUP(VLOOKUP(中学一覧表!D8,INDIRECT("中学"&中学一覧表!C8&"選手データ!A:O"),MATCH("所属",INDIRECT("中学"&中学一覧表!C8&"選手データ!1:1"),0),0)&"中",所属csv!$A:$H,MATCH("所属コード",所属csv!$1:$1,0),0)) | F7: =IF(中学一覧表!D8="","",中学一覧表!D8) | G7: =IF(中学一覧表!E8="","",中学一覧表!E8) | H7: =IF(中学一覧表!D8="","",VLOOKUP(中学一覧表!D8,INDIRECT("中学"&中学一覧表!C8&"選手データ!A:O"),MATCH("ﾌﾘｶﾞﾅ(姓)",INDIRECT("中学"&中学一覧表!C8&"選手データ!1:1"),0),0)&" "&VLOOKUP(中学一覧表!D8,INDIRECT("中学"&中学一覧表!C8&"選手データ!A:O"),MATCH("ﾌﾘｶﾞﾅ(名)",INDIRECT("中学"&中学一覧表!C8&"選手データ!1:1"),0),0)) | I7: =IF(中学一覧表!E8="","",中学一覧表!E8) | J7: =IF(中学一覧表!D8="","",VLOOKUP(中学一覧表!D8,INDIRECT("中学"&中学一覧表!C8&"選手データ!A:O"),MATCH("FAMILY NAME",INDIRECT("中学"&中学一覧表!C8&"選手データ!1:1"),0),0)&" "&VLOOKUP(中学一覧表!D8,INDIRECT("中学"&中学一覧表!C8&"選手データ!A:O"),MATCH("Firstname",INDIRECT("中学"&中学一覧表!C8&"選手データ!1:1"),0),0)) | K7: =IF(中学一覧表!D8="","","JPN") | L7: =IF(中学一覧表!D8="","",IF(中学一覧表!C8="男",1,2)) | M7: =IF(中学一覧表!D8="","",中学一覧表!F8) | N7: =IF(中学一覧表!D8="","",LEFT(VLOOKUP(中学一覧表!D8,INDIRECT("中学"&中学一覧表!C8&"選手データ!A:O"),MATCH("Birthday",INDIRECT("中学"&中学一覧表!C8&"選手データ!1:1"),0),0),4)) | O7: =IF(中学一覧表!D8="","","0") | P7: =IF(中学一覧表!D8="","","千葉") | R7: =IF(中学一覧表!G8="","",VLOOKUP(中学一覧表!G8,競技csv!$A:$O,MATCH("競技コード",競技csv!$1:$1,0),0)) | S7: {=IF(中学一覧表!J8="","",中学一覧表!J8&".")&_xlfn.IFS(中学一覧表!K8="","",OR(VLOOKUP(R7,競技csv!$B:$O,2,0)<=31,VLOOKUP(R7,競技csv!$B:$O,2,0)>=100),TEXT(中学一覧表!K8,"00")&".",TRUE,TEXT(中学一覧表!K8,"00")&"m")&IF(中学一覧表!L8="","",TEXT(中学一覧表!L8,"00"))} | T7: =IF(中学一覧表!G8="","","0") | U7: =IF(中学一覧表!G8="","","2") | V7: =IF(中学一覧表!M8="","",VLOOKUP(中学一覧表!M8,競技csv!$A:$O,MATCH("競技コード",競技csv!$1:$1,0),0)) | W7: {=IF(中学一覧表!P8="","",中学一覧表!P8&".")&_xlfn.IFS(中学一覧表!Q8="","",OR(VLOOKUP(V7,競技csv!$B:$O,2,0)<=31,VLOOKUP(V7,競技csv!$B:$O,2,0)>=100),TEXT(中学一覧表!Q8,"00")&".",TRUE,TEXT(中学一覧表!Q8,"00")&"m")&IF(中学一覧表!R8="","",TEXT(中学一覧表!R8,"00"))} | X7: =IF(中学一覧表!M8="","","0") | Y7: =IF(中学一覧表!M8="","","2") | Z7: =IF(中学一覧表!S8="","",VLOOKUP("中学"&中学一覧表!C8&"子4X100mR",競技csv!A:O,MATCH("競技コード",競技csv!$1:$1,0),0)) | AA7: =IF(中学一覧表!T8="","",中学一覧表!T8&".")&IF(中学一覧表!U8="","",TEXT(中学一覧表!U8,"00")&".")&IF(中学一覧表!V8="","",TEXT(中学一覧表!V8,"00")) | AB7: =IF(中学一覧表!S8="","","0") | AC7: =IF(中学一覧表!S8="","","2")
A8: =IF(B8="",A7,A7+1) -> 0 | B8: =IF(中学一覧表!D9="","",IF(中学一覧表!C9="男",10000+中学一覧表!D9,20000+中学一覧表!D9)) | C8: =IF(中学一覧表!D9="","",VLOOKUP(VLOOKUP(中学一覧表!D9,INDIRECT("中学"&中学一覧表!C9&"選手データ!A:O"),MATCH("所属",INDIRECT("中学"&中学一覧表!C9&"選手データ!1:1"),0),0)&"中",所属csv!$A:$H,MATCH("所属コード",所属csv!$1:$1,0),0)) | F8: =IF(中学一覧表!D9="","",中学一覧表!D9) | G8: =IF(中学一覧表!E9="","",中学一覧表!E9) | H8: =IF(中学一覧表!D9="","",VLOOKUP(中学一覧表!D9,INDIRECT("中学"&中学一覧表!C9&"選手データ!A:O"),MATCH("ﾌﾘｶﾞﾅ(姓)",INDIRECT("中学"&中学一覧表!C9&"選手データ!1:1"),0),0)&" "&VLOOKUP(中学一覧表!D9,INDIRECT("中学"&中学一覧表!C9&"選手データ!A:O"),MATCH("ﾌﾘｶﾞﾅ(名)",INDIRECT("中学"&中学一覧表!C9&"選手データ!1:1"),0),0)) | I8: =IF(中学一覧表!E9="","",中学一覧表!E9) | J8: =IF(中学一覧表!D9="","",VLOOKUP(中学一覧表!D9,INDIRECT("中学"&中学一覧表!C9&"選手データ!A:O"),MATCH("FAMILY NAME",INDIRECT("中学"&中学一覧表!C9&"選手データ!1:1"),0),0)&" "&VLOOKUP(中学一覧表!D9,INDIRECT("中学"&中学一覧表!C9&"選手データ!A:O"),MATCH("Firstname",INDIRECT("中学"&中学一覧表!C9&"選手データ!1:1"),0),0)) | K8: =IF(中学一覧表!D9="","","JPN") | L8: =IF(中学一覧表!D9="","",IF(中学一覧表!C9="男",1,2)) | M8: =IF(中学一覧表!D9="","",中学一覧表!F9) | N8: =IF(中学一覧表!D9="","",LEFT(VLOOKUP(中学一覧表!D9,INDIRECT("中学"&中学一覧表!C9&"選手データ!A:O"),MATCH("Birthday",INDIRECT("中学"&中学一覧表!C9&"選手データ!1:1"),0),0),4)) | O8: =IF(中学一覧表!D9="","","0") | P8: =IF(中学一覧表!D9="","","千葉") | R8: =IF(中学一覧表!G9="","",VLOOKUP(中学一覧表!G9,競技csv!$A:$O,MATCH("競技コード",競技csv!$1:$1,0),0)) | S8: {=IF(中学一覧表!J9="","",中学一覧表!J9&".")&_xlfn.IFS(中学一覧表!K9="","",OR(VLOOKUP(R8,競技csv!$B:$O,2,0)<=31,VLOOKUP(R8,競技csv!$B:$O,2,0)>=100),TEXT(中学一覧表!K9,"00")&".",TRUE,TEXT(中学一覧表!K9,"00")&"m")&IF(中学一覧表!L9="","",TEXT(中学一覧表!L9,"00"))} | T8: =IF(中学一覧表!G9="","","0") | U8: =IF(中学一覧表!G9="","","2") | V8: =IF(中学一覧表!M9="","",VLOOKUP(中学一覧表!M9,競技csv!$A:$O,MATCH("競技コード",競技csv!$1:$1,0),0)) | W8: {=IF(中学一覧表!P9="","",中学一覧表!P9&".")&_xlfn.IFS(中学一覧表!Q9="","",OR(VLOOKUP(V8,競技csv!$B:$O,2,0)<=31,VLOOKUP(V8,競技csv!$B:$O,2,0)>=100),TEXT(中学一覧表!Q9,"00")&".",TRUE,TEXT(中学一覧表!Q9,"00")&"m")&IF(中学一覧表!R9="","",TEXT(中学一覧表!R9,"00"))} | X8: =IF(中学一覧表!M9="","","0") | Y8: =IF(中学一覧表!M9="","","2") | Z8: =IF(中学一覧表!S9="","",VLOOKUP("中学"&中学一覧表!C9&"子4X100mR",競技csv!A:O,MATCH("競技コード",競技csv!$1:$1,0),0)) | AA8: =IF(中学一覧表!T9="","",中学一覧表!T9&".")&IF(中学一覧表!U9="","",TEXT(中学一覧表!U9,"00")&".")&IF(中学一覧表!V9="","",TEXT(中学一覧表!V9,"00")) | AB8: =IF(中学一覧表!S9="","","0") | AC8: =IF(中学一覧表!S9="","","2")
A9: =IF(B9="",A8,A8+1) -> 0 | B9: =IF(中学一覧表!D10="","",IF(中学一覧表!C10="男",10000+中学一覧表!D10,20000+中学一覧表!D10)) | C9: =IF(中学一覧表!D10="","",VLOOKUP(VLOOKUP(中学一覧表!D10,INDIRECT("中学"&中学一覧表!C10&"選手データ!A:O"),MATCH("所属",INDIRECT("中学"&中学一覧表!C10&"選手データ!1:1"),0),0)&"中",所属csv!$A:$H,MATCH("所属コード",所属csv!$1:$1,0),0)) | F9: =IF(中学一覧表!D10="","",中学一覧表!D10) | G9: =IF(中学一覧表!E10="","",中学一覧表!E10) | H9: =IF(中学一覧表!D10="","",VLOOKUP(中学一覧表!D10,INDIRECT("中学"&中学一覧表!C10&"選手データ!A:O"),MATCH("ﾌﾘｶﾞﾅ(姓)",INDIRECT("中学"&中学一覧表!C10&"選手データ!1:1"),0),0)&" "&VLOOKUP(中学一覧表!D10,INDIRECT("中学"&中学一覧表!C10&"選手データ!A:O"),MATCH("ﾌﾘｶﾞﾅ(名)",INDIRECT("中学"&中学一覧表!C10&"選手データ!1:1"),0),0)) | I9: =IF(中学一覧表!E10="","",中学一覧表!E10) | J9: =IF(中学一覧表!D10="","",VLOOKUP(中学一覧表!D10,INDIRECT("中学"&中学一覧表!C10&"選手データ!A:O"),MATCH("FAMILY NAME",INDIRECT("中学"&中学一覧表!C10&"選手データ!1:1"),0),0)&" "&VLOOKUP(中学一覧表!D10,INDIRECT("中学"&中学一覧表!C10&"選手データ!A:O"),MATCH("Firstname",INDIRECT("中学"&中学一覧表!C10&"選手データ!1:1"),0),0)) | K9: =IF(中学一覧表!D10="","","JPN") | L9: =IF(中学一覧表!D10="","",IF(中学一覧表!C10="男",1,2)) | M9: =IF(中学一覧表!D10="","",中学一覧表!F10) | N9: =IF(中学一覧表!D10="","",LEFT(VLOOKUP(中学一覧表!D10,INDIRECT("中学"&中学一覧表!C10&"選手データ!A:O"),MATCH("Birthday",INDIRECT("中学"&中学一覧表!C10&"選手データ!1:1"),0),0),4)) | O9: =IF(中学一覧表!D10="","","0") | P9: =IF(中学一覧表!D10="","","千葉") | R9: =IF(中学一覧表!G10="","",VLOOKUP(中学一覧表!G10,競技csv!$A:$O,MATCH("競技コード",競技csv!$1:$1,0),0)) | S9: {=IF(中学一覧表!J10="","",中学一覧表!J10&".")&_xlfn.IFS(中学一覧表!K10="","",OR(VLOOKUP(R9,競技csv!$B:$O,2,0)<=31,VLOOKUP(R9,競技csv!$B:$O,2,0)>=100),TEXT(中学一覧表!K10,"00")&".",TRUE,TEXT(中学一覧表!K10,"00")&"m")&IF(中学一覧表!L10="","",TEXT(中学一覧表!L10,"00"))} | T9: =IF(中学一覧表!G10="","","0") | U9: =IF(中学一覧表!G10="","","2") | V9: =IF(中学一覧表!M10="","",VLOOKUP(中学一覧表!M10,競技csv!$A:$O,MATCH("競技コード",競技csv!$1:$1,0),0)) | W9: {=IF(中学一覧表!P10="","",中学一覧表!P10&".")&_xlfn.IFS(中学一覧表!Q10="","",OR(VLOOKUP(V9,競技csv!$B:$O,2,0)<=31,VLOOKUP(V9,競技csv!$B:$O,2,0)>=100),TEXT(中学一覧表!Q10,"00")&".",TRUE,TEXT(中学一覧表!Q10,"00")&"m")&IF(中学一覧表!R10="","",TEXT(中学一覧表!R10,"00"))} | X9: =IF(中学一覧表!M10="","","0") | Y9: =IF(中学一覧表!M10="","","2") | Z9: =IF(中学一覧表!S10="","",VLOOKUP("中学"&中学一覧表!C10&"子4X100mR",競技csv!A:O,MATCH("競技コード",競技csv!$1:$1,0),0)) | AA9: =IF(中学一覧表!T10="","",中学一覧表!T10&".")&IF(中学一覧表!U10="","",TEXT(中学一覧表!U10,"00")&".")&IF(中学一覧表!V10="","",TEXT(中学一覧表!V10,"00")) | AB9: =IF(中学一覧表!S10="","","0") | AC9: =IF(中学一覧表!S10="","","2")
A10: =IF(B10="",A9,A9+1) -> 0 | B10: =IF(中学一覧表!D11="","",IF(中学一覧表!C11="男",10000+中学一覧表!D11,20000+中学一覧表!D11)) | C10: =IF(中学一覧表!D11="","",VLOOKUP(VLOOKUP(中学一覧表!D11,INDIRECT("中学"&中学一覧表!C11&"選手データ!A:O"),MATCH("所属",INDIRECT("中学"&中学一覧表!C11&"選手データ!1:1"),0),0)&"中",所属csv!$A:$H,MATCH("所属コード",所属csv!$1:$1,0),0)) | F10: =IF(中学一覧表!D11="","",中学一覧表!D11) | G10: =IF(中学一覧表!E11="","",中学一覧表!E11) | H10: =IF(中学一覧表!D11="","",VLOOKUP(中学一覧表!D11,INDIRECT("中学"&中学一覧表!C11&"選手データ!A:O"),MATCH("ﾌﾘｶﾞﾅ(姓)",INDIRECT("中学"&中学一覧表!C11&"選手データ!1:1"),0),0)&" "&VLOOKUP(中学一覧表!D11,INDIRECT("中学"&中学一覧表!C11&"選手データ!A:O"),MATCH("ﾌﾘｶﾞﾅ(名)",INDIRECT("中学"&中学一覧表!C11&"選手データ!1:1"),0),0)) | I10: =IF(中学一覧表!E11="","",中学一覧表!E11) | J10: =IF(中学一覧表!D11="","",VLOOKUP(中学一覧表!D11,INDIRECT("中学"&中学一覧表!C11&"選手データ!A:O"),MATCH("FAMILY NAME",INDIRECT("中学"&中学一覧表!C11&"選手データ!1:1"),0),0)&" "&VLOOKUP(中学一覧表!D11,INDIRECT("中学"&中学一覧表!C11&"選手データ!A:O"),MATCH("Firstname",INDIRECT("中学"&中学一覧表!C11&"選手データ!1:1"),0),0)) | K10: =IF(中学一覧表!D11="","","JPN") | L10: =IF(中学一覧表!D11="","",IF(中学一覧表!C11="男",1,2)) | M10: =IF(中学一覧表!D11="","",中学一覧表!F11) | N10: =IF(中学一覧表!D11="","",LEFT(VLOOKUP(中学一覧表!D11,INDIRECT("中学"&中学一覧表!C11&"選手データ!A:O"),MATCH("Birthday",INDIRECT("中学"&中学一覧表!C11&"選手データ!1:1"),0),0),4)) | O10: =IF(中学一覧表!D11="","","0") | P10: =IF(中学一覧表!D11="","","千葉") | R10: =IF(中学一覧表!G11="","",VLOOKUP(中学一覧表!G11,競技csv!$A:$O,MATCH("競技コード",競技csv!$1:$1,0),0)) | S10: {=IF(中学一覧表!J11="","",中学一覧表!J11&".")&_xlfn.IFS(中学一覧表!K11="","",OR(VLOOKUP(R10,競技csv!$B:$O,2,0)<=31,VLOOKUP(R10,競技csv!$B:$O,2,0)>=100),TEXT(中学一覧表!K11,"00")&".",TRUE,TEXT(中学一覧表!K11,"00")&"m")&IF(中学一覧表!L11="","",TEXT(中学一覧表!L11,"00"))} | T10: =IF(中学一覧表!G11="","","0") | U10: =IF(中学一覧表!G11="","","2") | V10: =IF(中学一覧表!M11="","",VLOOKUP(中学一覧表!M11,競技csv!$A:$O,MATCH("競技コード",競技csv!$1:$1,0),0)) | W10: {=IF(中学一覧表!P11="","",中学一覧表!P11&".")&_xlfn.IFS(中学一覧表!Q11="","",OR(VLOOKUP(V10,競技csv!$B:$O,2,0)<=31,VLOOKUP(V10,競技csv!$B:$O,2,0)>=100),TEXT(中学一覧表!Q11,"00")&".",TRUE,TEXT(中学一覧表!Q11,"00")&"m")&IF(中学一覧表!R11="","",TEXT(中学一覧表!R11,"00"))} | X10: =IF(中学一覧表!M11="","","0") | Y10: =IF(中学一覧表!M11="","","2") | Z10: =IF(中学一覧表!S11="","",VLOOKUP("中学"&中学一覧表!C11&"子4X100mR",競技csv!A:O,MATCH("競技コード",競技csv!$1:$1,0),0)) | AA10: =IF(中学一覧表!T11="","",中学一覧表!T11&".")&IF(中学一覧表!U11="","",TEXT(中学一覧表!U11,"00")&".")&IF(中学一覧表!V11="","",TEXT(中学一覧表!V11,"00")) | AB10: =IF(中学一覧表!S11="","","0") | AC10: =IF(中学一覧表!S11="","","2")
A11: =IF(B11="",A10,A10+1) -> 0 | B11: =IF(中学一覧表!D12="","",IF(中学一覧表!C12="男",10000+中学一覧表!D12,20000+中学一覧表!D12)) | C11: =IF(中学一覧表!D12="","",VLOOKUP(VLOOKUP(中学一覧表!D12,INDIRECT("中学"&中学一覧表!C12&"選手データ!A:O"),MATCH("所属",INDIRECT("中学"&中学一覧表!C12&"選手データ!1:1"),0),0)&"中",所属csv!$A:$H,MATCH("所属コード",所属csv!$1:$1,0),0)) | F11: =IF(中学一覧表!D12="","",中学一覧表!D12) | G11: =IF(中学一覧表!E12="","",中学一覧表!E12) | H11: =IF(中学一覧表!D12="","",VLOOKUP(中学一覧表!D12,INDIRECT("中学"&中学一覧表!C12&"選手データ!A:O"),MATCH("ﾌﾘｶﾞﾅ(姓)",INDIRECT("中学"&中学一覧表!C12&"選手データ!1:1"),0),0)&" "&VLOOKUP(中学一覧表!D12,INDIRECT("中学"&中学一覧表!C12&"選手データ!A:O"),MATCH("ﾌﾘｶﾞﾅ(名)",INDIRECT("中学"&中学一覧表!C12&"選手データ!1:1"),0),0)) | I11: =IF(中学一覧表!E12="","",中学一覧表!E12) | J11: =IF(中学一覧表!D12="","",VLOOKUP(中学一覧表!D12,INDIRECT("中学"&中学一覧表!C12&"選手データ!A:O"),MATCH("FAMILY NAME",INDIRECT("中学"&中学一覧表!C12&"選手データ!1:1"),0),0)&" "&VLOOKUP(中学一覧表!D12,INDIRECT("中学"&中学一覧表!C12&"選手データ!A:O"),MATCH("Firstname",INDIRECT("中学"&中学一覧表!C12&"選手データ!1:1"),0),0)) | K11: =IF(中学一覧表!D12="","","JPN") | L11: =IF(中学一覧表!D12="","",IF(中学一覧表!C12="男",1,2)) | M11: =IF(中学一覧表!D12="","",中学一覧表!F12) | N11: =IF(中学一覧表!D12="","",LEFT(VLOOKUP(中学一覧表!D12,INDIRECT("中学"&中学一覧表!C12&"選手データ!A:O"),MATCH("Birthday",INDIRECT("中学"&中学一覧表!C12&"選手データ!1:1"),0),0),4)) | O11: =IF(中学一覧表!D12="","","0") | P11: =IF(中学一覧表!D12="","","千葉") | R11: =IF(中学一覧表!G12="","",VLOOKUP(中学一覧表!G12,競技csv!$A:$O,MATCH("競技コード",競技csv!$1:$1,0),0)) | S11: {=IF(中学一覧表!J12="","",中学一覧表!J12&".")&_xlfn.IFS(中学一覧表!K12="","",OR(VLOOKUP(R11,競技csv!$B:$O,2,0)<=31,VLOOKUP(R11,競技csv!$B:$O,2,0)>=100),TEXT(中学一覧表!K12,"00")&".",TRUE,TEXT(中学一覧表!K12,"00")&"m")&IF(中学一覧表!L12="","",TEXT(中学一覧表!L12,"00"))} | T11: =IF(中学一覧表!G12="","","0") | U11: =IF(中学一覧表!G12="","","2") | V11: =IF(中学一覧表!M12="","",VLOOKUP(中学一覧表!M12,競技csv!$A:$O,MATCH("競技コード",競技csv!$1:$1,0),0)) | W11: {=IF(中学一覧表!P12="","",中学一覧表!P12&".")&_xlfn.IFS(中学一覧表!Q12="","",OR(VLOOKUP(V11,競技csv!$B:$O,2,0)<=31,VLOOKUP(V11,競技csv!$B:$O,2,0)>=100),TEXT(中学一覧表!Q12,"00")&".",TRUE,TEXT(中学一覧表!Q12,"00")&"m")&IF(中学一覧表!R12="","",TEXT(中学一覧表!R12,"00"))} | X11: =IF(中学一覧表!M12="","","0") | Y11: =IF(中学一覧表!M12="","","2") | Z11: =IF(中学一覧表!S12="","",VLOOKUP("中学"&中学一覧表!C12&"子4X100mR",競技csv!A:O,MATCH("競技コード",競技csv!$1:$1,0),0)) | AA11: =IF(中学一覧表!T12="","",中学一覧表!T12&".")&IF(中学一覧表!U12="","",TEXT(中学一覧表!U12,"00")&".")&IF(中学一覧表!V12="","",TEXT(中学一覧表!V12,"00")) | AB11: =IF(中学一覧表!S12="","","0") | AC11: =IF(中学一覧表!S12="","","2")
A12: =IF(B12="",A11,A11+1) -> 0 | B12: =IF(中学一覧表!D13="","",IF(中学一覧表!C13="男",10000+中学一覧表!D13,20000+中学一覧表!D13)) | C12: =IF(中学一覧表!D13="","",VLOOKUP(VLOOKUP(中学一覧表!D13,INDIRECT("中学"&中学一覧表!C13&"選手データ!A:O"),MATCH("所属",INDIRECT("中学"&中学一覧表!C13&"選手データ!1:1"),0),0)&"中",所属csv!$A:$H,MATCH("所属コード",所属csv!$1:$1,0),0)) | F12: =IF(中学一覧表!D13="","",中学一覧表!D13) | G12: =IF(中学一覧表!E13="","",中学一覧表!E13) | H12: =IF(中学一覧表!D13="","",VLOOKUP(中学一覧表!D13,INDIRECT("中学"&中学一覧表!C13&"選手データ!A:O"),MATCH("ﾌﾘｶﾞﾅ(姓)",INDIRECT("中学"&中学一覧表!C13&"選手データ!1:1"),0),0)&" "&VLOOKUP(中学一覧表!D13,INDIRECT("中学"&中学一覧表!C13&"選手データ!A:O"),MATCH("ﾌﾘｶﾞﾅ(名)",INDIRECT("中学"&中学一覧表!C13&"選手データ!1:1"),0),0)) | I12: =IF(中学一覧表!E13="","",中学一覧表!E13) | J12: =IF(中学一覧表!D13="","",VLOOKUP(中学一覧表!D13,INDIRECT("中学"&中学一覧表!C13&"選手データ!A:O"),MATCH("FAMILY NAME",INDIRECT("中学"&中学一覧表!C13&"選手データ!1:1"),0),0)&" "&VLOOKUP(中学一覧表!D13,INDIRECT("中学"&中学一覧表!C13&"選手データ!A:O"),MATCH("Firstname",INDIRECT("中学"&中学一覧表!C13&"選手データ!1:1"),0),0)) | K12: =IF(中学一覧表!D13="","","JPN") | L12: =IF(中学一覧表!D13="","",IF(中学一覧表!C13="男",1,2)) | M12: =IF(中学一覧表!D13="","",中学一覧表!F13) | N12: =IF(中学一覧表!D13="","",LEFT(VLOOKUP(中学一覧表!D13,INDIRECT("中学"&中学一覧表!C13&"選手データ!A:O"),MATCH("Birthday",INDIRECT("中学"&中学一覧表!C13&"選手データ!1:1"),0),0),4)) | O12: =IF(中学一覧表!D13="","","0") | P12: =IF(中学一覧表!D13="","","千葉") | R12: =IF(中学一覧表!G13="","",VLOOKUP(中学一覧表!G13,競技csv!$A:$O,MATCH("競技コード",競技csv!$1:$1,0),0)) | S12: {=IF(中学一覧表!J13="","",中学一覧表!J13&".")&_xlfn.IFS(中学一覧表!K13="","",OR(VLOOKUP(R12,競技csv!$B:$O,2,0)<=31,VLOOKUP(R12,競技csv!$B:$O,2,0)>=100),TEXT(中学一覧表!K13,"00")&".",TRUE,TEXT(中学一覧表!K13,"00")&"m")&IF(中学一覧表!L13="","",TEXT(中学一覧表!L13,"00"))} | T12: =IF(中学一覧表!G13="","","0") | U12: =IF(中学一覧表!G13="","","2") | V12: =IF(中学一覧表!M13="","",VLOOKUP(中学一覧表!M13,競技csv!$A:$O,MATCH("競技コード",競技csv!$1:$1,0),0)) | W12: {=IF(中学一覧表!P13="","",中学一覧表!P13&".")&_xlfn.IFS(中学一覧表!Q13="","",OR(VLOOKUP(V12,競技csv!$B:$O,2,0)<=31,VLOOKUP(V12,競技csv!$B:$O,2,0)>=100),TEXT(中学一覧表!Q13,"00")&".",TRUE,TEXT(中学一覧表!Q13,"00")&"m")&IF(中学一覧表!R13="","",TEXT(中学一覧表!R13,"00"))} | X12: =IF(中学一覧表!M13="","","0") | Y12: =IF(中学一覧表!M13="","","2") | Z12: =IF(中学一覧表!S13="","",VLOOKUP("中学"&中学一覧表!C13&"子4X100mR",競技csv!A:O,MATCH("競技コード",競技csv!$1:$1,0),0)) | AA12: =IF(中学一覧表!T13="","",中学一覧表!T13&".")&IF(中学一覧表!U13="","",TEXT(中学一覧表!U13,"00")&".")&IF(中学一覧表!V13="","",TEXT(中学一覧表!V13,"00")) | AB12: =IF(中学一覧表!S13="","","0") | AC12: =IF(中学一覧表!S13="","","2")
A13: =IF(B13="",A12,A12+1) -> 0 | B13: =IF(中学一覧表!D14="","",IF(中学一覧表!C14="男",10000+中学一覧表!D14,20000+中学一覧表!D14)) | C13: =IF(中学一覧表!D14="","",VLOOKUP(VLOOKUP(中学一覧表!D14,INDIRECT("中学"&中学一覧表!C14&"選手データ!A:O"),MATCH("所属",INDIRECT("中学"&中学一覧表!C14&"選手データ!1:1"),0),0)&"中",所属csv!$A:$H,MATCH("所属コード",所属csv!$1:$1,0),0)) | F13: =IF(中学一覧表!D14="","",中学一覧表!D14) | G13: =IF(中学一覧表!E14="","",中学一覧表!E14) | H13: =IF(中学一覧表!D14="","",VLOOKUP(中学一覧表!D14,INDIRECT("中学"&中学一覧表!C14&"選手データ!A:O"),MATCH("ﾌﾘｶﾞﾅ(姓)",INDIRECT("中学"&中学一覧表!C14&"選手データ!1:1"),0),0)&" "&VLOOKUP(中学一覧表!D14,INDIRECT("中学"&中学一覧表!C14&"選手データ!A:O"),MATCH("ﾌﾘｶﾞﾅ(名)",INDIRECT("中学"&中学一覧表!C14&"選手データ!1:1"),0),0)) | I13: =IF(中学一覧表!E14="","",中学一覧表!E14) | J13: =IF(中学一覧表!D14="","",VLOOKUP(中学一覧表!D14,INDIRECT("中学"&中学一覧表!C14&"選手データ!A:O"),MATCH("FAMILY NAME",INDIRECT("中学"&中学一覧表!C14&"選手データ!1:1"),0),0)&" "&VLOOKUP(中学一覧表!D14,INDIRECT("中学"&中学一覧表!C14&"選手データ!A:O"),MATCH("Firstname",INDIRECT("中学"&中学一覧表!C14&"選手データ!1:1"),0),0)) | K13: =IF(中学一覧表!D14="","","JPN") | L13: =IF(中学一覧表!D14="","",IF(中学一覧表!C14="男",1,2)) | M13: =IF(中学一覧表!D14="","",中学一覧表!F14) | N13: =IF(中学一覧表!D14="","",LEFT(VLOOKUP(中学一覧表!D14,INDIRECT("中学"&中学一覧表!C14&"選手データ!A:O"),MATCH("Birthday",INDIRECT("中学"&中学一覧表!C14&"選手データ!1:1"),0),0),4)) | O13: =IF(中学一覧表!D14="","","0") | P13: =IF(中学一覧表!D14="","","千葉") | R13: =IF(中学一覧表!G14="","",VLOOKUP(中学一覧表!G14,競技csv!$A:$O,MATCH("競技コード",競技csv!$1:$1,0),0)) | S13: {=IF(中学一覧表!J14="","",中学一覧表!J14&".")&_xlfn.IFS(中学一覧表!K14="","",OR(VLOOKUP(R13,競技csv!$B:$O,2,0)<=31,VLOOKUP(R13,競技csv!$B:$O,2,0)>=100),TEXT(中学一覧表!K14,"00")&".",TRUE,TEXT(中学一覧表!K14,"00")&"m")&IF(中学一覧表!L14="","",TEXT(中学一覧表!L14,"00"))} | T13: =IF(中学一覧表!G14="","","0") | U13: =IF(中学一覧表!G14="","","2") | V13: =IF(中学一覧表!M14="","",VLOOKUP(中学一覧表!M14,競技csv!$A:$O,MATCH("競技コード",競技csv!$1:$1,0),0)) | W13: {=IF(中学一覧表!P14="","",中学一覧表!P14&".")&_xlfn.IFS(中学一覧表!Q14="","",OR(VLOOKUP(V13,競技csv!$B:$O,2,0)<=31,VLOOKUP(V13,競技csv!$B:$O,2,0)>=100),TEXT(中学一覧表!Q14,"00")&".",TRUE,TEXT(中学一覧表!Q14,"00")&"m")&IF(中学一覧表!R14="","",TEXT(中学一覧表!R14,"00"))} | X13: =IF(中学一覧表!M14="","","0") | Y13: =IF(中学一覧表!M14="","","2") | Z13: =IF(中学一覧表!S14="","",VLOOKUP("中学"&中学一覧表!C14&"子4X100mR",競技csv!A:O,MATCH("競技コード",競技csv!$1:$1,0),0)) | AA13: =IF(中学一覧表!T14="","",中学一覧表!T14&".")&IF(中学一覧表!U14="","",TEXT(中学一覧表!U14,"00")&".")&IF(中学一覧表!V14="","",TEXT(中学一覧表!V14,"00")) | AB13: =IF(中学一覧表!S14="","","0") | AC13: =IF(中学一覧表!S14="","","2")
... A61: =IF(B61="",A60,A60+1) -> 0 | B61: =IF(中学一覧表!D62="","",IF(中学一覧表!C62="男",10000+中学一覧表!D62,20000+中学一覧表!D62)) | C61: =IF(中学一覧表!D62="","",VLOOKUP(VLOOKUP(中学一覧表!D62,INDIRECT("中学"&中学一覧表!C62&"選手データ!A:O"),MATCH("所属",INDIRECT("中学"&中学一覧表!C62&"選手データ!1:1"),0),0)&"中",所属csv!$A:$H,MATCH("所属コード",所属csv!$1:$1,0),0)) | F61: =IF(中学一覧表!D62="","",中学一覧表!D62) | G61: =IF(中学一覧表!E62="","",中学一覧表!E62) | H61: =IF(中学一覧表!D62="","",VLOOKUP(中学一覧表!D62,INDIRECT("中学"&中学一覧表!C62&"選手データ!A:O"),MATCH("ﾌﾘｶﾞﾅ(姓)",INDIRECT("中学"&中学一覧表!C62&"選手データ!1:1"),0),0)&" "&VLOOKUP(中学一覧表!D62,INDIRECT("中学"&中学一覧表!C62&"選手データ!A:O"),MATCH("ﾌﾘｶﾞﾅ(名)",INDIRECT("中学"&中学一覧表!C62&"選手データ!1:1"),0),0)) | I61: =IF(中学一覧表!E62="","",中学一覧表!E62) | J61: =IF(中学一覧表!D62="","",VLOOKUP(中学一覧表!D62,INDIRECT("中学"&中学一覧表!C62&"選手データ!A:O"),MATCH("FAMILY NAME",INDIRECT("中学"&中学一覧表!C62&"選手データ!1:1"),0),0)&" "&VLOOKUP(中学一覧表!D62,INDIRECT("中学"&中学一覧表!C62&"選手データ!A:O"),MATCH("Firstname",INDIRECT("中学"&中学一覧表!C62&"選手データ!1:1"),0),0)) | K61: =IF(中学一覧表!D62="","","JPN") | L61: =IF(中学一覧表!D62="","",IF(中学一覧表!C62="男",1,2)) | M61: =IF(中学一覧表!D62="","",中学一覧表!F62) | N61: =IF(中学一覧表!D62="","",LEFT(VLOOKUP(中学一覧表!D62,INDIRECT("中学"&中学一覧表!C62&"選手データ!A:O"),MATCH("Birthday",INDIRECT("中学"&中学一覧表!C62&"選手データ!1:1"),0),0),4)) | O61: =IF(中学一覧表!D62="","","0") | P61: =IF(中学一覧表!D62="","","千葉") | R61: =IF(中学一覧表!G62="","",VLOOKUP(中学一覧表!G62,競技csv!$A:$O,MATCH("競技コード",競技csv!$1:$1,0),0)) | S61: {=IF(中学一覧表!J62="","",中学一覧表!J62&".")&_xlfn.IFS(中学一覧表!K62="","",OR(VLOOKUP(R61,競技csv!$B:$O,2,0)<=31,VLOOKUP(R61,競技csv!$B:$O,2,0)>=100),TEXT(中学一覧表!K62,"00")&".",TRUE,TEXT(中学一覧表!K62,"00")&"m")&IF(中学一覧表!L62="","",TEXT(中学一覧表!L62,"00"))} | T61: =IF(中学一覧表!G62="","","0") | U61: =IF(中学一覧表!G62="","","2") | V61: =IF(中学一覧表!M62="","",VLOOKUP(中学一覧表!M62,競技csv!$A:$O,MATCH("競技コード",競技csv!$1:$1,0),0)) | W61: {=IF(中学一覧表!P62="","",中学一覧表!P62&".")&_xlfn.IFS(中学一覧表!Q62="","",OR(VLOOKUP(V61,競技csv!$B:$O,2,0)<=31,VLOOKUP(V61,競技csv!$B:$O,2,0)>=100),TEXT(中学一覧表!Q62,"00")&".",TRUE,TEXT(中学一覧表!Q62,"00")&"m")&IF(中学一覧表!R62="","",TEXT(中学一覧表!R62,"00"))} | X61: =IF(中学一覧表!M62="","","0") | Y61: =IF(中学一覧表!M62="","","2") | Z61: =IF(中学一覧表!S62="","",VLOOKUP("中学"&中学一覧表!C62&"子4X100mR",競技csv!A:O,MATCH("競技コード",競技csv!$1:$1,0),0)) | AA61: =IF(中学一覧表!T62="","",中学一覧表!T62&".")&IF(中学一覧表!U62="","",TEXT(中学一覧表!U62,"00")&".")&IF(中学一覧表!V62="","",TEXT(中学一覧表!V62,"00")) | AB61: =IF(中学一覧表!S62="","","0") | AC61: =IF(中学一覧表!S62="","","2")
