Workbook
Name あ百番: #REF!
Name 春男: #REF!
Name 女追加: [1]競技者データ!$H$4:$U$153
Name 男追加: [1]競技者データ!$G$4:$U$153
Name 長柄駅伝: #REF!
Name 入力セル: #REF!
Name 入力セル: #REF!
Name 入力セル: #REF!

Sheet 競技csv
B1: 競技コード | C1: 種目コード | D1: 種別コード | E1: 性別コード | F1: 競技名 | G1: 競技名カナ | H1: 競技名正式名称 | I1: 競技名英字 | J1: 標準記録A | K1: 標準記録B | L1: 記録FLGA | M1: 記録FLGB | N1: 入力FLG | O1: 学年FLG | Q1: 中学競技 | R1: 高校競技
A2: =IF(F2="","",F2) -> 一般男子100m | B2: 1 | C2: 226 | D2: 2 | E2: 1 | F2: 一般男子100m | G2: ｲｯﾊﾟﾝﾀﾞﾝｼ100m | H2: 一般男子100m | I2: Men | L2: 0 | M2: 0 | N2: 1 | O2: 1年2年3年
A3: =IF(F3="","",F3) -> 一般男子400m | B3: 2 | C3: 4 | D3: 2 | E3: 1 | F3: 一般男子400m | G3: ｲｯﾊﾟﾝﾀﾞﾝｼ400m | H3: 一般男子400m | I3: Men | L3: 0 | M3: 0 | N3: 2 | O3: 1年2年3年 | Q3: 中学男子100m | R3: 一般男子100m
A4: =IF(F4="","",F4) -> 一般男子1500m | B4: 3 | C4: 7 | D4: 2 | E4: 1 | F4: 一般男子1500m | G4: ｲｯﾊﾟﾝﾀﾞﾝｼ1500m | H4: 一般男子1500m | I4: Men | L4: 0 | M4: 0 | N4: 2 | O4: 1年2年3年 | Q4: 中学男子400m | R4: 一般男子400m
A5: =IF(F5="","",F5) -> 一般男子4X100mR | B5: 4 | C5: 30 | D5: 2 | E5: 1 | F5: 一般男子4X100mR | G5: ｲｯﾊﾟﾝﾀﾞﾝｼ4X100mR | H5: 一般男子4X100mR | I5: Men | L5: 0 | M5: 0 | N5: 2 | O5: 1年2年3年 | Q5: 中学男子800m | R5: 一般男子1500m
A6: =IF(F6="","",F6) -> 一般男子走高跳 | B6: 5 | C6: 34 | D6: 2 | E6: 1 | F6: 一般男子走高跳 | G6: ｲｯﾊﾟﾝﾀﾞﾝｼﾊｼﾘﾀｶﾄﾋﾞ | H6: 一般男子走高跳 | I6: Men | L6: 0 | M6: 0 | N6: 1 | O6: 1年2年3年 | Q6: 中学男子1500m | R6: 一般男子走高跳
A7: =IF(F7="","",F7) -> 一般男子走幅跳 | B7: 6 | C7: 36 | D7: 2 | E7: 1 | F7: 一般男子走幅跳 | G7: ｲｯﾊﾟﾝﾀﾞﾝｼﾊｼﾘﾊﾊﾞﾄﾋﾞ | H7: 一般男子走幅跳 | I7: Men | L7: 0 | M7: 0 | N7: 1 | O7: 1年2年3年 | Q7: 中学男子走高跳 | R7: 一般男子走幅跳
A8: =IF(F8="","",F8) -> 一般男子砲丸投(6.0kg) | B8: 7 | C8: 42 | D8: 2 | E8: 1 | F8: 一般男子砲丸投(6.0kg) | G8: ｲｯﾊﾟﾝﾀﾞﾝｼﾎｳｶﾞﾝﾅｹﾞ(6.000kg) | H8: 一般男子砲丸投(6.000kg) | I8: Men | L8: 0 | M8: 0 | N8: 1 | O8: 1年2年3年 | Q8: 中学男子走幅跳 | R8: 一般男子砲丸投(6.0kg)
A9: =IF(F9="","",F9) -> 中学男子100m | B9: 8 | C9: 226 | D9: 15 | E9: 1 | F9: 中学男子100m | G9: ﾁｭｳｶﾞｸﾀﾞﾝｼ100m | H9: 中学男子100m | I9: Men | L9: 0 | M9: 0 | N9: 1 | O9: 1年2年3年 | Q9: 中学男子砲丸投(4.0kg) | R9: 一般女子100m
A10: =IF(F10="","",F10) -> 中学男子400m | B10: 9 | C10: 4 | D10: 15 | E10: 1 | F10: 中学男子400m | G10: ﾁｭｳｶﾞｸﾀﾞﾝｼ400m | H10: 中学男子400m | I10: Men | L10: 0 | M10: 0 | N10: 2 | O10: 1年2年3年 | Q10: 中学男子ジャベリックスロｰ | R10: 一般女子400m
A11: =IF(F11="","",F11) -> 中学男子800m | B11: 10 | C11: 227 | D11: 15 | E11: 1 | F11: 中学男子800m | G11: ﾁｭｳｶﾞｸﾀﾞﾝｼ800m | H11: 中学男子800m | I11: Men | L11: 0 | M11: 0 | N11: 2 | O11: 1年2年3年 | Q11: 中学女子100m | R11: 一般女子1500m
A12: =IF(F12="","",F12) -> 中学男子1500m | B12: 11 | C12: 7 | D12: 15 | E12: 1 | F12: 中学男子1500m | G12: ﾁｭｳｶﾞｸﾀﾞﾝｼ1500m | H12: 中学男子1500m | I12: Men | L12: 0 | M12: 0 | N12: 2 | O12: 1年2年3年 | Q12: 中学女子800m | R12: 一般女子走高跳
A13: =IF(F13="","",F13) -> 中学男子4X100mR | B13: 12 | C13: 30 | D13: 15 | E13: 1 | F13: 中学男子4X100mR | G13: ﾁｭｳｶﾞｸﾀﾞﾝｼ4X100mR | H13: 中学男子4X100mR | I13: Men | L13: 0 | M13: 0 | N13: 2 | O13: 1年2年3年 | Q13: 中学女子1500m | R13: 一般女子走幅跳
A14: =IF(F14="","",F14) -> 中学男子走高跳 | B14: 13 | C14: 34 | D14: 15 | E14: 1 | F14: 中学男子走高跳 | G14: ﾁｭｳｶﾞｸﾀﾞﾝｼﾊｼﾘﾀｶﾄﾋﾞ | H14: 中学男子走高跳 | I14: Men | L14: 0 | M14: 0 | N14: 1 | O14: 1年2年3年 | Q14: 中学女子走高跳 | R14: 一般女子砲丸投
A15: =IF(F15="","",F15) -> 中学男子走幅跳 | B15: 14 | C15: 36 | D15: 15 | E15: 1 | F15: 中学男子走幅跳 | G15: ﾁｭｳｶﾞｸﾀﾞﾝｼﾊｼﾘﾊﾊﾞﾄﾋﾞ | H15: 中学男子走幅跳 | I15: Men | L15: 0 | M15: 0 | N15: 1 | O15: 1年2年3年 | Q15: 中学女子走幅跳
A16: =IF(F16="","",F16) -> 中学男子砲丸投(4.0kg) | B16: 15 | C16: 40 | D16: 15 | E16: 1 | F16: 中学男子砲丸投(4.0kg) | G16: ﾁｭｳｶﾞｸﾀﾞﾝｼﾎｳｶﾞﾝﾅｹﾞ(5.000kg) | H16: 中学男子砲丸投(4.000kg) | I16: Men | L16: 0 | M16: 0 | N16: 1 | O16: 1年2年3年 | Q16: 中学女子砲丸投
A17: =IF(F17="","",F17) -> 中学男子ジャベリックスロｰ | B17: 16 | C17: 72 | D17: 15 | E17: 1 | F17: 中学男子ジャベリックスロｰ | G17: ﾁｭｳｶﾞｸﾀﾞﾝｼｼﾞｬﾍﾞﾘｯｸｽﾛｰ | H17: 中学男子ジャベリックスロｰ | I17: Men | L17: 0 | M17: 0 | N17: 1 | O17: 1年2年3年 | Q17: 中学女子ジャベリックスロｰ
A18: =IF(F18="","",F18) -> 小学男子100m | B18: 17 | C18: 226 | D18: 20 | E18: 1 | F18: 小学男子100m | G18: ｼｮｳｶﾞｸﾀﾞﾝｼ100m | H18: 小学男子100m | I18: Men | L18: 0 | M18: 0 | N18: 1 | O18: 1年2年3年
A19: =IF(F19="","",F19) -> 小学男子1000m | B19: 18 | C19: 6 | D19: 20 | E19: 1 | F19: 小学男子1000m | G19: ｼｮｳｶﾞｸﾀﾞﾝｼ1000m | H19: 小学男子1000m | I19: Men | L19: 0 | M19: 0 | N19: 2 | O19: 1年2年3年
A20: =IF(F20="","",F20) -> 小学男子走幅跳 | B20: 19 | C20: 36 | D20: 20 | E20: 1 | F20: 小学男子走幅跳 | G20: ｼｮｳｶﾞｸﾀﾞﾝｼﾊｼﾘﾊﾊﾞﾄﾋﾞ | H20: 小学男子走幅跳 | I20: Men | L20: 0 | M20: 0 | N20: 1 | O20: 1年2年3年
A21: =IF(F21="","",F21) -> 一般女子100m | B21: 20 | C21: 226 | D21: 2 | E21: 2 | F21: 一般女子100m | G21: ｲｯﾊﾟﾝｼﾞｮｼ100m | H21: 一般女子100m | I21: Women | L21: 0 | M21: 0 | N21: 1 | O21: 1年2年3年
A22: =IF(F22="","",F22) -> 一般女子400m | B22: 21 | C22: 4 | D22: 2 | E22: 2 | F22: 一般女子400m | G22: ｲｯﾊﾟﾝｼﾞｮｼ400m | H22: 一般女子400m | I22: Women | L22: 0 | M22: 0 | N22: 2 | O22: 1年2年3年
A23: =IF(F23="","",F23) -> 一般女子1500m | B23: 22 | C23: 7 | D23: 2 | E23: 2 | F23: 一般女子1500m | G23: ｲｯﾊﾟﾝｼﾞｮｼ1500m | H23: 一般女子1500m | I23: Women | L23: 0 | M23: 0 | N23: 2 | O23: 1年2年3年
A24: =IF(F24="","",F24) -> 一般女子4X100mR | B24: 23 | C24: 30 | D24: 2 | E24: 2 | F24: 一般女子4X100mR | G24: ｲｯﾊﾟﾝｼﾞｮｼ4X100mR | H24: 一般女子4X100mR | I24: Women | L24: 0 | M24: 0 | N24: 2 | O24: 1年2年3年
A25: =IF(F25="","",F25) -> 一般女子走高跳 | B25: 24 | C25: 34 | D25: 2 | E25: 2 | F25: 一般女子走高跳 | G25: ｲｯﾊﾟﾝｼﾞｮｼﾊｼﾘﾀｶﾄﾋﾞ | H25: 一般女子走高跳 | I25: Women | L25: 0 | M25: 0 | N25: 1 | O25: 1年2年3年
A26: =IF(F26="","",F26) -> 一般女子走幅跳 | B26: 25 | C26: 36 | D26: 2 | E26: 2 | F26: 一般女子走幅跳 | G26: ｲｯﾊﾟﾝｼﾞｮｼﾊｼﾘﾊﾊﾞﾄﾋﾞ | H26: 一般女子走幅跳 | I26: Women | L26: 0 | M26: 0 | N26: 1 | O26: 1年2年3年
A27: =IF(F27="","",F27) -> 一般女子砲丸投 | B27: 26 | C27: 40 | D27: 2 | E27: 2 | F27: 一般女子砲丸投 | G27: ｲｯﾊﾟﾝｼﾞｮｼﾎｳｶﾞﾝﾅｹﾞ(4.000kg) | H27: 一般女子砲丸投(4.000kg) | I27: Women | L27: 0 | M27: 0 | N27: 1 | O27: 1年2年3年
A28: =IF(F28="","",F28) -> 中学女子100m | B28: 27 | C28: 226 | D28: 15 | E28: 2 | F28: 中学女子100m | G28: ﾁｭｳｶﾞｸｼﾞｮｼ100m | H28: 中学女子100m | I28: Women | L28: 0 | M28: 0 | N28: 1 | O28: 1年2年3年
A29: =IF(F29="","",F29) -> 中学女子800m | B29: 28 | C29: 227 | D29: 15 | E29: 2 | F29: 中学女子800m | G29: ﾁｭｳｶﾞｸｼﾞｮｼ800m | H29: 中学女子800m | I29: Women | L29: 0 | M29: 0 | N29: 2 | O29: 1年2年3年
... A38: =IF(F38="","",F38) -> 小学女子走幅跳 | B38: 37 | C38: 36 | D38: 20 | E38: 2 | F38: 小学女子走幅跳 | G38: ｼｮｳｶﾞｸｼﾞｮｼﾊｼﾘﾊﾊﾞﾄﾋﾞ | H38: 小学女子走幅跳 | I38: Women | L38: 0 | M38: 0 | N38: 1 | O38: 1年2年3年
A39: =IF(F39="","",F39)
A40: =IF(F40="","",F40)
A41: =IF(F41="","",F41)
A42: =IF(F42="","",F42)
A43: =IF(F43="","",F43)
A44: =IF(F44="","",F44)
A45: =IF(F45="","",F45)
A46: =IF(F46="","",F46)
A47: =IF(F47="","",F47)
A48: =IF(F48="","",F48)
...

Sheet 所属csv
B1: 所属コード | C1: 所属地コード | D1: 所属名 | E1: 所属名カナ | F1: 所属名略称 | G1: 所属名正式名称 | H1: 所属名英字
A2: =IF(F2="","",F2) | B2: =_xlfn.IFS(高校選手データ貼り付け!B1="","",TRUE,高校選手データ貼り付け!B1) | C2: =_xlfn.IFS(B2="","",TRUE,12) | D2: =_xlfn.IFS(高校選手データ貼り付け!P4="","",TRUE,高校選手データ貼り付け!P4&"高") | E2: =_xlfn.IFS(高校選手データ貼り付け!R4="","",TRUE,高校選手データ貼り付け!R4) | F2: =_xlfn.IFS(D2="","",TRUE,D2) | G2: =_xlfn.IFS(高校選手データ貼り付け!G4="","",TRUE,高校選手データ貼り付け!G4)
A3: =IF(F3="","",F3) -> 浦安中 | B3: 1 | C3: 12 | D3: 浦安中 | E3: ｳﾗﾔｽ | F3: 浦安中 | G3: 浦安中学校
A4: =IF(F4="","",F4) -> 下貝塚中 | B4: 2 | C4: 12 | D4: 下貝塚中 | E4: ｼﾓｶｲﾂﾞｶ | F4: 下貝塚中 | G4: 下貝塚中学校
A5: =IF(F5="","",F5) -> 高洲中 | B5: 3 | C5: 12 | D5: 高洲中 | E5: ﾀｶｽ | F5: 高洲中 | G5: 高洲中学校
A6: =IF(F6="","",F6) -> 高谷中 | B6: 4 | C6: 12 | D6: 高谷中 | E6: ｺｳﾔ | F6: 高谷中 | G6: 高谷中学校
A7: =IF(F7="","",F7) -> 市川中 | B7: 5 | C7: 12 | D7: 市川中 | E7: ｲﾁｶﾜ | F7: 市川中 | G7: 市川中学校
A8: =IF(F8="","",F8) -> 市川五中 | B8: 6 | C8: 12 | D8: 市川五中 | E8: ｲﾁｶﾜｺﾞ | F8: 市川五中 | G8: 市川第五中学校
A9: =IF(F9="","",F9) -> 市川四中 | B9: 8 | C9: 12 | D9: 市川四中 | E9: ｲﾁｶﾜﾖﾝ | F9: 市川四中 | G9: 市川第四中学校
A10: =IF(F10="","",F10) -> 市川二中 | B10: 9 | C10: 12 | D10: 市川二中 | E10: ｲﾁｶﾜﾆ | F10: 市川二中 | G10: 市川第二中学校
A11: =IF(F11="","",F11) -> 市川八中 | B11: 10 | C11: 12 | D11: 市川八中 | E11: ｲﾁｶﾜﾊﾁ | F11: 市川八中 | G11: 市川第八中学校
A12: =IF(F12="","",F12) -> 市川六中 | B12: 11 | C12: 12 | D12: 市川六中 | E12: ｲﾁｶﾜﾛｸ | F12: 市川六中 | G12: 市川第六中学校
A13: =IF(F13="","",F13) -> 昭和学院中 | B13: 12 | C13: 12 | D13: 昭和学院中 | E13: ｼｮｳﾜｶﾞｸｲﾝ | F13: 昭和学院中 | G13: 昭和学院中学校
A14: =IF(F14="","",F14) -> 大洲中 | B14: 13 | C14: 12 | D14: 大洲中 | E14: ｵｵｽﾞ | F14: 大洲中 | G14: 大洲中学校
... A28: =IF(F28="","",F28) -> 国府台女子中 | B28: 30 | C28: 12 | D28: 国府台女子中 | E28: ｺｳﾉﾀﾞｲｼﾞｮｼ | F28: 国府台女子中 | G28: 国府台女子学院中学部
A30: =IF(F30="","",F30)
A31: =IF(F31="","",F31)
A32: =IF(F32="","",F32)
A33: =IF(F33="","",F33)
A34: =IF(F34="","",F34)
A35: =IF(F35="","",F35)
A36: =IF(F36="","",F36)
A37: =IF(F37="","",F37)
A38: =IF(F38="","",F38)
A39: =IF(F39="","",F39)
A40: =IF(F40="","",F40)
A41: =IF(F41="","",F41)
... A50: =IF(F50="","",F50)

Sheet 高校男選手データ
A1: ナンバー | B1: 姓 | C1: 名 | D1: 支部 | E1: 所属 | F1: 学年 | G1: 登録日 | H1: 備考 | I1: 備考２ | J1: ﾌﾘｶﾞﾅ(姓) | K1: ﾌﾘｶﾞﾅ(名) | L1: FAMILY NAME | M1: Firstname | N1: Birthday | O1: 国籍
A2: {=_xlfn.IFS(高校選手データ貼り付け!B10="","",TRUE,高校選手データ貼り付け!B10)} | B2: {=_xlfn.IFS(A2="","",COUNTIF(高校選手データ貼り付け!D11," ")>0,LEFT(高校選手データ貼り付け!D11,FIND(" ",高校選手データ貼り付け!D11)-1),TRUE,LEFT(高校選手データ貼り付け!D11,FIND(" ",高校選手データ貼り付け!D11)-1))} | C2: {=_xlfn.IFS(A2="","",COUNTIF(高校選手データ貼り付け!D11," ")>0,RIGHT(高校選手データ貼り付け!D11,LEN(高校選手データ貼り付け!D11)-FIND(" ",高校選手データ貼り付け!D11)),TRUE,RIGHT(高校選手データ貼り付け!D11,LEN(高校選手データ貼り付け!D11)-FIND(" ",高校選手データ貼り付け!D11)))} | E2: {=_xlfn.IFS(A2="","",TRUE,高校選手データ貼り付け!$P$4&"高")} | F2: {=_xlfn.IFS(A2="","",TRUE,高校選手データ貼り付け!K10)} | J2: {=_xlfn.IFS(A2="","",COUNTIF(高校選手データ貼り付け!D10," ")>0,ASC(LEFT(高校選手データ貼り付け!D10,FIND(" ",高校選手データ貼り付け!D10)-1)),TRUE,ASC(LEFT(高校選手データ貼り付け!D10,FIND(" ",高校選手データ貼り付け!D10)-1)))} | K2: {=_xlfn.IFS(A2="","",COUNTIF(高校選手データ貼り付け!D10," ")>0,ASC(RIGHT(高校選手データ貼り付け!D10,LEN(高校選手データ貼り付け!D10)-FIND(" ",高校選手データ貼り付け!D10))),TRUE,ASC(RIGHT(高校選手データ貼り付け!D10,LEN(高校選手データ貼り付け!D10)-FIND(" ",高校選手データ貼り付け!D10))))} | N2: {=_xlfn.IFS(A2="","",TRUE,高校選手データ貼り付け!F10&"."&TEXT(高校選手データ貼り付け!H10,"00")&"."&TEXT(高校選手データ貼り付け!J10,"00"))} | O2: {=_xlfn.IFS(A2="","",TRUE,"JPN")} | P2: =LEFT(B2,FIND(" ",B2)-1) -> #VALUE! | Q2: =RIGHT(B2,LEN(B2)-FIND(" ",B2)) -> #VALUE! | R2: =ASC(LEFT(J2,FIND(" ",J2)-1)) -> #VALUE! | S2: =ASC(RIGHT(J2,LEN(J2)-FIND(" ",J2))) -> #VALUE! | T2: =LEFT(O2,FIND(" ",O2)-1) -> #VALUE! | U2: =E2&"高" -> 高
A3: {=_xlfn.IFS(高校選手データ貼り付け!B11="","",TRUE,高校選手データ貼り付け!B11)} | B3: {=_xlfn.IFS(A3="","",COUNTIF(高校選手データ貼り付け!D12," ")>0,LEFT(高校選手データ貼り付け!D12,FIND(" ",高校選手データ貼り付け!D12)-1),TRUE,LEFT(高校選手データ貼り付け!D12,FIND(" ",高校選手データ貼り付け!D12)-1))} | C3: {=_xlfn.IFS(A3="","",COUNTIF(高校選手データ貼り付け!D12," ")>0,RIGHT(高校選手データ貼り付け!D12,LEN(高校選手データ貼り付け!D12)-FIND(" ",高校選手データ貼り付け!D12)),TRUE,RIGHT(高校選手データ貼り付け!D12,LEN(高校選手データ貼り付け!D12)-FIND(" ",高校選手データ貼り付け!D12)))} | E3: {=_xlfn.IFS(A3="","",TRUE,高校選手データ貼り付け!$P$4&"高")} | F3: {=_xlfn.IFS(A3="","",TRUE,高校選手データ貼り付け!K11)} | J3: {=_xlfn.IFS(A3="","",COUNTIF(高校選手データ貼り付け!D11," ")>0,ASC(LEFT(高校選手データ貼り付け!D11,FIND(" ",高校選手データ貼り付け!D11)-1)),TRUE,ASC(LEFT(高校選手データ貼り付け!D11,FIND(" ",高校選手データ貼り付け!D11)-1)))} | K3: {=_xlfn.IFS(A3="","",COUNTIF(高校選手データ貼り付け!D11," ")>0,ASC(RIGHT(高校選手データ貼り付け!D11,LEN(高校選手データ貼り付け!D11)-FIND(" ",高校選手データ貼り付け!D11))),TRUE,ASC(RIGHT(高校選手データ貼り付け!D11,LEN(高校選手データ貼り付け!D11)-FIND(" ",高校選手データ貼り付け!D11))))} | N3: {=_xlfn.IFS(A3="","",TRUE,高校選手データ貼り付け!F11&"."&TEXT(高校選手データ貼り付け!H11,"00")&"."&TEXT(高校選手データ貼り付け!J11,"00"))} | O3: {=_xlfn.IFS(A3="","",TRUE,"JPN")} | P3: =LEFT(B3,FIND(" ",B3)-1) -> #VALUE! | Q3: =RIGHT(B3,LEN(B3)-FIND(" ",B3)) -> #VALUE! | R3: =ASC(LEFT(J3,FIND(" ",J3)-1)) -> #VALUE! | S3: =ASC(RIGHT(J3,LEN(J3)-FIND(" ",J3))) -> #VALUE! | T3: =LEFT(O3,FIND(" ",O3)-1) -> #VALUE! | U3: =E3&"高" -> 高
A4: {=_xlfn.IFS(高校選手データ貼り付け!B12="","",TRUE,高校選手データ貼り付け!B12)} | B4: {=_xlfn.IFS(A4="","",COUNTIF(高校選手データ貼り付け!D13," ")>0,LEFT(高校選手データ貼り付け!D13,FIND(" ",高校選手データ貼り付け!D13)-1),TRUE,LEFT(高校選手データ貼り付け!D13,FIND(" ",高校選手データ貼り付け!D13)-1))} | C4: {=_xlfn.IFS(A4="","",COUNTIF(高校選手データ貼り付け!D13," ")>0,RIGHT(高校選手データ貼り付け!D13,LEN(高校選手データ貼り付け!D13)-FIND(" ",高校選手データ貼り付け!D13)),TRUE,RIGHT(高校選手データ貼り付け!D13,LEN(高校選手データ貼り付け!D13)-FIND(" ",高校選手データ貼り付け!D13)))} | E4: {=_xlfn.IFS(A4="","",TRUE,高校選手データ貼り付け!$P$4&"高")} | F4: {=_xlfn.IFS(A4="","",TRUE,高校選手データ貼り付け!K12)} | J4: {=_xlfn.IFS(A4="","",COUNTIF(高校選手データ貼り付け!D12," ")>0,ASC(LEFT(高校選手データ貼り付け!D12,FIND(" ",高校選手データ貼り付け!D12)-1)),TRUE,ASC(LEFT(高校選手データ貼り付け!D12,FIND(" ",高校選手データ貼り付け!D12)-1)))} | K4: {=_xlfn.IFS(A4="","",COUNTIF(高校選手データ貼り付け!D12," ")>0,ASC(RIGHT(高校選手データ貼り付け!D12,LEN(高校選手データ貼り付け!D12)-FIND(" ",高校選手データ貼り付け!D12))),TRUE,ASC(RIGHT(高校選手データ貼り付け!D12,LEN(高校選手データ貼り付け!D12)-FIND(" ",高校選手データ貼り付け!D12))))} | N4: {=_xlfn.IFS(A4="","",TRUE,高校選手データ貼り付け!F12&"."&TEXT(高校選手データ貼り付け!H12,"00")&"."&TEXT(高校選手データ貼り付け!J12,"00"))} | O4: {=_xlfn.IFS(A4="","",TRUE,"JPN")} | P4: =LEFT(B4,FIND(" ",B4)-1) -> #VALUE! | Q4: =RIGHT(B4,LEN(B4)-FIND(" ",B4)) -> #VALUE! | R4: =ASC(LEFT(J4,FIND(" ",J4)-1)) -> #VALUE! | S4: =ASC(RIGHT(J4,LEN(J4)-FIND(" ",J4))) -> #VALUE! | T4: =LEFT(O4,FIND(" ",O4)-1) -> #VALUE! | U4: =E4&"高" -> 高
A5: {=_xlfn.IFS(高校選手データ貼り付け!B13="","",TRUE,高校選手データ貼り付け!B13)} | B5: {=_xlfn.IFS(A5="","",COUNTIF(高校選手データ貼り付け!D14," ")>0,LEFT(高校選手データ貼り付け!D14,FIND(" ",高校選手データ貼り付け!D14)-1),TRUE,LEFT(高校選手データ貼り付け!D14,FIND(" ",高校選手データ貼り付け!D14)-1))} | C5: {=_xlfn.IFS(A5="","",COUNTIF(高校選手データ貼り付け!D14," ")>0,RIGHT(高校選手データ貼り付け!D14,LEN(高校選手データ貼り付け!D14)-FIND(" ",高校選手データ貼り付け!D14)),TRUE,RIGHT(高校選手データ貼り付け!D14,LEN(高校選手データ貼り付け!D14)-FIND(" ",高校選手データ貼り付け!D14)))} | E5: {=_xlfn.IFS(A5="","",TRUE,高校選手データ貼り付け!$P$4&"高")} | F5: {=_xlfn.IFS(A5="","",TRUE,高校選手データ貼り付け!K13)} | J5: {=_xlfn.IFS(A5="","",COUNTIF(高校選手データ貼り付け!D13," ")>0,ASC(LEFT(高校選手データ貼り付け!D13,FIND(" ",高校選手データ貼り付け!D13)-1)),TRUE,ASC(LEFT(高校選手データ貼り付け!D13,FIND(" ",高校選手データ貼り付け!D13)-1)))} | K5: {=_xlfn.IFS(A5="","",COUNTIF(高校選手データ貼り付け!D13," ")>0,ASC(RIGHT(高校選手データ貼り付け!D13,LEN(高校選手データ貼り付け!D13)-FIND(" ",高校選手データ貼り付け!D13))),TRUE,ASC(RIGHT(高校選手データ貼り付け!D13,LEN(高校選手データ貼り付け!D13)-FIND(" ",高校選手データ貼り付け!D13))))} | N5: {=_xlfn.IFS(A5="","",TRUE,高校選手データ貼り付け!F13&"."&TEXT(高校選手データ貼り付け!H13,"00")&"."&TEXT(高校選手データ貼り付け!J13,"00"))} | O5: {=_xlfn.IFS(A5="","",TRUE,"JPN")} | P5: =LEFT(B5,FIND(" ",B5)-1) -> #VALUE! | Q5: =RIGHT(B5,LEN(B5)-FIND(" ",B5)) -> #VALUE! | R5: =ASC(LEFT(J5,FIND(" ",J5)-1)) -> #VALUE! | S5: =ASC(RIGHT(J5,LEN(J5)-FIND(" ",J5))) -> #VALUE! | T5: =LEFT(O5,FIND(" ",O5)-1) -> #VALUE! | U5: =E5&"高" -> 高
A6: {=_xlfn.IFS(高校選手データ貼り付け!B14="","",TRUE,高校選手データ貼り付け!B14)} | B6: {=_xlfn.IFS(A6="","",COUNTIF(高校選手データ貼り付け!D15," ")>0,LEFT(高校選手データ貼り付け!D15,FIND(" ",高校選手データ貼り付け!D15)-1),TRUE,LEFT(高校選手データ貼り付け!D15,FIND(" ",高校選手データ貼り付け!D15)-1))} | C6: {=_xlfn.IFS(A6="","",COUNTIF(高校選手データ貼り付け!D15," ")>0,RIGHT(高校選手データ貼り付け!D15,LEN(高校選手データ貼り付け!D15)-FIND(" ",高校選手データ貼り付け!D15)),TRUE,RIGHT(高校選手データ貼り付け!D15,LEN(高校選手データ貼り付け!D15)-FIND(" ",高校選手データ貼り付け!D15)))} | E6: {=_xlfn.IFS(A6="","",TRUE,高校選手データ貼り付け!$P$4&"高")} | F6: {=_xlfn.IFS(A6="","",TRUE,高校選手データ貼り付け!K14)} | J6: {=_xlfn.IFS(A6="","",COUNTIF(高校選手データ貼り付け!D14," ")>0,ASC(LEFT(高校選手データ貼り付け!D14,FIND(" ",高校選手データ貼り付け!D14)-1)),TRUE,ASC(LEFT(高校選手データ貼り付け!D14,FIND(" ",高校選手データ貼り付け!D14)-1)))} | K6: {=_xlfn.IFS(A6="","",COUNTIF(高校選手データ貼り付け!D14," ")>0,ASC(RIGHT(高校選手データ貼り付け!D14,LEN(高校選手データ貼り付け!D14)-FIND(" ",高校選手データ貼り付け!D14))),TRUE,ASC(RIGHT(高校選手データ貼り付け!D14,LEN(高校選手データ貼り付け!D14)-FIND(" ",高校選手データ貼り付け!D14))))} | N6: {=_xlfn.IFS(A6="","",TRUE,高校選手データ貼り付け!F14&"."&TEXT(高校選手データ貼り付け!H14,"00")&"."&TEXT(高校選手データ貼り付け!J14,"00"))} | O6: {=_xlfn.IFS(A6="","",TRUE,"JPN")} | P6: =LEFT(B6,FIND(" ",B6)-1) -> #VALUE! | Q6: =RIGHT(B6,LEN(B6)-FIND(" ",B6)) -> #VALUE! | R6: =ASC(LEFT(J6,FIND(" ",J6)-1)) -> #VALUE! | S6: =ASC(RIGHT(J6,LEN(J6)-FIND(" ",J6))) -> #VALUE! | T6: =LEFT(O6,FIND(" ",O6)-1) -> #VALUE! | U6: =E6&"高" -> 高
A7: {=_xlfn.IFS(高校選手データ貼り付け!B15="","",TRUE,高校選手データ貼り付け!B15)} | B7: {=_xlfn.IFS(A7="","",COUNTIF(高校選手データ貼り付け!D16," ")>0,LEFT(高校選手データ貼り付け!D16,FIND(" ",高校選手データ貼り付け!D16)-1),TRUE,LEFT(高校選手データ貼り付け!D16,FIND(" ",高校選手データ貼り付け!D16)-1))} | C7: {=_xlfn.IFS(A7="","",COUNTIF(高校選手データ貼り付け!D16," ")>0,RIGHT(高校選手データ貼り付け!D16,LEN(高校選手データ貼り付け!D16)-FIND(" ",高校選手データ貼り付け!D16)),TRUE,RIGHT(高校選手データ貼り付け!D16,LEN(高校選手データ貼り付け!D16)-FIND(" ",高校選手データ貼り付け!D16)))} | E7: {=_xlfn.IFS(A7="","",TRUE,高校選手データ貼り付け!$P$4&"高")} | F7: {=_xlfn.IFS(A7="","",TRUE,高校選手データ貼り付け!K15)} | J7: {=_xlfn.IFS(A7="","",COUNTIF(高校選手データ貼り付け!D15," ")>0,ASC(LEFT(高校選手データ貼り付け!D15,FIND(" ",高校選手データ貼り付け!D15)-1)),TRUE,ASC(LEFT(高校選手データ貼り付け!D15,FIND(" ",高校選手データ貼り付け!D15)-1)))} | K7: {=_xlfn.IFS(A7="","",COUNTIF(高校選手データ貼り付け!D15," ")>0,ASC(RIGHT(高校選手データ貼り付け!D15,LEN(高校選手データ貼り付け!D15)-FIND(" ",高校選手データ貼り付け!D15))),TRUE,ASC(RIGHT(高校選手データ貼り付け!D15,LEN(高校選手データ貼り付け!D15)-FIND(" ",高校選手データ貼り付け!D15))))} | N7: {=_xlfn.IFS(A7="","",TRUE,高校選手データ貼り付け!F15&"."&TEXT(高校選手データ貼り付け!H15,"00")&"."&TEXT(高校選手データ貼り付け!J15,"00"))} | O7: {=_xlfn.IFS(A7="","",TRUE,"JPN")} | P7: =LEFT(B7,FIND(" ",B7)-1) -> #VALUE! | Q7: =RIGHT(B7,LEN(B7)-FIND(" ",B7)) -> #VALUE! | R7: =ASC(LEFT(J7,FIND(" ",J7)-1)) -> #VALUE! | S7: =ASC(RIGHT(J7,LEN(J7)-FIND(" ",J7))) -> #VALUE! | T7: =LEFT(O7,FIND(" ",O7)-1) -> #VALUE! | U7: =E7&"高" -> 高
A8: {=_xlfn.IFS(高校選手データ貼り付け!B16="","",TRUE,高校選手データ貼り付け!B16)} | B8: {=_xlfn.IFS(A8="","",COUNTIF(高校選手データ貼り付け!D17," ")>0,LEFT(高校選手データ貼り付け!D17,FIND(" ",高校選手データ貼り付け!D17)-1),TRUE,LEFT(高校選手データ貼り付け!D17,FIND(" ",高校選手データ貼り付け!D17)-1))} | C8: {=_xlfn.IFS(A8="","",COUNTIF(高校選手データ貼り付け!D17," ")>0,RIGHT(高校選手データ貼り付け!D17,LEN(高校選手データ貼り付け!D17)-FIND(" ",高校選手データ貼り付け!D17)),TRUE,RIGHT(高校選手データ貼り付け!D17,LEN(高校選手データ貼り付け!D17)-FIND(" ",高校選手データ貼り付け!D17)))} | E8: {=_xlfn.IFS(A8="","",TRUE,高校選手データ貼り付け!$P$4&"高")} | F8: {=_xlfn.IFS(A8="","",TRUE,高校選手データ貼り付け!K16)} | J8: {=_xlfn.IFS(A8="","",COUNTIF(高校選手データ貼り付け!D16," ")>0,ASC(LEFT(高校選手データ貼り付け!D16,FIND(" ",高校選手データ貼り付け!D16)-1)),TRUE,ASC(LEFT(高校選手データ貼り付け!D16,FIND(" ",高校選手データ貼り付け!D16)-1)))} | K8: {=_xlfn.IFS(A8="","",COUNTIF(高校選手データ貼り付け!D16," ")>0,ASC(RIGHT(高校選手データ貼り付け!D16,LEN(高校選手データ貼り付け!D16)-FIND(" ",高校選手データ貼り付け!D16))),TRUE,ASC(RIGHT(高校選手データ貼り付け!D16,LEN(高校選手データ貼り付け!D16)-FIND(" ",高校選手データ貼り付け!D16))))} | N8: {=_xlfn.IFS(A8="","",TRUE,高校選手データ貼り付け!F16&"."&TEXT(高校選手データ貼り付け!H16,"00")&"."&TEXT(高校選手データ貼り付け!J16,"00"))} | O8: {=_xlfn.IFS(A8="","",TRUE,"JPN")} | P8: =LEFT(B8,FIND(" ",B8)-1) -> #VALUE! | Q8: =RIGHT(B8,LEN(B8)-FIND(" ",B8)) -> #VALUE! | R8: =ASC(LEFT(J8,FIND(" ",J8)-1)) -> #VALUE! | S8: =ASC(RIGHT(J8,LEN(J8)-FIND(" ",J8))) -> #VALUE! | T8: =LEFT(O8,FIND(" ",O8)-1) -> #VALUE! | U8: =E8&"高" -> 高
A9: {=_xlfn.IFS(高校選手データ貼り付け!B17="","",TRUE,高校選手データ貼り付け!B17)} | B9: {=_xlfn.IFS(A9="","",COUNTIF(高校選手データ貼り付け!D18," ")>0,LEFT(高校選手データ貼り付け!D18,FIND(" ",高校選手データ貼り付け!D18)-1),TRUE,LEFT(高校選手データ貼り付け!D18,FIND(" ",高校選手データ貼り付け!D18)-1))} | C9: {=_xlfn.IFS(A9="","",COUNTIF(高校選手データ貼り付け!D18," ")>0,RIGHT(高校選手データ貼り付け!D18,LEN(高校選手データ貼り付け!D18)-FIND(" ",高校選手データ貼り付け!D18)),TRUE,RIGHT(高校選手データ貼り付け!D18,LEN(高校選手データ貼り付け!D18)-FIND(" ",高校選手データ貼り付け!D18)))} | E9: {=_xlfn.IFS(A9="","",TRUE,高校選手データ貼り付け!$P$4&"高")} | F9: {=_xlfn.IFS(A9="","",TRUE,高校選手データ貼り付け!K17)} | J9: {=_xlfn.IFS(A9="","",COUNTIF(高校選手データ貼り付け!D17," ")>0,ASC(LEFT(高校選手データ貼り付け!D17,FIND(" ",高校選手データ貼り付け!D17)-1)),TRUE,ASC(LEFT(高校選手データ貼り付け!D17,FIND(" ",高校選手データ貼り付け!D17)-1)))} | K9: {=_xlfn.IFS(A9="","",COUNTIF(高校選手データ貼り付け!D17," ")>0,ASC(RIGHT(高校選手データ貼り付け!D17,LEN(高校選手データ貼り付け!D17)-FIND(" ",高校選手データ貼り付け!D17))),TRUE,ASC(RIGHT(高校選手データ貼り付け!D17,LEN(高校選手データ貼り付け!D17)-FIND(" ",高校選手データ貼り付け!D17))))} | N9: {=_xlfn.IFS(A9="","",TRUE,高校選手データ貼り付け!F17&"."&TEXT(高校選手データ貼り付け!H17,"00")&"."&TEXT(高校選手データ貼り付け!J17,"00"))} | O9: {=_xlfn.IFS(A9="","",TRUE,"JPN")} | P9: =LEFT(B9,FIND(" ",B9)-1) -> #VALUE! | Q9: =RIGHT(B9,LEN(B9)-FIND(" ",B9)) -> #VALUE! | R9: =ASC(LEFT(J9,FIND(" ",J9)-1)) -> #VALUE! | S9: =ASC(RIGHT(J9,LEN(J9)-FIND(" ",J9))) -> #VALUE! | T9: =LEFT(O9,FIND(" ",O9)-1) -> #VALUE! | U9: =E9&"高" -> 高
A10: {=_xlfn.IFS(高校選手データ貼り付け!B18="","",TRUE,高校選手データ貼り付け!B18)} | B10: {=_xlfn.IFS(A10="","",COUNTIF(高校選手データ貼り付け!D19," ")>0,LEFT(高校選手データ貼り付け!D19,FIND(" ",高校選手データ貼り付け!D19)-1),TRUE,LEFT(高校選手データ貼り付け!D19,FIND(" ",高校選手データ貼り付け!D19)-1))} | C10: {=_xlfn.IFS(A10="","",COUNTIF(高校選手データ貼り付け!D19," ")>0,RIGHT(高校選手データ貼り付け!D19,LEN(高校選手データ貼り付け!D19)-FIND(" ",高校選手データ貼り付け!D19)),TRUE,RIGHT(高校選手データ貼り付け!D19,LEN(高校選手データ貼り付け!D19)-FIND(" ",高校選手データ貼り付け!D19)))} | E10: {=_xlfn.IFS(A10="","",TRUE,高校選手データ貼り付け!$P$4&"高")} | F10: {=_xlfn.IFS(A10="","",TRUE,高校選手データ貼り付け!K18)} | J10: {=_xlfn.IFS(A10="","",COUNTIF(高校選手データ貼り付け!D18," ")>0,ASC(LEFT(高校選手データ貼り付け!D18,FIND(" ",高校選手データ貼り付け!D18)-1)),TRUE,ASC(LEFT(高校選手データ貼り付け!D18,FIND(" ",高校選手データ貼り付け!D18)-1)))} | K10: {=_xlfn.IFS(A10="","",COUNTIF(高校選手データ貼り付け!D18," ")>0,ASC(RIGHT(高校選手データ貼り付け!D18,LEN(高校選手データ貼り付け!D18)-FIND(" ",高校選手データ貼り付け!D18))),TRUE,ASC(RIGHT(高校選手データ貼り付け!D18,LEN(高校選手データ貼り付け!D18)-FIND(" ",高校選手データ貼り付け!D18))))} | N10: {=_xlfn.IFS(A10="","",TRUE,高校選手データ貼り付け!F18&"."&TEXT(高校選手データ貼り付け!H18,"00")&"."&TEXT(高校選手データ貼り付け!J18,"00"))} | O10: {=_xlfn.IFS(A10="","",TRUE,"JPN")} | P10: =LEFT(B10,FIND(" ",B10)-1) -> #VALUE! | Q10: =RIGHT(B10,LEN(B10)-FIND(" ",B10)) -> #VALUE! | R10: =ASC(LEFT(J10,FIND(" ",J10)-1)) -> #VALUE! | S10: =ASC(RIGHT(J10,LEN(J10)-FIND(" ",J10))) -> #VALUE! | T10: =LEFT(O10,FIND(" ",O10)-1) -> #VALUE! | U10: =E10&"高" -> 高
A11: {=_xlfn.IFS(高校選手データ貼り付け!B19="","",TRUE,高校選手データ貼り付け!B19)} | B11: {=_xlfn.IFS(A11="","",COUNTIF(高校選手データ貼り付け!D20," ")>0,LEFT(高校選手データ貼り付け!D20,FIND(" ",高校選手データ貼り付け!D20)-1),TRUE,LEFT(高校選手データ貼り付け!D20,FIND(" ",高校選手データ貼り付け!D20)-1))} | C11: {=_xlfn.IFS(A11="","",COUNTIF(高校選手データ貼り付け!D20," ")>0,RIGHT(高校選手データ貼り付け!D20,LEN(高校選手データ貼り付け!D20)-FIND(" ",高校選手データ貼り付け!D20)),TRUE,RIGHT(高校選手データ貼り付け!D20,LEN(高校選手データ貼り付け!D20)-FIND(" ",高校選手データ貼り付け!D20)))} | E11: {=_xlfn.IFS(A11="","",TRUE,高校選手データ貼り付け!$P$4&"高")} | F11: {=_xlfn.IFS(A11="","",TRUE,高校選手データ貼り付け!K19)} | J11: {=_xlfn.IFS(A11="","",COUNTIF(高校選手データ貼り付け!D19," ")>0,ASC(LEFT(高校選手データ貼り付け!D19,FIND(" ",高校選手データ貼り付け!D19)-1)),TRUE,ASC(LEFT(高校選手データ貼り付け!D19,FIND(" ",高校選手データ貼り付け!D19)-1)))} | K11: {=_xlfn.IFS(A11="","",COUNTIF(高校選手データ貼り付け!D19," ")>0,ASC(RIGHT(高校選手データ貼り付け!D19,LEN(高校選手データ貼り付け!D19)-FIND(" ",高校選手データ貼り付け!D19))),TRUE,ASC(RIGHT(高校選手データ貼り付け!D19,LEN(高校選手データ貼り付け!D19)-FIND(" ",高校選手データ貼り付け!D19))))} | N11: {=_xlfn.IFS(A11="","",TRUE,高校選手データ貼り付け!F19&"."&TEXT(高校選手データ貼り付け!H19,"00")&"."&TEXT(高校選手データ貼り付け!J19,"00"))} | O11: {=_xlfn.IFS(A11="","",TRUE,"JPN")} | P11: =LEFT(B11,FIND(" ",B11)-1) -> #VALUE! | Q11: =RIGHT(B11,LEN(B11)-FIND(" ",B11)) -> #VALUE! | R11: =ASC(LEFT(J11,FIND(" ",J11)-1)) -> #VALUE! | S11: =ASC(RIGHT(J11,LEN(J11)-FIND(" ",J11))) -> #VALUE! | T11: =LEFT(O11,FIND(" ",O11)-1) -> #VALUE! | U11: =E11&"高" -> 高
A12: {=_xlfn.IFS(高校選手データ貼り付け!B20="","",TRUE,高校選手データ貼り付け!B20)} | B12: {=_xlfn.IFS(A12="","",COUNTIF(高校選手データ貼り付け!D21," ")>0,LEFT(高校選手データ貼り付け!D21,FIND(" ",高校選手データ貼り付け!D21)-1),TRUE,LEFT(高校選手データ貼り付け!D21,FIND(" ",高校選手データ貼り付け!D21)-1))} | C12: {=_xlfn.IFS(A12="","",COUNTIF(高校選手データ貼り付け!D21," ")>0,RIGHT(高校選手データ貼り付け!D21,LEN(高校選手データ貼り付け!D21)-FIND(" ",高校選手データ貼り付け!D21)),TRUE,RIGHT(高校選手データ貼り付け!D21,LEN(高校選手データ貼り付け!D21)-FIND(" ",高校選手データ貼り付け!D21)))} | E12: {=_xlfn.IFS(A12="","",TRUE,高校選手データ貼り付け!$P$4&"高")} | F12: {=_xlfn.IFS(A12="","",TRUE,高校選手データ貼り付け!K20)} | J12: {=_xlfn.IFS(A12="","",COUNTIF(高校選手データ貼り付け!D20," ")>0,ASC(LEFT(高校選手データ貼り付け!D20,FIND(" ",高校選手データ貼り付け!D20)-1)),TRUE,ASC(LEFT(高校選手データ貼り付け!D20,FIND(" ",高校選手データ貼り付け!D20)-1)))} | K12: {=_xlfn.IFS(A12="","",COUNTIF(高校選手データ貼り付け!D20," ")>0,ASC(RIGHT(高校選手データ貼り付け!D20,LEN(高校選手データ貼り付け!D20)-FIND(" ",高校選手データ貼り付け!D20))),TRUE,ASC(RIGHT(高校選手データ貼り付け!D20,LEN(高校選手データ貼り付け!D20)-FIND(" ",高校選手データ貼り付け!D20))))} | N12: {=_xlfn.IFS(A12="","",TRUE,高校選手データ貼り付け!F20&"."&TEXT(高校選手データ貼り付け!H20,"00")&"."&TEXT(高校選手データ貼り付け!J20,"00"))} | O12: {=_xlfn.IFS(A12="","",TRUE,"JPN")} | P12: =LEFT(B12,FIND(" ",B12)-1) -> #VALUE! | Q12: =RIGHT(B12,LEN(B12)-FIND(" ",B12)) -> #VALUE! | R12: =ASC(LEFT(J12,FIND(" ",J12)-1)) -> #VALUE! | S12: =ASC(RIGHT(J12,LEN(J12)-FIND(" ",J12))) -> #VALUE! | T12: =LEFT(O12,FIND(" ",O12)-1) -> #VALUE! | U12: =E12&"高" -> 高
A13: {=_xlfn.IFS(高校選手データ貼り付け!B21="","",TRUE,高校選手データ貼り付け!B21)} | B13: {=_xlfn.IFS(A13="","",COUNTIF(高校選手データ貼り付け!D22," ")>0,LEFT(高校選手データ貼り付け!D22,FIND(" ",高校選手データ貼り付け!D22)-1),TRUE,LEFT(高校選手データ貼り付け!D22,FIND(" ",高校選手データ貼り付け!D22)-1))} | C13: {=_xlfn.IFS(A13="","",COUNTIF(高校選手データ貼り付け!D22," ")>0,RIGHT(高校選手データ貼り付け!D22,LEN(高校選手データ貼り付け!D22)-FIND(" ",高校選手データ貼り付け!D22)),TRUE,RIGHT(高校選手データ貼り付け!D22,LEN(高校選手データ貼り付け!D22)-FIND(" ",高校選手データ貼り付け!D22)))} | E13: {=_xlfn.IFS(A13="","",TRUE,高校選手データ貼り付け!$P$4&"高")} | F13: {=_xlfn.IFS(A13="","",TRUE,高校選手データ貼り付け!K21)} | J13: {=_xlfn.IFS(A13="","",COUNTIF(高校選手データ貼り付け!D21," ")>0,ASC(LEFT(高校選手データ貼り付け!D21,FIND(" ",高校選手データ貼り付け!D21)-1)),TRUE,ASC(LEFT(高校選手データ貼り付け!D21,FIND(" ",高校選手データ貼り付け!D21)-1)))} | K13: {=_xlfn.IFS(A13="","",COUNTIF(高校選手データ貼り付け!D21," ")>0,ASC(RIGHT(高校選手データ貼り付け!D21,LEN(高校選手データ貼り付け!D21)-FIND(" ",高校選手データ貼り付け!D21))),TRUE,ASC(RIGHT(高校選手データ貼り付け!D21,LEN(高校選手データ貼り付け!D21)-FIND(" ",高校選手データ貼り付け!D21))))} | N13: {=_xlfn.IFS(A13="","",TRUE,高校選手データ貼り付け!F21&"."&TEXT(高校選手データ貼り付け!H21,"00")&"."&TEXT(高校選手データ貼り付け!J21,"00"))} | O13: {=_xlfn.IFS(A13="","",TRUE,"JPN")} | P13: =LEFT(B13,FIND(" ",B13)-1) -> #VALUE! | Q13: =RIGHT(B13,LEN(B13)-FIND(" ",B13)) -> #VALUE! | R13: =ASC(LEFT(J13,FIND(" ",J13)-1)) -> #VALUE! | S13: =ASC(RIGHT(J13,LEN(J13)-FIND(" ",J13))) -> #VALUE! | T13: =LEFT(O13,FIND(" ",O13)-1) -> #VALUE! | U13: =E13&"高" -> 高
... A211: {=_xlfn.IFS(高校選手データ貼り付け!B219="","",TRUE,高校選手データ貼り付け!B219)} | B211: {=_xlfn.IFS(A211="","",COUNTIF(高校選手データ貼り付け!D220," ")>0,LEFT(高校選手データ貼り付け!D220,FIND(" ",高校選手データ貼り付け!D220)-1),TRUE,LEFT(高校選手データ貼り付け!D220,FIND(" ",高校選手データ貼り付け!D220)-1))} | C211: {=_xlfn.IFS(A211="","",COUNTIF(高校選手データ貼り付け!D220," ")>0,RIGHT(高校選手データ貼り付け!D220,LEN(高校選手データ貼り付け!D220)-FIND(" ",高校選手データ貼り付け!D220)),TRUE,RIGHT(高校選手データ貼り付け!D220,LEN(高校選手データ貼り付け!D220)-FIND(" ",高校選手データ貼り付け!D220)))} | E211: {=_xlfn.IFS(A211="","",TRUE,高校選手データ貼り付け!$P$4&"高")} | F211: {=_xlfn.IFS(A211="","",TRUE,高校選手データ貼り付け!K219)} | J211: {=_xlfn.IFS(A211="","",COUNTIF(高校選手データ貼り付け!D219," ")>0,ASC(LEFT(高校選手データ貼り付け!D219,FIND(" ",高校選手データ貼り付け!D219)-1)),TRUE,ASC(LEFT(高校選手データ貼り付け!D219,FIND(" ",高校選手データ貼り付け!D219)-1)))} | K211: {=_xlfn.IFS(A211="","",COUNTIF(高校選手データ貼り付け!D219," ")>0,ASC(RIGHT(高校選手データ貼り付け!D219,LEN(高校選手データ貼り付け!D219)-FIND(" ",高校選手データ貼り付け!D219))),TRUE,ASC(RIGHT(高校選手データ貼り付け!D219,LEN(高校選手データ貼り付け!D219)-FIND(" ",高校選手データ貼り付け!D219))))} | N211: {=_xlfn.IFS(A211="","",TRUE,高校選手データ貼り付け!F219&"."&TEXT(高校選手データ貼り付け!H219,"00")&"."&TEXT(高校選手データ貼り付け!J219,"00"))} | O211: {=_xlfn.IFS(A211="","",TRUE,"JPN")} | P211: =LEFT(B211,FIND(" ",B211)-1) -> #VALUE! | Q211: =RIGHT(B211,LEN(B211)-FIND(" ",B211)) -> #VALUE! | R211: =ASC(LEFT(J211,FIND(" ",J211)-1)) -> #VALUE! | S211: =ASC(RIGHT(J211,LEN(J211)-FIND(" ",J211))) -> #VALUE! | T211: =LEFT(O211,FIND(" ",O211)-1) -> #VALUE! | U211: =E211&"高" -> 高

Sheet 高校女選手データ
A1: ナンバー | B1: 姓 | C1: 名 | D1: 支部 | E1: 所属 | F1: 学年 | G1: 登録日 | H1: 備考 | I1: 備考２ | J1: ﾌﾘｶﾞﾅ(姓) | K1: ﾌﾘｶﾞﾅ(名) | L1: FAMILY NAME | M1: Firstname | N1: Birthday | O1: 国籍
A2: {=_xlfn.IFS(高校選手データ貼り付け!N10="","",TRUE,高校選手データ貼り付け!N10)} | B2: {=_xlfn.IFS(A2="","",COUNTIF(高校選手データ貼り付け!P11," ")>0,LEFT(高校選手データ貼り付け!P11,FIND(" ",高校選手データ貼り付け!P11)-1),TRUE,LEFT(高校選手データ貼り付け!P11,FIND(" ",高校選手データ貼り付け!P11)-1))} | C2: {=_xlfn.IFS(A2="","",COUNTIF(高校選手データ貼り付け!P11," ")>0,RIGHT(高校選手データ貼り付け!P11,LEN(高校選手データ貼り付け!P11)-FIND(" ",高校選手データ貼り付け!P11)),TRUE,RIGHT(高校選手データ貼り付け!P11,LEN(高校選手データ貼り付け!P11)-FIND(" ",高校選手データ貼り付け!P11)))} | E2: {=_xlfn.IFS(A2="","",TRUE,高校選手データ貼り付け!$P$4&"高")} | F2: {=_xlfn.IFS(A2="","",TRUE,高校選手データ貼り付け!W10)} | J2: {=_xlfn.IFS(A2="","",COUNTIF(高校選手データ貼り付け!P10," ")>0,ASC(LEFT(高校選手データ貼り付け!P10,FIND(" ",高校選手データ貼り付け!P10)-1)),TRUE,ASC(LEFT(高校選手データ貼り付け!P10,FIND(" ",高校選手データ貼り付け!P10)-1)))} | K2: {=_xlfn.IFS(A2="","",COUNTIF(高校選手データ貼り付け!P10," ")>0,ASC(RIGHT(高校選手データ貼り付け!P10,LEN(高校選手データ貼り付け!P10)-FIND(" ",高校選手データ貼り付け!P10))),TRUE,ASC(RIGHT(高校選手データ貼り付け!P10,LEN(高校選手データ貼り付け!P10)-FIND(" ",高校選手データ貼り付け!P10))))} | N2: {=_xlfn.IFS(A2="","",TRUE,高校選手データ貼り付け!R10&"."&TEXT(高校選手データ貼り付け!T10,"00")&"."&TEXT(高校選手データ貼り付け!V10,"00"))} | O2: {=_xlfn.IFS(A2="","",TRUE,"JPN")} | P2: =LEFT(B2,FIND(" ",B2)-1) -> #VALUE! | Q2: =RIGHT(B2,LEN(B2)-FIND(" ",B2)) -> #VALUE! | R2: =ASC(LEFT(J2,FIND(" ",J2)-1)) -> #VALUE! | S2: =ASC(RIGHT(J2,LEN(J2)-FIND(" ",J2))) -> #VALUE! | T2: =LEFT(O2,FIND(" ",O2)-1) -> #VALUE! | U2: =E2&"高" -> 高
A3: {=_xlfn.IFS(高校選手データ貼り付け!N11="","",TRUE,高校選手データ貼り付け!N11)} | B3: {=_xlfn.IFS(A3="","",COUNTIF(高校選手データ貼り付け!P12," ")>0,LEFT(高校選手データ貼り付け!P12,FIND(" ",高校選手データ貼り付け!P12)-1),TRUE,LEFT(高校選手データ貼り付け!P12,FIND(" ",高校選手データ貼り付け!P12)-1))} | C3: {=_xlfn.IFS(A3="","",COUNTIF(高校選手データ貼り付け!P12," ")>0,RIGHT(高校選手データ貼り付け!P12,LEN(高校選手データ貼り付け!P12)-FIND(" ",高校選手データ貼り付け!P12)),TRUE,RIGHT(高校選手データ貼り付け!P12,LEN(高校選手データ貼り付け!P12)-FIND(" ",高校選手データ貼り付け!P12)))} | E3: {=_xlfn.IFS(A3="","",TRUE,高校選手データ貼り付け!$P$4&"高")} | F3: {=_xlfn.IFS(A3="","",TRUE,高校選手データ貼り付け!W11)} | J3: {=_xlfn.IFS(A3="","",COUNTIF(高校選手データ貼り付け!P11," ")>0,ASC(LEFT(高校選手データ貼り付け!P11,FIND(" ",高校選手データ貼り付け!P11)-1)),TRUE,ASC(LEFT(高校選手データ貼り付け!P11,FIND(" ",高校選手データ貼り付け!P11)-1)))} | K3: {=_xlfn.IFS(A3="","",COUNTIF(高校選手データ貼り付け!P11," ")>0,ASC(RIGHT(高校選手データ貼り付け!P11,LEN(高校選手データ貼り付け!P11)-FIND(" ",高校選手データ貼り付け!P11))),TRUE,ASC(RIGHT(高校選手データ貼り付け!P11,LEN(高校選手データ貼り付け!P11)-FIND(" ",高校選手データ貼り付け!P11))))} | N3: {=_xlfn.IFS(A3="","",TRUE,高校選手データ貼り付け!R11&"."&TEXT(高校選手データ貼り付け!T11,"00")&"."&TEXT(高校選手データ貼り付け!V11,"00"))} | O3: {=_xlfn.IFS(A3="","",TRUE,"JPN")} | P3: =LEFT(B3,FIND(" ",B3)-1) -> #VALUE! | Q3: =RIGHT(B3,LEN(B3)-FIND(" ",B3)) -> #VALUE! | R3: =ASC(LEFT(J3,FIND(" ",J3)-1)) -> #VALUE! | S3: =ASC(RIGHT(J3,LEN(J3)-FIND(" ",J3))) -> #VALUE! | T3: =LEFT(O3,FIND(" ",O3)-1) -> #VALUE! | U3: =E3&"高" -> 高
A4: {=_xlfn.IFS(高校選手データ貼り付け!N12="","",TRUE,高校選手データ貼り付け!N12)} | B4: {=_xlfn.IFS(A4="","",COUNTIF(高校選手データ貼り付け!P13," ")>0,LEFT(高校選手データ貼り付け!P13,FIND(" ",高校選手データ貼り付け!P13)-1),TRUE,LEFT(高校選手データ貼り付け!P13,FIND(" ",高校選手データ貼り付け!P13)-1))} | C4: {=_xlfn.IFS(A4="","",COUNTIF(高校選手データ貼り付け!P13," ")>0,RIGHT(高校選手データ貼り付け!P13,LEN(高校選手データ貼り付け!P13)-FIND(" ",高校選手データ貼り付け!P13)),TRUE,RIGHT(高校選手データ貼り付け!P13,LEN(高校選手データ貼り付け!P13)-FIND(" ",高校選手データ貼り付け!P13)))} | E4: {=_xlfn.IFS(A4="","",TRUE,高校選手データ貼り付け!$P$4&"高")} | F4: {=_xlfn.IFS(A4="","",TRUE,高校選手データ貼り付け!W12)} | J4: {=_xlfn.IFS(A4="","",COUNTIF(高校選手データ貼り付け!P12," ")>0,ASC(LEFT(高校選手データ貼り付け!P12,FIND(" ",高校選手データ貼り付け!P12)-1)),TRUE,ASC(LEFT(高校選手データ貼り付け!P12,FIND(" ",高校選手データ貼り付け!P12)-1)))} | K4: {=_xlfn.IFS(A4="","",COUNTIF(高校選手データ貼り付け!P12," ")>0,ASC(RIGHT(高校選手データ貼り付け!P12,LEN(高校選手データ貼り付け!P12)-FIND(" ",高校選手データ貼り付け!P12))),TRUE,ASC(RIGHT(高校選手データ貼り付け!P12,LEN(高校選手データ貼り付け!P12)-FIND(" ",高校選手データ貼り付け!P12))))} | N4: {=_xlfn.IFS(A4="","",TRUE,高校選手データ貼り付け!R12&"."&TEXT(高校選手データ貼り付け!T12,"00")&"."&TEXT(高校選手データ貼り付け!V12,"00"))} | O4: {=_xlfn.IFS(A4="","",TRUE,"JPN")} | P4: =LEFT(B4,FIND(" ",B4)-1) -> #VALUE! | Q4: =RIGHT(B4,LEN(B4)-FIND(" ",B4)) -> #VALUE! | R4: =ASC(LEFT(J4,FIND(" ",J4)-1)) -> #VALUE! | S4: =ASC(RIGHT(J4,LEN(J4)-FIND(" ",J4))) -> #VALUE! | T4: =LEFT(O4,FIND(" ",O4)-1) -> #VALUE! | U4: =E4&"高" -> 高
A5: {=_xlfn.IFS(高校選手データ貼り付け!N13="","",TRUE,高校選手データ貼り付け!N13)} | B5: {=_xlfn.IFS(A5="","",COUNTIF(高校選手データ貼り付け!P14," ")>0,LEFT(高校選手データ貼り付け!P14,FIND(" ",高校選手データ貼り付け!P14)-1),TRUE,LEFT(高校選手データ貼り付け!P14,FIND(" ",高校選手データ貼り付け!P14)-1))} | C5: {=_xlfn.IFS(A5="","",COUNTIF(高校選手データ貼り付け!P14," ")>0,RIGHT(高校選手データ貼り付け!P14,LEN(高校選手データ貼り付け!P14)-FIND(" ",高校選手データ貼り付け!P14)),TRUE,RIGHT(高校選手データ貼り付け!P14,LEN(高校選手データ貼り付け!P14)-FIND(" ",高校選手データ貼り付け!P14)))} | E5: {=_xlfn.IFS(A5="","",TRUE,高校選手データ貼り付け!$P$4&"高")} | F5: {=_xlfn.IFS(A5="","",TRUE,高校選手データ貼り付け!W13)} | J5: {=_xlfn.IFS(A5="","",COUNTIF(高校選手データ貼り付け!P13," ")>0,ASC(LEFT(高校選手データ貼り付け!P13,FIND(" ",高校選手データ貼り付け!P13)-1)),TRUE,ASC(LEFT(高校選手データ貼り付け!P13,FIND(" ",高校選手データ貼り付け!P13)-1)))} | K5: {=_xlfn.IFS(A5="","",COUNTIF(高校選手データ貼り付け!P13," ")>0,ASC(RIGHT(高校選手データ貼り付け!P13,LEN(高校選手データ貼り付け!P13)-FIND(" ",高校選手データ貼り付け!P13))),TRUE,ASC(RIGHT(高校選手データ貼り付け!P13,LEN(高校選手データ貼り付け!P13)-FIND(" ",高校選手データ貼り付け!P13))))} | N5: {=_xlfn.IFS(A5="","",TRUE,高校選手データ貼り付け!R13&"."&TEXT(高校選手データ貼り付け!T13,"00")&"."&TEXT(高校選手データ貼り付け!V13,"00"))} | O5: {=_xlfn.IFS(A5="","",TRUE,"JPN")} | P5: =LEFT(B5,FIND(" ",B5)-1) -> #VALUE! | Q5: =RIGHT(B5,LEN(B5)-FIND(" ",B5)) -> #VALUE! | R5: =ASC(LEFT(J5,FIND(" ",J5)-1)) -> #VALUE! | S5: =ASC(RIGHT(J5,LEN(J5)-FIND(" ",J5))) -> #VALUE! | T5: =LEFT(O5,FIND(" ",O5)-1) -> #VALUE! | U5: =E5&"高" -> 高
A6: {=_xlfn.IFS(高校選手データ貼り付け!N14="","",TRUE,高校選手データ貼り付け!N14)} | B6: {=_xlfn.IFS(A6="","",COUNTIF(高校選手データ貼り付け!P15," ")>0,LEFT(高校選手データ貼り付け!P15,FIND(" ",高校選手データ貼り付け!P15)-1),TRUE,LEFT(高校選手データ貼り付け!P15,FIND(" ",高校選手データ貼り付け!P15)-1))} | C6: {=_xlfn.IFS(A6="","",COUNTIF(高校選手データ貼り付け!P15," ")>0,RIGHT(高校選手データ貼り付け!P15,LEN(高校選手データ貼り付け!P15)-FIND(" ",高校選手データ貼り付け!P15)),TRUE,RIGHT(高校選手データ貼り付け!P15,LEN(高校選手データ貼り付け!P15)-FIND(" ",高校選手データ貼り付け!P15)))} | E6: {=_xlfn.IFS(A6="","",TRUE,高校選手データ貼り付け!$P$4&"高")} | F6: {=_xlfn.IFS(A6="","",TRUE,高校選手データ貼り付け!W14)} | J6: {=_xlfn.IFS(A6="","",COUNTIF(高校選手データ貼り付け!P14," ")>0,ASC(LEFT(高校選手データ貼り付け!P14,FIND(" ",高校選手データ貼り付け!P14)-1)),TRUE,ASC(LEFT(高校選手データ貼り付け!P14,FIND(" ",高校選手データ貼り付け!P14)-1)))} | K6: {=_xlfn.IFS(A6="","",COUNTIF(高校選手データ貼り付け!P14," ")>0,ASC(RIGHT(高校選手データ貼り付け!P14,LEN(高校選手データ貼り付け!P14)-FIND(" ",高校選手データ貼り付け!P14))),TRUE,ASC(RIGHT(高校選手データ貼り付け!P14,LEN(高校選手データ貼り付け!P14)-FIND(" ",高校選手データ貼り付け!P14))))} | N6: {=_xlfn.IFS(A6="","",TRUE,高校選手データ貼り付け!R14&"."&TEXT(高校選手データ貼り付け!T14,"00")&"."&TEXT(高校選手データ貼り付け!V14,"00"))} | O6: {=_xlfn.IFS(A6="","",TRUE,"JPN")} | P6: =LEFT(B6,FIND(" ",B6)-1) -> #VALUE! | Q6: =RIGHT(B6,LEN(B6)-FIND(" ",B6)) -> #VALUE! | R6: =ASC(LEFT(J6,FIND(" ",J6)-1)) -> #VALUE! | S6: =ASC(RIGHT(J6,LEN(J6)-FIND(" ",J6))) -> #VALUE! | T6: =LEFT(O6,FIND(" ",O6)-1) -> #VALUE! | U6: =E6&"高" -> 高
A7: {=_xlfn.IFS(高校選手データ貼り付け!N15="","",TRUE,高校選手データ貼り付け!N15)} | B7: {=_xlfn.IFS(A7="","",COUNTIF(高校選手データ貼り付け!P16," ")>0,LEFT(高校選手データ貼り付け!P16,FIND(" ",高校選手データ貼り付け!P16)-1),TRUE,LEFT(高校選手データ貼り付け!P16,FIND(" ",高校選手データ貼り付け!P16)-1))} | C7: {=_xlfn.IFS(A7="","",COUNTIF(高校選手データ貼り付け!P16," ")>0,RIGHT(高校選手データ貼り付け!P16,LEN(高校選手データ貼り付け!P16)-FIND(" ",高校選手データ貼り付け!P16)),TRUE,RIGHT(高校選手データ貼り付け!P16,LEN(高校選手データ貼り付け!P16)-FIND(" ",高校選手データ貼り付け!P16)))} | E7: {=_xlfn.IFS(A7="","",TRUE,高校選手データ貼り付け!$P$4&"高")} | F7: {=_xlfn.IFS(A7="","",TRUE,高校選手データ貼り付け!W15)} | J7: {=_xlfn.IFS(A7="","",COUNTIF(高校選手データ貼り付け!P15," ")>0,ASC(LEFT(高校選手データ貼り付け!P15,FIND(" ",高校選手データ貼り付け!P15)-1)),TRUE,ASC(LEFT(高校選手データ貼り付け!P15,FIND(" ",高校選手データ貼り付け!P15)-1)))} | K7: {=_xlfn.IFS(A7="","",COUNTIF(高校選手データ貼り付け!P15," ")>0,ASC(RIGHT(高校選手データ貼り付け!P15,LEN(高校選手データ貼り付け!P15)-FIND(" ",高校選手データ貼り付け!P15))),TRUE,ASC(RIGHT(高校選手データ貼り付け!P15,LEN(高校選手データ貼り付け!P15)-FIND(" ",高校選手データ貼り付け!P15))))} | N7: {=_xlfn.IFS(A7="","",TRUE,高校選手データ貼り付け!R15&"."&TEXT(高校選手データ貼り付け!T15,"00")&"."&TEXT(高校選手データ貼り付け!V15,"00"))} | O7: {=_xlfn.IFS(A7="","",TRUE,"JPN")} | P7: =LEFT(B7,FIND(" ",B7)-1) -> #VALUE! | Q7: =RIGHT(B7,LEN(B7)-FIND(" ",B7)) -> #VALUE! | R7: =ASC(LEFT(J7,FIND(" ",J7)-1)) -> #VALUE! | S7: =ASC(RIGHT(J7,LEN(J7)-FIND(" ",J7))) -> #VALUE! | T7: =LEFT(O7,FIND(" ",O7)-1) -> #VALUE! | U7: =E7&"高" -> 高
A8: {=_xlfn.IFS(高校選手データ貼り付け!N16="","",TRUE,高校選手データ貼り付け!N16)} | B8: {=_xlfn.IFS(A8="","",COUNTIF(高校選手データ貼り付け!P17," ")>0,LEFT(高校選手データ貼り付け!P17,FIND(" ",高校選手データ貼り付け!P17)-1),TRUE,LEFT(高校選手データ貼り付け!P17,FIND(" ",高校選手データ貼り付け!P17)-1))} | C8: {=_xlfn.IFS(A8="","",COUNTIF(高校選手データ貼り付け!P17," ")>0,RIGHT(高校選手データ貼り付け!P17,LEN(高校選手データ貼り付け!P17)-FIND(" ",高校選手データ貼り付け!P17)),TRUE,RIGHT(高校選手データ貼り付け!P17,LEN(高校選手データ貼り付け!P17)-FIND(" ",高校選手データ貼り付け!P17)))} | E8: {=_xlfn.IFS(A8="","",TRUE,高校選手データ貼り付け!$P$4&"高")} | F8: {=_xlfn.IFS(A8="","",TRUE,高校選手データ貼り付け!W16)} | J8: {=_xlfn.IFS(A8="","",COUNTIF(高校選手データ貼り付け!P16," ")>0,ASC(LEFT(高校選手データ貼り付け!P16,FIND(" ",高校選手データ貼り付け!P16)-1)),TRUE,ASC(LEFT(高校選手データ貼り付け!P16,FIND(" ",高校選手データ貼り付け!P16)-1)))} | K8: {=_xlfn.IFS(A8="","",COUNTIF(高校選手データ貼り付け!P16," ")>0,ASC(RIGHT(高校選手データ貼り付け!P16,LEN(高校選手データ貼り付け!P16)-FIND(" ",高校選手データ貼り付け!P16))),TRUE,ASC(RIGHT(高校選手データ貼り付け!P16,LEN(高校選手データ貼り付け!P16)-FIND(" ",高校選手データ貼り付け!P16))))} | N8: {=_xlfn.IFS(A8="","",TRUE,高校選手データ貼り付け!R16&"."&TEXT(高校選手データ貼り付け!T16,"00")&"."&TEXT(高校選手データ貼り付け!V16,"00"))} | O8: {=_xlfn.IFS(A8="","",TRUE,"JPN")} | P8: =LEFT(B8,FIND(" ",B8)-1) -> #VALUE! | Q8: =RIGHT(B8,LEN(B8)-FIND(" ",B8)) -> #VALUE! | R8: =ASC(LEFT(J8,FIND(" ",J8)-1)) -> #VALUE! | S8: =ASC(RIGHT(J8,LEN(J8)-FIND(" ",J8))) -> #VALUE! | T8: =LEFT(O8,FIND(" ",O8)-1) -> #VALUE! | U8: =E8&"高" -> 高
A9: {=_xlfn.IFS(高校選手データ貼り付け!N17="","",TRUE,高校選手データ貼り付け!N17)} | B9: {=_xlfn.IFS(A9="","",COUNTIF(高校選手データ貼り付け!P18," ")>0,LEFT(高校選手データ貼り付け!P18,FIND(" ",高校選手データ貼り付け!P18)-1),TRUE,LEFT(高校選手データ貼り付け!P18,FIND(" ",高校選手データ貼り付け!P18)-1))} | C9: {=_xlfn.IFS(A9="","",COUNTIF(高校選手データ貼り付け!P18," ")>0,RIGHT(高校選手データ貼り付け!P18,LEN(高校選手データ貼り付け!P18)-FIND(" ",高校選手データ貼り付け!P18)),TRUE,RIGHT(高校選手データ貼り付け!P18,LEN(高校選手データ貼り付け!P18)-FIND(" ",高校選手データ貼り付け!P18)))} | E9: {=_xlfn.IFS(A9="","",TRUE,高校選手データ貼り付け!$P$4&"高")} | F9: {=_xlfn.IFS(A9="","",TRUE,高校選手データ貼り付け!W17)} | J9: {=_xlfn.IFS(A9="","",COUNTIF(高校選手データ貼り付け!P17," ")>0,ASC(LEFT(高校選手データ貼り付け!P17,FIND(" ",高校選手データ貼り付け!P17)-1)),TRUE,ASC(LEFT(高校選手データ貼り付け!P17,FIND(" ",高校選手データ貼り付け!P17)-1)))} | K9: {=_xlfn.IFS(A9="","",COUNTIF(高校選手データ貼り付け!P17," ")>0,ASC(RIGHT(高校選手データ貼り付け!P17,LEN(高校選手データ貼り付け!P17)-FIND(" ",高校選手データ貼り付け!P17))),TRUE,ASC(RIGHT(高校選手データ貼り付け!P17,LEN(高校選手データ貼り付け!P17)-FIND(" ",高校選手データ貼り付け!P17))))} | N9: {=_xlfn.IFS(A9="","",TRUE,高校選手データ貼り付け!R17&"."&TEXT(高校選手データ貼り付け!T17,"00")&"."&TEXT(高校選手データ貼り付け!V17,"00"))} | O9: {=_xlfn.IFS(A9="","",TRUE,"JPN")} | P9: =LEFT(B9,FIND(" ",B9)-1) -> #VALUE! | Q9: =RIGHT(B9,LEN(B9)-FIND(" ",B9)) -> #VALUE! | R9: =ASC(LEFT(J9,FIND(" ",J9)-1)) -> #VALUE! | S9: =ASC(RIGHT(J9,LEN(J9)-FIND(" ",J9))) -> #VALUE! | T9: =LEFT(O9,FIND(" ",O9)-1) -> #VALUE! | U9: =E9&"高" -> 高
A10: {=_xlfn.IFS(高校選手データ貼り付け!N18="","",TRUE,高校選手データ貼り付け!N18)} | B10: {=_xlfn.IFS(A10="","",COUNTIF(高校選手データ貼り付け!P19," ")>0,LEFT(高校選手データ貼り付け!P19,FIND(" ",高校選手データ貼り付け!P19)-1),TRUE,LEFT(高校選手データ貼り付け!P19,FIND(" ",高校選手データ貼り付け!P19)-1))} | C10: {=_xlfn.IFS(A10="","",COUNTIF(高校選手データ貼り付け!P19," ")>0,RIGHT(高校選手データ貼り付け!P19,LEN(高校選手データ貼り付け!P19)-FIND(" ",高校選手データ貼り付け!P19)),TRUE,RIGHT(高校選手データ貼り付け!P19,LEN(高校選手データ貼り付け!P19)-FIND(" ",高校選手データ貼り付け!P19)))} | E10: {=_xlfn.IFS(A10="","",TRUE,高校選手データ貼り付け!$P$4&"高")} | F10: {=_xlfn.IFS(A10="","",TRUE,高校選手データ貼り付け!W18)} | J10: {=_xlfn.IFS(A10="","",COUNTIF(高校選手データ貼り付け!P18," ")>0,ASC(LEFT(高校選手データ貼り付け!P18,FIND(" ",高校選手データ貼り付け!P18)-1)),TRUE,ASC(LEFT(高校選手データ貼り付け!P18,FIND(" ",高校選手データ貼り付け!P18)-1)))} | K10: {=_xlfn.IFS(A10="","",COUNTIF(高校選手データ貼り付け!P18," ")>0,ASC(RIGHT(高校選手データ貼り付け!P18,LEN(高校選手データ貼り付け!P18)-FIND(" ",高校選手データ貼り付け!P18))),TRUE,ASC(RIGHT(高校選手データ貼り付け!P18,LEN(高校選手データ貼り付け!P18)-FIND(" ",高校選手データ貼り付け!P18))))} | N10: {=_xlfn.IFS(A10="","",TRUE,高校選手データ貼り付け!R18&"."&TEXT(高校選手データ貼り付け!T18,"00")&"."&TEXT(高校選手データ貼り付け!V18,"00"))} | O10: {=_xlfn.IFS(A10="","",TRUE,"JPN")} | P10: =LEFT(B10,FIND(" ",B10)-1) -> #VALUE! | Q10: =RIGHT(B10,LEN(B10)-FIND(" ",B10)) -> #VALUE! | R10: =ASC(LEFT(J10,FIND(" ",J10)-1)) -> #VALUE! | S10: =ASC(RIGHT(J10,LEN(J10)-FIND(" ",J10))) -> #VALUE! | T10: =LEFT(O10,FIND(" ",O10)-1) -> #VALUE! | U10: =E10&"高" -> 高
A11: {=_xlfn.IFS(高校選手データ貼り付け!N19="","",TRUE,高校選手データ貼り付け!N19)} | B11: {=_xlfn.IFS(A11="","",COUNTIF(高校選手データ貼り付け!P20," ")>0,LEFT(高校選手データ貼り付け!P20,FIND(" ",高校選手データ貼り付け!P20)-1),TRUE,LEFT(高校選手データ貼り付け!P20,FIND(" ",高校選手データ貼り付け!P20)-1))} | C11: {=_xlfn.IFS(A11="","",COUNTIF(高校選手データ貼り付け!P20," ")>0,RIGHT(高校選手データ貼り付け!P20,LEN(高校選手データ貼り付け!P20)-FIND(" ",高校選手データ貼り付け!P20)),TRUE,RIGHT(高校選手データ貼り付け!P20,LEN(高校選手データ貼り付け!P20)-FIND(" ",高校選手データ貼り付け!P20)))} | E11: {=_xlfn.IFS(A11="","",TRUE,高校選手データ貼り付け!$P$4&"高")} | F11: {=_xlfn.IFS(A11="","",TRUE,高校選手データ貼り付け!W19)} | J11: {=_xlfn.IFS(A11="","",COUNTIF(高校選手データ貼り付け!P19," ")>0,ASC(LEFT(高校選手データ貼り付け!P19,FIND(" ",高校選手データ貼り付け!P19)-1)),TRUE,ASC(LEFT(高校選手データ貼り付け!P19,FIND(" ",高校選手データ貼り付け!P19)-1)))} | K11: {=_xlfn.IFS(A11="","",COUNTIF(高校選手データ貼り付け!P19," ")>0,ASC(RIGHT(高校選手データ貼り付け!P19,LEN(高校選手データ貼り付け!P19)-FIND(" ",高校選手データ貼り付け!P19))),TRUE,ASC(RIGHT(高校選手データ貼り付け!P19,LEN(高校選手データ貼り付け!P19)-FIND(" ",高校選手データ貼り付け!P19))))} | N11: {=_xlfn.IFS(A11="","",TRUE,高校選手データ貼り付け!R19&"."&TEXT(高校選手データ貼り付け!T19,"00")&"."&TEXT(高校選手データ貼り付け!V19,"00"))} | O11: {=_xlfn.IFS(A11="","",TRUE,"JPN")} | P11: =LEFT(B11,FIND(" ",B11)-1) -> #VALUE! | Q11: =RIGHT(B11,LEN(B11)-FIND(" ",B11)) -> #VALUE! | R11: =ASC(LEFT(J11,FIND(" ",J11)-1)) -> #VALUE! | S11: =ASC(RIGHT(J11,LEN(J11)-FIND(" ",J11))) -> #VALUE! | T11: =LEFT(O11,FIND(" ",O11)-1) -> #VALUE! | U11: =E11&"高" -> 高
A12: {=_xlfn.IFS(高校選手データ貼り付け!N20="","",TRUE,高校選手データ貼り付け!N20)} | B12: {=_xlfn.IFS(A12="","",COUNTIF(高校選手データ貼り付け!P21," ")>0,LEFT(高校選手データ貼り付け!P21,FIND(" ",高校選手データ貼り付け!P21)-1),TRUE,LEFT(高校選手データ貼り付け!P21,FIND(" ",高校選手データ貼り付け!P21)-1))} | C12: {=_xlfn.IFS(A12="","",COUNTIF(高校選手データ貼り付け!P21," ")>0,RIGHT(高校選手データ貼り付け!P21,LEN(高校選手データ貼り付け!P21)-FIND(" ",高校選手データ貼り付け!P21)),TRUE,RIGHT(高校選手データ貼り付け!P21,LEN(高校選手データ貼り付け!P21)-FIND(" ",高校選手データ貼り付け!P21)))} | E12: {=_xlfn.IFS(A12="","",TRUE,高校選手データ貼り付け!$P$4&"高")} | F12: {=_xlfn.IFS(A12="","",TRUE,高校選手データ貼り付け!W20)} | J12: {=_xlfn.IFS(A12="","",COUNTIF(高校選手データ貼り付け!P20," ")>0,ASC(LEFT(高校選手データ貼り付け!P20,FIND(" ",高校選手データ貼り付け!P20)-1)),TRUE,ASC(LEFT(高校選手データ貼り付け!P20,FIND(" ",高校選手データ貼り付け!P20)-1)))} | K12: {=_xlfn.IFS(A12="","",COUNTIF(高校選手データ貼り付け!P20," ")>0,ASC(RIGHT(高校選手データ貼り付け!P20,LEN(高校選手データ貼り付け!P20)-FIND(" ",高校選手データ貼り付け!P20))),TRUE,ASC(RIGHT(高校選手データ貼り付け!P20,LEN(高校選手データ貼り付け!P20)-FIND(" ",高校選手データ貼り付け!P20))))} | N12: {=_xlfn.IFS(A12="","",TRUE,高校選手データ貼り付け!R20&"."&TEXT(高校選手データ貼り付け!T20,"00")&"."&TEXT(高校選手データ貼り付け!V20,"00"))} | O12: {=_xlfn.IFS(A12="","",TRUE,"JPN")} | P12: =LEFT(B12,FIND(" ",B12)-1) -> #VALUE! | Q12: =RIGHT(B12,LEN(B12)-FIND(" ",B12)) -> #VALUE! | R12: =ASC(LEFT(J12,FIND(" ",J12)-1)) -> #VALUE! | S12: =ASC(RIGHT(J12,LEN(J12)-FIND(" ",J12))) -> #VALUE! | T12: =LEFT(O12,FIND(" ",O12)-1) -> #VALUE! | U12: =E12&"高" -> 高
A13: {=_xlfn.IFS(高校選手データ貼り付け!N21="","",TRUE,高校選手データ貼り付け!N21)} | B13: {=_xlfn.IFS(A13="","",COUNTIF(高校選手データ貼り付け!P22," ")>0,LEFT(高校選手データ貼り付け!P22,FIND(" ",高校選手データ貼り付け!P22)-1),TRUE,LEFT(高校選手データ貼り付け!P22,FIND(" ",高校選手データ貼り付け!P22)-1))} | C13: {=_xlfn.IFS(A13="","",COUNTIF(高校選手データ貼り付け!P22," ")>0,RIGHT(高校選手データ貼り付け!P22,LEN(高校選手データ貼り付け!P22)-FIND(" ",高校選手データ貼り付け!P22)),TRUE,RIGHT(高校選手データ貼り付け!P22,LEN(高校選手データ貼り付け!P22)-FIND(" ",高校選手データ貼り付け!P22)))} | E13: {=_xlfn.IFS(A13="","",TRUE,高校選手データ貼り付け!$P$4&"高")} | F13: {=_xlfn.IFS(A13="","",TRUE,高校選手データ貼り付け!W21)} | J13: {=_xlfn.IFS(A13="","",COUNTIF(高校選手データ貼り付け!P21," ")>0,ASC(LEFT(高校選手データ貼り付け!P21,FIND(" ",高校選手データ貼り付け!P21)-1)),TRUE,ASC(LEFT(高校選手データ貼り付け!P21,FIND(" ",高校選手データ貼り付け!P21)-1)))} | K13: {=_xlfn.IFS(A13="","",COUNTIF(高校選手データ貼り付け!P21," ")>0,ASC(RIGHT(高校選手データ貼り付け!P21,LEN(高校選手データ貼り付け!P21)-FIND(" ",高校選手データ貼り付け!P21))),TRUE,ASC(RIGHT(高校選手データ貼り付け!P21,LEN(高校選手データ貼り付け!P21)-FIND(" ",高校選手データ貼り付け!P21))))} | N13: {=_xlfn.IFS(A13="","",TRUE,高校選手データ貼り付け!R21&"."&TEXT(高校選手データ貼り付け!T21,"00")&"."&TEXT(高校選手データ貼り付け!V21,"00"))} | O13: {=_xlfn.IFS(A13="","",TRUE,"JPN")} | P13: =LEFT(B13,FIND(" ",B13)-1) -> #VALUE! | Q13: =RIGHT(B13,LEN(B13)-FIND(" ",B13)) -> #VALUE! | R13: =ASC(LEFT(J13,FIND(" ",J13)-1)) -> #VALUE! | S13: =ASC(RIGHT(J13,LEN(J13)-FIND(" ",J13))) -> #VALUE! | T13: =LEFT(O13,FIND(" ",O13)-1) -> #VALUE! | U13: =E13&"高" -> 高
... A177: {=_xlfn.IFS(高校選手データ貼り付け!N185="","",TRUE,高校選手データ貼り付け!N185)} | B177: {=_xlfn.IFS(A177="","",COUNTIF(高校選手データ貼り付け!P186," ")>0,LEFT(高校選手データ貼り付け!P186,FIND(" ",高校選手データ貼り付け!P186)-1),TRUE,LEFT(高校選手データ貼り付け!P186,FIND(" ",高校選手データ貼り付け!P186)-1))} | C177: {=_xlfn.IFS(A177="","",COUNTIF(高校選手データ貼り付け!P186," ")>0,RIGHT(高校選手データ貼り付け!P186,LEN(高校選手データ貼り付け!P186)-FIND(" ",高校選手データ貼り付け!P186)),TRUE,RIGHT(高校選手データ貼り付け!P186,LEN(高校選手データ貼り付け!P186)-FIND(" ",高校選手データ貼り付け!P186)))} | E177: {=_xlfn.IFS(A177="","",TRUE,高校選手データ貼り付け!$P$4&"高")} | F177: {=_xlfn.IFS(A177="","",TRUE,高校選手データ貼り付け!W185)} | J177: {=_xlfn.IFS(A177="","",COUNTIF(高校選手データ貼り付け!P185," ")>0,ASC(LEFT(高校選手データ貼り付け!P185,FIND(" ",高校選手データ貼り付け!P185)-1)),TRUE,ASC(LEFT(高校選手データ貼り付け!P185,FIND(" ",高校選手データ貼り付け!P185)-1)))} | K177: {=_xlfn.IFS(A177="","",COUNTIF(高校選手データ貼り付け!P185," ")>0,ASC(RIGHT(高校選手データ貼り付け!P185,LEN(高校選手データ貼り付け!P185)-FIND(" ",高校選手データ貼り付け!P185))),TRUE,ASC(RIGHT(高校選手データ貼り付け!P185,LEN(高校選手データ貼り付け!P185)-FIND(" ",高校選手データ貼り付け!P185))))} | N177: {=_xlfn.IFS(A177="","",TRUE,高校選手データ貼り付け!R185&"."&TEXT(高校選手データ貼り付け!T185,"00")&"."&TEXT(高校選手データ貼り付け!V185,"00"))} | O177: {=_xlfn.IFS(A177="","",TRUE,"JPN")} | P177: =LEFT(B177,FIND(" ",B177)-1) -> #VALUE! | Q177: =RIGHT(B177,LEN(B177)-FIND(" ",B177)) -> #VALUE! | R177: =ASC(LEFT(J177,FIND(" ",J177)-1)) -> #VALUE! | S177: =ASC(RIGHT(J177,LEN(J177)-FIND(" ",J177))) -> #VALUE! | T177: =LEFT(O177,FIND(" ",O177)-1) -> #VALUE! | U177: =E177&"高" -> 高

Sheet 中学男選手データ
A1: ナンバー | B1: 姓 | C1: 名 | D1: 支部 | E1: 所属 | F1: 学年 | G1: 登録日 | H1: 備考 | I1: 備考２ | J1: ﾌﾘｶﾞﾅ(姓) | K1: ﾌﾘｶﾞﾅ(名) | L1: FAMILY NAME | M1: Firstname | N1: Birthday | O1: 国籍

Sheet 中学女選手データ
A1: ナンバー | B1: 姓 | C1: 名 | D1: 支部 | E1: 所属 | F1: 学年 | G1: 登録日 | H1: 備考 | I1: 備考２ | J1: ﾌﾘｶﾞﾅ(姓) | K1: ﾌﾘｶﾞﾅ(名) | L1: FAMILY NAME | M1: Firstname | N1: Birthday | O1: 国籍

Sheet 高校選手データ貼り付け
E1: 2024 | F1: 4 | G1: 1
A2: 申請年月日 | E2: 加盟団体名 | O2: 区分
A3: 団体コード | E3: ﾌﾘｶﾞﾅ | O3: ｺｳｺｳ | P3: 略称 | R3: 略称ﾌﾘｶﾞﾅ
A4: 学校長 | E4: 学校名 | O4: 高校 | Q4: 高
A5: 顧問 | E5: 所在地 | G5: 〒 | Q5: ℡
Q6: Fax
B7: ＜男子＞ | N7: ＜女子＞
A8: 番号 | B8: 登録番号 | C8: Hepburn | D8: フリガナ | E8: 性別 | F8: 生年月日（西暦） | K8: 学年 | M8: 番号 | N8: 登録番号 | O8: Hepburn | P8: フリガナ | Q8: 性別 | R8: 生年月日（西暦） | W8: 学年
D9: 氏 名 | P9: 氏 名
A10: 1 | M10: 1
A12: 2 | M12: 2
A14: 3 | M14: 3
A16: 4 | M16: 4
A18: 5 | M18: 5
A20: 6 | M20: 6
A22: 7 | M22: 7
A24: 8 | M24: 8
A26: 9 | M26: 9
A28: 10 | M28: 10 | S28: ・ | U28: ・
A30: 11 | M30: 11 | S30: ・ | U30: ・
A32: 12 | M32: 12 | S32: ・ | U32: ・
A34: 13 | M34: 13 | S34: ・ | U34: ・
A36: 14 | M36: 14 | S36: ・ | U36: ・
A38: 15 | M38: 15 | S38: ・ | U38: ・
A40: 16 | M40: 16 | S40: ・ | U40: ・
A42: 17 | M42: 17 | S42: ・ | U42: ・
A44: 18 | G44: ・ | I44: ・ | M44: 18 | S44: ・ | U44: ・
A46: 19 | G46: ・ | I46: ・ | M46: 19 | S46: ・ | U46: ・
A48: 20 | G48: ・ | I48: ・ | M48: 20 | S48: ・ | U48: ・
A50: 21 | G50: ・ | I50: ・ | M50: 21 | S50: ・ | U50: ・
A52: 22 | G52: ・ | I52: ・ | M52: 22 | S52: ・ | U52: ・
A54: 23 | G54: ・ | I54: ・ | M54: 23 | S54: ・ | U54: ・
A56: 24 | G56: ・ | I56: ・ | M56: 24 | S56: ・ | U56: ・
A58: 25 | G58: ・ | I58: ・ | M58: 25 | S58: ・ | U58: ・
A60: 26 | G60: ・ | I60: ・ | M60: 26 | S60: ・ | U60: ・
A62: 27 | G62: ・ | I62: ・ | M62: 27 | S62: ・ | U62: ・
A64: 28 | G64: ・ | I64: ・ | M64: 28 | S64: ・ | U64: ・
A66: 29 | G66: ・ | I66: ・ | M66: 29 | S66: ・ | U66: ・
... A218: 105 | G218: ・ | I218: ・ | M218: 105 | S218: ・ | U218: ・

Sheet 中学一覧表
A1: 性別 | C1: ="第"&DBCS(YEAR(TODAY())-1949)&"回 市川市民体育大会 申込一覧表（中学校）" -> 第７７回 市川市民体育大会 申込一覧表（中学校） | X1: 男Ａ | Y1: 男Ｂ | Z1: 男Ｃ | AA1: 女Ａ | AB1: 女Ｂ | AC1: 女Ｃ
C2: 性別 | D2: ナンバー | E2: 氏名 | F2: 学年 | G2: 種目１ | H2: 入力FLG | I2: 学年FLG | J2: 分 | K2: 秒/m | L2: 以下/cm | M2: 種目２ | N2: 入力FLG | O2: 学年FLG | P2: 分 | Q2: 秒/m | R2: 以下/cm | S2: リレー | T2: 分 | U2: 秒 | V2: 以下 | W2: チーム名
A3: 男 | B3: 1 | E3: =IF(ISERROR(VLOOKUP($D3,INDIRECT("中学"&$C3&"選手データ!A:Z"),MATCH("姓",INDIRECT("中学"&$C3&"選手データ!1:1"),0),0)),"",VLOOKUP($D3,INDIRECT("中学"&$C3&"選手データ!A:Z"),MATCH("姓",INDIRECT("中学"&$C3&"選手データ!1:1"),0),0)&" "&VLOOKUP($D3,INDIRECT("中学"&$C3&"選手データ!A:Z"),MATCH("名",INDIRECT("中学"&$C3&"選手データ!1:1"),0),0)) | F3: =IF(ISERROR(VLOOKUP($D3,INDIRECT("中学"&$C3&"選手データ!A:Z"),MATCH(F$2,INDIRECT("中学"&$C3&"選手データ!1:1"),0),0)),"",VLOOKUP($D3,INDIRECT("中学"&$C3&"選手データ!A:Z"),MATCH(F$2,INDIRECT("中学"&$C3&"選手データ!1:1"),0),0)) | H3: =IF(G3="","",VLOOKUP(G3,競技csv!$F:$O,MATCH(H$2,競技csv!$1:$1,0)-MATCH("競技名",競技csv!$1:$1,0)+1,0)) | I3: =IF(G3="","",VLOOKUP(G3,競技csv!$F:$O,MATCH(I$2,競技csv!$1:$1,0)-MATCH("競技名",競技csv!$1:$1,0)+1,0)) | N3: =IF(M3="","",VLOOKUP(M3,競技csv!$F:$O,MATCH(N$2,競技csv!$1:$1,0)-MATCH("競技名",競技csv!$1:$1,0)+1,0)) | O3: =IF(M3="","",VLOOKUP(M3,競技csv!$F:$O,MATCH(O$2,競技csv!$1:$1,0)-MATCH("競技名",競技csv!$1:$1,0)+1,0)) | T3: =IF($S3="","",IF(VLOOKUP($C3&$S3,$P$65:$S$70,MATCH(T$2,$P$64:$S$64,0),0)=0,"",VLOOKUP($C3&$S3,$P$65:$S$70,MATCH(T$2,$P$64:$S$64,0),0))) | U3: =IF($S3="","",VLOOKUP($C3&$S3,$P$65:$S$70,MATCH(U$2,$P$64:$S$64,0),0)) | V3: =IF($S3="","",VLOOKUP($C3&$S3,$P$65:$S$70,MATCH(V$2,$P$64:$S$64,0),0)) | W3: =IF(S3="","",C3&S3) | X3: =IF($W3=X$1,X2+1,X2) -> 0 | Y3: =IF($W3=Y$1,Y2+1,Y2) -> 0 | Z3: =IF($W3=Z$1,Z2+1,Z2) -> 0 | AA3: =IF($W3=AA$1,AA2+1,AA2) -> 0 | AB3: =IF($W3=AB$1,AB2+1,AB2) -> 0 | AC3: =IF($W3=AC$1,AC2+1,AC2) -> 0 | AD3: {=IF(W3="","",INDIRECT(ADDRESS(ROW(),MATCH(W3,$1:$1,0))))}
A4: 女 | B4: 2 | E4: =IF(ISERROR(VLOOKUP($D4,INDIRECT("中学"&$C4&"選手データ!A:Z"),MATCH("姓",INDIRECT("中学"&$C4&"選手データ!1:1"),0),0)),"",VLOOKUP($D4,INDIRECT("中学"&$C4&"選手データ!A:Z"),MATCH("姓",INDIRECT("中学"&$C4&"選手データ!1:1"),0),0)&" "&VLOOKUP($D4,INDIRECT("中学"&$C4&"選手データ!A:Z"),MATCH("名",INDIRECT("中学"&$C4&"選手データ!1:1"),0),0)) | F4: =IF(ISERROR(VLOOKUP($D4,INDIRECT("中学"&$C4&"選手データ!A:Z"),MATCH(F$2,INDIRECT("中学"&$C4&"選手データ!1:1"),0),0)),"",VLOOKUP($D4,INDIRECT("中学"&$C4&"選手データ!A:Z"),MATCH(F$2,INDIRECT("中学"&$C4&"選手データ!1:1"),0),0)) | H4: =IF(G4="","",VLOOKUP(G4,競技csv!$F:$O,MATCH(H$2,競技csv!$1:$1,0)-MATCH("競技名",競技csv!$1:$1,0)+1,0)) | I4: =IF(G4="","",VLOOKUP(G4,競技csv!$F:$O,MATCH(I$2,競技csv!$1:$1,0)-MATCH("競技名",競技csv!$1:$1,0)+1,0)) | N4: =IF(M4="","",VLOOKUP(M4,競技csv!$F:$O,MATCH(N$2,競技csv!$1:$1,0)-MATCH("競技名",競技csv!$1:$1,0)+1,0)) | O4: =IF(M4="","",VLOOKUP(M4,競技csv!$F:$O,MATCH(O$2,競技csv!$1:$1,0)-MATCH("競技名",競技csv!$1:$1,0)+1,0)) | T4: =IF($S4="","",IF(VLOOKUP($C4&$S4,$P$65:$S$70,MATCH(T$2,$P$64:$S$64,0),0)=0,"",VLOOKUP($C4&$S4,$P$65:$S$70,MATCH(T$2,$P$64:$S$64,0),0))) | U4: =IF($S4="","",VLOOKUP($C4&$S4,$P$65:$S$70,MATCH(U$2,$P$64:$S$64,0),0)) | V4: =IF($S4="","",VLOOKUP($C4&$S4,$P$65:$S$70,MATCH(V$2,$P$64:$S$64,0),0)) | W4: =IF(S4="","",C4&S4) | X4: =IF($W4=X$1,X3+1,X3) -> 0 | Y4: =IF($W4=Y$1,Y3+1,Y3) -> 0 | Z4: =IF($W4=Z$1,Z3+1,Z3) -> 0 | AA4: =IF($W4=AA$1,AA3+1,AA3) -> 0 | AB4: =IF($W4=AB$1,AB3+1,AB3) -> 0 | AC4: =IF($W4=AC$1,AC3+1,AC3) -> 0 | AD4: {=IF(W4="","",INDIRECT(ADDRESS(ROW(),MATCH(W4,$1:$1,0))))}
A5: リレー | E5: =IF(ISERROR(VLOOKUP($D5,INDIRECT("中学"&$C5&"選手データ!A:Z"),MATCH("姓",INDIRECT("中学"&$C5&"選手データ!1:1"),0),0)),"",VLOOKUP($D5,INDIRECT("中学"&$C5&"選手データ!A:Z"),MATCH("姓",INDIRECT("中学"&$C5&"選手データ!1:1"),0),0)&" "&VLOOKUP($D5,INDIRECT("中学"&$C5&"選手データ!A:Z"),MATCH("名",INDIRECT("中学"&$C5&"選手データ!1:1"),0),0)) | F5: =IF(ISERROR(VLOOKUP($D5,INDIRECT("中学"&$C5&"選手データ!A:Z"),MATCH(F$2,INDIRECT("中学"&$C5&"選手データ!1:1"),0),0)),"",VLOOKUP($D5,INDIRECT("中学"&$C5&"選手データ!A:Z"),MATCH(F$2,INDIRECT("中学"&$C5&"選手データ!1:1"),0),0)) | H5: =IF(G5="","",VLOOKUP(G5,競技csv!$F:$O,MATCH(H$2,競技csv!$1:$1,0)-MATCH("競技名",競技csv!$1:$1,0)+1,0)) | I5: =IF(G5="","",VLOOKUP(G5,競技csv!$F:$O,MATCH(I$2,競技csv!$1:$1,0)-MATCH("競技名",競技csv!$1:$1,0)+1,0)) | N5: =IF(M5="","",VLOOKUP(M5,競技csv!$F:$O,MATCH(N$2,競技csv!$1:$1,0)-MATCH("競技名",競技csv!$1:$1,0)+1,0)) | O5: =IF(M5="","",VLOOKUP(M5,競技csv!$F:$O,MATCH(O$2,競技csv!$1:$1,0)-MATCH("競技名",競技csv!$1:$1,0)+1,0)) | T5: =IF($S5="","",IF(VLOOKUP($C5&$S5,$P$65:$S$70,MATCH(T$2,$P$64:$S$64,0),0)=0,"",VLOOKUP($C5&$S5,$P$65:$S$70,MATCH(T$2,$P$64:$S$64,0),0))) | U5: =IF($S5="","",VLOOKUP($C5&$S5,$P$65:$S$70,MATCH(U$2,$P$64:$S$64,0),0)) | V5: =IF($S5="","",VLOOKUP($C5&$S5,$P$65:$S$70,MATCH(V$2,$P$64:$S$64,0),0)) | W5: =IF(S5="","",C5&S5) | X5: =IF($W5=X$1,X4+1,X4) -> 0 | Y5: =IF($W5=Y$1,Y4+1,Y4) -> 0 | Z5: =IF($W5=Z$1,Z4+1,Z4) -> 0 | AA5: =IF($W5=AA$1,AA4+1,AA4) -> 0 | AB5: =IF($W5=AB$1,AB4+1,AB4) -> 0 | AC5: =IF($W5=AC$1,AC4+1,AC4) -> 0 | AD5: {=IF(W5="","",INDIRECT(ADDRESS(ROW(),MATCH(W5,$1:$1,0))))}
E6: =IF(ISERROR(VLOOKUP($D6,INDIRECT("中学"&$C6&"選手データ!A:Z"),MATCH("姓",INDIRECT("中学"&$C6&"選手データ!1:1"),0),0)),"",VLOOKUP($D6,INDIRECT("中学"&$C6&"選手データ!A:Z"),MATCH("姓",INDIRECT("中学"&$C6&"選手データ!1:1"),0),0)&" "&VLOOKUP($D6,INDIRECT("中学"&$C6&"選手データ!A:Z"),MATCH("名",INDIRECT("中学"&$C6&"選手データ!1:1"),0),0)) | F6: =IF(ISERROR(VLOOKUP($D6,INDIRECT("中学"&$C6&"選手データ!A:Z"),MATCH(F$2,INDIRECT("中学"&$C6&"選手データ!1:1"),0),0)),"",VLOOKUP($D6,INDIRECT("中学"&$C6&"選手データ!A:Z"),MATCH(F$2,INDIRECT("中学"&$C6&"選手データ!1:1"),0),0)) | H6: =IF(G6="","",VLOOKUP(G6,競技csv!$F:$O,MATCH(H$2,競技csv!$1:$1,0)-MATCH("競技名",競技csv!$1:$1,0)+1,0)) | I6: =IF(G6="","",VLOOKUP(G6,競技csv!$F:$O,MATCH(I$2,競技csv!$1:$1,0)-MATCH("競技名",競技csv!$1:$1,0)+1,0)) | N6: =IF(M6="","",VLOOKUP(M6,競技csv!$F:$O,MATCH(N$2,競技csv!$1:$1,0)-MATCH("競技名",競技csv!$1:$1,0)+1,0)) | O6: =IF(M6="","",VLOOKUP(M6,競技csv!$F:$O,MATCH(O$2,競技csv!$1:$1,0)-MATCH("競技名",競技csv!$1:$1,0)+1,0)) | T6: =IF($S6="","",IF(VLOOKUP($C6&$S6,$P$65:$S$70,MATCH(T$2,$P$64:$S$64,0),0)=0,"",VLOOKUP($C6&$S6,$P$65:$S$70,MATCH(T$2,$P$64:$S$64,0),0))) | U6: =IF($S6="","",VLOOKUP($C6&$S6,$P$65:$S$70,MATCH(U$2,$P$64:$S$64,0),0)) | V6: =IF($S6="","",VLOOKUP($C6&$S6,$P$65:$S$70,MATCH(V$2,$P$64:$S$64,0),0)) | W6: =IF(S6="","",C6&S6) | X6: =IF($W6=X$1,X5+1,X5) -> 0 | Y6: =IF($W6=Y$1,Y5+1,Y5) -> 0 | Z6: =IF($W6=Z$1,Z5+1,Z5) -> 0 | AA6: =IF($W6=AA$1,AA5+1,AA5) -> 0 | AB6: =IF($W6=AB$1,AB5+1,AB5) -> 0 | AC6: =IF($W6=AC$1,AC5+1,AC5) -> 0 | AD6: {=IF(W6="","",INDIRECT(ADDRESS(ROW(),MATCH(W6,$1:$1,0))))}
A7: Ａ | B7: 0 | E7: =IF(ISERROR(VLOOKUP($D7,INDIRECT("中学"&$C7&"選手データ!A:Z"),MATCH("姓",INDIRECT("中学"&$C7&"選手データ!1:1"),0),0)),"",VLOOKUP($D7,INDIRECT("中学"&$C7&"選手データ!A:Z"),MATCH("姓",INDIRECT("中学"&$C7&"選手データ!1:1"),0),0)&" "&VLOOKUP($D7,INDIRECT("中学"&$C7&"選手データ!A:Z"),MATCH("名",INDIRECT("中学"&$C7&"選手データ!1:1"),0),0)) | F7: =IF(ISERROR(VLOOKUP($D7,INDIRECT("中学"&$C7&"選手データ!A:Z"),MATCH(F$2,INDIRECT("中学"&$C7&"選手データ!1:1"),0),0)),"",VLOOKUP($D7,INDIRECT("中学"&$C7&"選手データ!A:Z"),MATCH(F$2,INDIRECT("中学"&$C7&"選手データ!1:1"),0),0)) | H7: =IF(G7="","",VLOOKUP(G7,競技csv!$F:$O,MATCH(H$2,競技csv!$1:$1,0)-MATCH("競技名",競技csv!$1:$1,0)+1,0)) | I7: =IF(G7="","",VLOOKUP(G7,競技csv!$F:$O,MATCH(I$2,競技csv!$1:$1,0)-MATCH("競技名",競技csv!$1:$1,0)+1,0)) | N7: =IF(M7="","",VLOOKUP(M7,競技csv!$F:$O,MATCH(N$2,競技csv!$1:$1,0)-MATCH("競技名",競技csv!$1:$1,0)+1,0)) | O7: =IF(M7="","",VLOOKUP(M7,競技csv!$F:$O,MATCH(O$2,競技csv!$1:$1,0)-MATCH("競技名",競技csv!$1:$1,0)+1,0)) | T7: =IF($S7="","",IF(VLOOKUP($C7&$S7,$P$65:$S$70,MATCH(T$2,$P$64:$S$64,0),0)=0,"",VLOOKUP($C7&$S7,$P$65:$S$70,MATCH(T$2,$P$64:$S$64,0),0))) | U7: =IF($S7="","",VLOOKUP($C7&$S7,$P$65:$S$70,MATCH(U$2,$P$64:$S$64,0),0)) | V7: =IF($S7="","",VLOOKUP($C7&$S7,$P$65:$S$70,MATCH(V$2,$P$64:$S$64,0),0)) | W7: =IF(S7="","",C7&S7) | X7: =IF($W7=X$1,X6+1,X6) -> 0 | Y7: =IF($W7=Y$1,Y6+1,Y6) -> 0 | Z7: =IF($W7=Z$1,Z6+1,Z6) -> 0 | AA7: =IF($W7=AA$1,AA6+1,AA6) -> 0 | AB7: =IF($W7=AB$1,AB6+1,AB6) -> 0 | AC7: =IF($W7=AC$1,AC6+1,AC6) -> 0 | AD7: {=IF(W7="","",INDIRECT(ADDRESS(ROW(),MATCH(W7,$1:$1,0))))}
A8: Ｂ | B8: 100 | E8: =IF(ISERROR(VLOOKUP($D8,INDIRECT("中学"&$C8&"選手データ!A:Z"),MATCH("姓",INDIRECT("中学"&$C8&"選手データ!1:1"),0),0)),"",VLOOKUP($D8,INDIRECT("中学"&$C8&"選手データ!A:Z"),MATCH("姓",INDIRECT("中学"&$C8&"選手データ!1:1"),0),0)&" "&VLOOKUP($D8,INDIRECT("中学"&$C8&"選手データ!A:Z"),MATCH("名",INDIRECT("中学"&$C8&"選手データ!1:1"),0),0)) | F8: =IF(ISERROR(VLOOKUP($D8,INDIRECT("中学"&$C8&"選手データ!A:Z"),MATCH(F$2,INDIRECT("中学"&$C8&"選手データ!1:1"),0),0)),"",VLOOKUP($D8,INDIRECT("中学"&$C8&"選手データ!A:Z"),MATCH(F$2,INDIRECT("中学"&$C8&"選手データ!1:1"),0),0)) | H8: =IF(G8="","",VLOOKUP(G8,競技csv!$F:$O,MATCH(H$2,競技csv!$1:$1,0)-MATCH("競技名",競技csv!$1:$1,0)+1,0)) | I8: =IF(G8="","",VLOOKUP(G8,競技csv!$F:$O,MATCH(I$2,競技csv!$1:$1,0)-MATCH("競技名",競技csv!$1:$1,0)+1,0)) | N8: =IF(M8="","",VLOOKUP(M8,競技csv!$F:$O,MATCH(N$2,競技csv!$1:$1,0)-MATCH("競技名",競技csv!$1:$1,0)+1,0)) | O8: =IF(M8="","",VLOOKUP(M8,競技csv!$F:$O,MATCH(O$2,競技csv!$1:$1,0)-MATCH("競技名",競技csv!$1:$1,0)+1,0)) | T8: =IF($S8="","",IF(VLOOKUP($C8&$S8,$P$65:$S$70,MATCH(T$2,$P$64:$S$64,0),0)=0,"",VLOOKUP($C8&$S8,$P$65:$S$70,MATCH(T$2,$P$64:$S$64,0),0))) | U8: =IF($S8="","",VLOOKUP($C8&$S8,$P$65:$S$70,MATCH(U$2,$P$64:$S$64,0),0)) | V8: =IF($S8="","",VLOOKUP($C8&$S8,$P$65:$S$70,MATCH(V$2,$P$64:$S$64,0),0)) | W8: =IF(S8="","",C8&S8) | X8: =IF($W8=X$1,X7+1,X7) -> 0 | Y8: =IF($W8=Y$1,Y7+1,Y7) -> 0 | Z8: =IF($W8=Z$1,Z7+1,Z7) -> 0 | AA8: =IF($W8=AA$1,AA7+1,AA7) -> 0 | AB8: =IF($W8=AB$1,AB7+1,AB7) -> 0 | AC8: =IF($W8=AC$1,AC7+1,AC7) -> 0 | AD8: {=IF(W8="","",INDIRECT(ADDRESS(ROW(),MATCH(W8,$1:$1,0))))}
A9: Ｃ | B9: 200 | E9: =IF(ISERROR(VLOOKUP($D9,INDIRECT("中学"&$C9&"選手データ!A:Z"),MATCH("姓",INDIRECT("中学"&$C9&"選手データ!1:1"),0),0)),"",VLOOKUP($D9,INDIRECT("中学"&$C9&"選手データ!A:Z"),MATCH("姓",INDIRECT("中学"&$C9&"選手データ!1:1"),0),0)&" "&VLOOKUP($D9,INDIRECT("中学"&$C9&"選手データ!A:Z"),MATCH("名",INDIRECT("中学"&$C9&"選手データ!1:1"),0),0)) | F9: =IF(ISERROR(VLOOKUP($D9,INDIRECT("中学"&$C9&"選手データ!A:Z"),MATCH(F$2,INDIRECT("中学"&$C9&"選手データ!1:1"),0),0)),"",VLOOKUP($D9,INDIRECT("中学"&$C9&"選手データ!A:Z"),MATCH(F$2,INDIRECT("中学"&$C9&"選手データ!1:1"),0),0)) | H9: =IF(G9="","",VLOOKUP(G9,競技csv!$F:$O,MATCH(H$2,競技csv!$1:$1,0)-MATCH("競技名",競技csv!$1:$1,0)+1,0)) | I9: =IF(G9="","",VLOOKUP(G9,競技csv!$F:$O,MATCH(I$2,競技csv!$1:$1,0)-MATCH("競技名",競技csv!$1:$1,0)+1,0)) | N9: =IF(M9="","",VLOOKUP(M9,競技csv!$F:$O,MATCH(N$2,競技csv!$1:$1,0)-MATCH("競技名",競技csv!$1:$1,0)+1,0)) | O9: =IF(M9="","",VLOOKUP(M9,競技csv!$F:$O,MATCH(O$2,競技csv!$1:$1,0)-MATCH("競技名",競技csv!$1:$1,0)+1,0)) | T9: =IF($S9="","",IF(VLOOKUP($C9&$S9,$P$65:$S$70,MATCH(T$2,$P$64:$S$64,0),0)=0,"",VLOOKUP($C9&$S9,$P$65:$S$70,MATCH(T$2,$P$64:$S$64,0),0))) | U9: =IF($S9="","",VLOOKUP($C9&$S9,$P$65:$S$70,MATCH(U$2,$P$64:$S$64,0),0)) | V9: =IF($S9="","",VLOOKUP($C9&$S9,$P$65:$S$70,MATCH(V$2,$P$64:$S$64,0),0)) | W9: =IF(S9="","",C9&S9) | X9: =IF($W9=X$1,X8+1,X8) -> 0 | Y9: =IF($W9=Y$1,Y8+1,Y8) -> 0 | Z9: =IF($W9=Z$1,Z8+1,Z8) -> 0 | AA9: =IF($W9=AA$1,AA8+1,AA8) -> 0 | AB9: =IF($W9=AB$1,AB8+1,AB8) -> 0 | AC9: =IF($W9=AC$1,AC8+1,AC8) -> 0 | AD9: {=IF(W9="","",INDIRECT(ADDRESS(ROW(),MATCH(W9,$1:$1,0))))}
E10: =IF(ISERROR(VLOOKUP($D10,INDIRECT("中学"&$C10&"選手データ!A:Z"),MATCH("姓",INDIRECT("中学"&$C10&"選手データ!1:1"),0),0)),"",VLOOKUP($D10,INDIRECT("中学"&$C10&"選手データ!A:Z"),MATCH("姓",INDIRECT("中学"&$C10&"選手データ!1:1"),0),0)&" "&VLOOKUP($D10,INDIRECT("中学"&$C10&"選手データ!A:Z"),MATCH("名",INDIRECT("中学"&$C10&"選手データ!1:1"),0),0)) | F10: =IF(ISERROR(VLOOKUP($D10,INDIRECT("中学"&$C10&"選手データ!A:Z"),MATCH(F$2,INDIRECT("中学"&$C10&"選手データ!1:1"),0),0)),"",VLOOKUP($D10,INDIRECT("中学"&$C10&"選手データ!A:Z"),MATCH(F$2,INDIRECT("中学"&$C10&"選手データ!1:1"),0),0)) | H10: =IF(G10="","",VLOOKUP(G10,競技csv!$F:$O,MATCH(H$2,競技csv!$1:$1,0)-MATCH("競技名",競技csv!$1:$1,0)+1,0)) | I10: =IF(G10="","",VLOOKUP(G10,競技csv!$F:$O,MATCH(I$2,競技csv!$1:$1,0)-MATCH("競技名",競技csv!$1:$1,0)+1,0)) | N10: =IF(M10="","",VLOOKUP(M10,競技csv!$F:$O,MATCH(N$2,競技csv!$1:$1,0)-MATCH("競技名",競技csv!$1:$1,0)+1,0)) | O10: =IF(M10="","",VLOOKUP(M10,競技csv!$F:$O,MATCH(O$2,競技csv!$1:$1,0)-MATCH("競技名",競技csv!$1:$1,0)+1,0)) | T10: =IF($S10="","",IF(VLOOKUP($C10&$S10,$P$65:$S$70,MATCH(T$2,$P$64:$S$64,0),0)=0,"",VLOOKUP($C10&$S10,$P$65:$S$70,MATCH(T$2,$P$64:$S$64,0),0))) | U10: =IF($S10="","",VLOOKUP($C10&$S10,$P$65:$S$70,MATCH(U$2,$P$64:$S$64,0),0)) | V10: =IF($S10="","",VLOOKUP($C10&$S10,$P$65:$S$70,MATCH(V$2,$P$64:$S$64,0),0)) | W10: =IF(S10="","",C10&S10) | X10: =IF($W10=X$1,X9+1,X9) -> 0 | Y10: =IF($W10=Y$1,Y9+1,Y9) -> 0 | Z10: =IF($W10=Z$1,Z9+1,Z9) -> 0 | AA10: =IF($W10=AA$1,AA9+1,AA9) -> 0 | AB10: =IF($W10=AB$1,AB9+1,AB9) -> 0 | AC10: =IF($W10=AC$1,AC9+1,AC9) -> 0 | AD10: {=IF(W10="","",INDIRECT(ADDRESS(ROW(),MATCH(W10,$1:$1,0))))}
E11: =IF(ISERROR(VLOOKUP($D11,INDIRECT("中学"&$C11&"選手データ!A:Z"),MATCH("姓",INDIRECT("中学"&$C11&"選手データ!1:1"),0),0)),"",VLOOKUP($D11,INDIRECT("中学"&$C11&"選手データ!A:Z"),MATCH("姓",INDIRECT("中学"&$C11&"選手データ!1:1"),0),0)&" "&VLOOKUP($D11,INDIRECT("中学"&$C11&"選手データ!A:Z"),MATCH("名",INDIRECT("中学"&$C11&"選手データ!1:1"),0),0)) | F11: =IF(ISERROR(VLOOKUP($D11,INDIRECT("中学"&$C11&"選手データ!A:Z"),MATCH(F$2,INDIRECT("中学"&$C11&"選手データ!1:1"),0),0)),"",VLOOKUP($D11,INDIRECT("中学"&$C11&"選手データ!A:Z"),MATCH(F$2,INDIRECT("中学"&$C11&"選手データ!1:1"),0),0)) | H11: =IF(G11="","",VLOOKUP(G11,競技csv!$F:$O,MATCH(H$2,競技csv!$1:$1,0)-MATCH("競技名",競技csv!$1:$1,0)+1,0)) | I11: =IF(G11="","",VLOOKUP(G11,競技csv!$F:$O,MATCH(I$2,競技csv!$1:$1,0)-MATCH("競技名",競技csv!$1:$1,0)+1,0)) | N11: =IF(M11="","",VLOOKUP(M11,競技csv!$F:$O,MATCH(N$2,競技csv!$1:$1,0)-MATCH("競技名",競技csv!$1:$1,0)+1,0)) | O11: =IF(M11="","",VLOOKUP(M11,競技csv!$F:$O,MATCH(O$2,競技csv!$1:$1,0)-MATCH("競技名",競技csv!$1:$1,0)+1,0)) | T11: =IF($S11="","",IF(VLOOKUP($C11&$S11,$P$65:$S$70,MATCH(T$2,$P$64:$S$64,0),0)=0,"",VLOOKUP($C11&$S11,$P$65:$S$70,MATCH(T$2,$P$64:$S$64,0),0))) | U11: =IF($S11="","",VLOOKUP($C11&$S11,$P$65:$S$70,MATCH(U$2,$P$64:$S$64,0),0)) | V11: =IF($S11="","",VLOOKUP($C11&$S11,$P$65:$S$70,MATCH(V$2,$P$64:$S$64,0),0)) | W11: =IF(S11="","",C11&S11) | X11: =IF($W11=X$1,X10+1,X10) -> 0 | Y11: =IF($W11=Y$1,Y10+1,Y10) -> 0 | Z11: =IF($W11=Z$1,Z10+1,Z10) -> 0 | AA11: =IF($W11=AA$1,AA10+1,AA10) -> 0 | AB11: =IF($W11=AB$1,AB10+1,AB10) -> 0 | AC11: =IF($W11=AC$1,AC10+1,AC10) -> 0 | AD11: {=IF(W11="","",INDIRECT(ADDRESS(ROW(),MATCH(W11,$1:$1,0))))}
